BEGIN:VCALENDAR
VERSION:2.0
PRODID:-//Zažij vědu - ECPv6.15.20//NONSGML v1.0//EN
CALSCALE:GREGORIAN
METHOD:PUBLISH
X-WR-CALNAME:Zažij vědu
X-ORIGINAL-URL:https://zazijvedu.cz
X-WR-CALDESC:Akce na Zažij vědu
REFRESH-INTERVAL;VALUE=DURATION:PT1H
X-Robots-Tag:noindex
X-PUBLISHED-TTL:PT1H
BEGIN:VTIMEZONE
TZID:Europe/Prague
BEGIN:DAYLIGHT
TZOFFSETFROM:+0100
TZOFFSETTO:+0200
TZNAME:CEST
DTSTART:20210328T010000
END:DAYLIGHT
BEGIN:STANDARD
TZOFFSETFROM:+0200
TZOFFSETTO:+0100
TZNAME:CET
DTSTART:20211031T010000
END:STANDARD
BEGIN:DAYLIGHT
TZOFFSETFROM:+0100
TZOFFSETTO:+0200
TZNAME:CEST
DTSTART:20220327T010000
END:DAYLIGHT
BEGIN:STANDARD
TZOFFSETFROM:+0200
TZOFFSETTO:+0100
TZNAME:CET
DTSTART:20221030T010000
END:STANDARD
BEGIN:DAYLIGHT
TZOFFSETFROM:+0100
TZOFFSETTO:+0200
TZNAME:CEST
DTSTART:20230326T010000
END:DAYLIGHT
BEGIN:STANDARD
TZOFFSETFROM:+0200
TZOFFSETTO:+0100
TZNAME:CET
DTSTART:20231029T010000
END:STANDARD
END:VTIMEZONE
BEGIN:VEVENT
DTSTART;TZID=Europe/Prague:20220427T100000
DTEND;TZID=Europe/Prague:20220427T104500
DTSTAMP:20260421T060027
CREATED:20220321T084546Z
LAST-MODIFIED:20220323T083447Z
UID:10974-1651053600-1651056300@zazijvedu.cz
SUMMARY:Toxický svět kolem nás
DESCRIPTION:TOXICKÝ SVĚT KOLEM NÁS\n– tento workshop má kapacitu omezenou na 15 míst
URL:https://zazijvedu.cz/event/toxicky-svet-kolem-nas-2/
LOCATION:Toxický svět kolem nás
CATEGORIES:Pro střední školy
END:VEVENT
BEGIN:VEVENT
DTSTART;TZID=Europe/Prague:20220427T100000
DTEND;TZID=Europe/Prague:20220427T104500
DTSTAMP:20260421T060027
CREATED:20220321T083848Z
LAST-MODIFIED:20220323T083414Z
UID:10960-1651053600-1651056300@zazijvedu.cz
SUMMARY:Uhlík vs. klimatické změny
DESCRIPTION:UHLÍK VS. KLIMATICKÉ ZMĚNY\n– tento workshop má kapacitu omezenou na 15 míst
URL:https://zazijvedu.cz/event/uhlik-vs-klimaticke-zmeny-2/
LOCATION:Uhlík vs. klimatické změny
CATEGORIES:Pro střední školy
END:VEVENT
BEGIN:VEVENT
DTSTART;TZID=Europe/Prague:20220427T100000
DTEND;TZID=Europe/Prague:20220427T104500
DTSTAMP:20260421T060027
CREATED:20220321T083403Z
LAST-MODIFIED:20220324T164613Z
UID:10946-1651053600-1651056300@zazijvedu.cz
SUMMARY:Sladké mámení
DESCRIPTION:SLADKÉ MÁMENÍ\n– tento workshop má kapacitu omezenou na 15 míst
URL:https://zazijvedu.cz/event/cukrovinky-2/
LOCATION:Sladké mámení
CATEGORIES:Pro střední školy
END:VEVENT
BEGIN:VEVENT
DTSTART;TZID=Europe/Prague:20220427T100000
DTEND;TZID=Europe/Prague:20220427T104500
DTSTAMP:20260421T060027
CREATED:20220321T082928Z
LAST-MODIFIED:20220323T083314Z
UID:10931-1651053600-1651056300@zazijvedu.cz
SUMMARY:Čokoládový sýr?!
DESCRIPTION:ČOKOLÁDOVÝ SÝR?!\n– tento workshop má kapacitu omezenou na 15 míst
URL:https://zazijvedu.cz/event/cokoladovy-syr-2/
LOCATION:Čokoládový sýr?!
CATEGORIES:Pro střední školy
END:VEVENT
BEGIN:VEVENT
DTSTART;TZID=Europe/Prague:20220427T100000
DTEND;TZID=Europe/Prague:20220427T104500
DTSTAMP:20260421T060027
CREATED:20220321T082145Z
LAST-MODIFIED:20220323T083237Z
UID:10916-1651053600-1651056300@zazijvedu.cz
SUMMARY:Reologie aneb vše plyne
DESCRIPTION:REOLOGIE ANEB VŠE PLYNE\n– tento workshop má kapacitu omezenou na 15 míst
URL:https://zazijvedu.cz/event/reologie-aneb-vse-plyne-3/
LOCATION:Reologie aneb vše plyne
CATEGORIES:Pro střední školy
END:VEVENT
BEGIN:VEVENT
DTSTART;TZID=Europe/Prague:20220427T100000
DTEND;TZID=Europe/Prague:20220427T104500
DTSTAMP:20260421T060027
CREATED:20220321T081446Z
LAST-MODIFIED:20220323T083203Z
UID:10901-1651053600-1651056300@zazijvedu.cz
SUMMARY:3D laboratoř
DESCRIPTION:3D LABORATOŘ\n– tento workshop má kapacitu omezenou na 15 míst
URL:https://zazijvedu.cz/event/3d-laborator-2/
LOCATION:3D laboratoř
CATEGORIES:Pro střední školy
END:VEVENT
BEGIN:VEVENT
DTSTART;TZID=Europe/Prague:20220427T100000
DTEND;TZID=Europe/Prague:20220427T104500
DTSTAMP:20260421T060027
CREATED:20220321T080652Z
LAST-MODIFIED:20220323T083131Z
UID:10887-1651053600-1651056300@zazijvedu.cz
SUMMARY:Lasery - Krotitelé fotonů
DESCRIPTION:LASERY – KROTITELÉ FOTONŮ\n– tento workshop má kapacitu omezenou na 15 míst
URL:https://zazijvedu.cz/event/lasery-krotitele-fotonu-2/
LOCATION:Lasery – Krotitelé fotonů
CATEGORIES:Pro střední školy
END:VEVENT
BEGIN:VEVENT
DTSTART;TZID=Europe/Prague:20220427T100000
DTEND;TZID=Europe/Prague:20220427T104500
DTSTAMP:20260421T060027
CREATED:20220321T073716Z
LAST-MODIFIED:20220323T083101Z
UID:10876-1651053600-1651056300@zazijvedu.cz
SUMMARY:Micela - zázračný magnet na nečistoty
DESCRIPTION:MICELA – ZÁZRAČNÝ MAGNET NA NEČISTOTY\n– tento workshop má kapacitu omezenou na 15 míst
URL:https://zazijvedu.cz/event/micela-zazracny-magnet-na-necistoty/
LOCATION:Micela – zázračný magnet na nečistoty
CATEGORIES:Pro střední školy
END:VEVENT
BEGIN:VEVENT
DTSTART;TZID=Europe/Prague:20220427T100000
DTEND;TZID=Europe/Prague:20220427T104500
DTSTAMP:20260421T060027
CREATED:20220321T072851Z
LAST-MODIFIED:20220323T083013Z
UID:10867-1651053600-1651056300@zazijvedu.cz
SUMMARY:Pořádná pěna
DESCRIPTION:POŘÁDNÁ PĚNA\n– tento workshop má kapacitu omezenou na 15 míst
URL:https://zazijvedu.cz/event/poradna-pena-2/
LOCATION:Voňavý svět kosmetiky
CATEGORIES:Pro střední školy
END:VEVENT
BEGIN:VEVENT
DTSTART;TZID=Europe/Prague:20220427T100000
DTEND;TZID=Europe/Prague:20220427T104500
DTSTAMP:20260421T060027
CREATED:20220321T071612Z
LAST-MODIFIED:20220323T082840Z
UID:10853-1651053600-1651056300@zazijvedu.cz
SUMMARY:Diagnóza: Pleť
DESCRIPTION:DIAGNÓZA: PLEŤ\n– tento workshop má kapacitu omezenou na 15 míst
URL:https://zazijvedu.cz/event/diagnoza-plet-2/
LOCATION:Diagnóza: Pleť
CATEGORIES:Pro střední školy
END:VEVENT
BEGIN:VEVENT
DTSTART;TZID=Europe/Prague:20220427T100000
DTEND;TZID=Europe/Prague:20220427T104500
DTSTAMP:20260421T060027
CREATED:20220321T070550Z
LAST-MODIFIED:20220323T082751Z
UID:10839-1651053600-1651056300@zazijvedu.cz
SUMMARY:3D bio tisk
DESCRIPTION:3D BIO TISK\n– tento workshop má kapacitu omezenou na 15 míst
URL:https://zazijvedu.cz/event/3d-bio-tisk-2/
LOCATION:3D bio tisk
CATEGORIES:Pro střední školy
END:VEVENT
BEGIN:VEVENT
DTSTART;TZID=Europe/Prague:20220427T100000
DTEND;TZID=Europe/Prague:20220427T104500
DTSTAMP:20260421T060027
CREATED:20220318T130802Z
LAST-MODIFIED:20220323T082615Z
UID:10822-1651053600-1651056300@zazijvedu.cz
SUMMARY:Žijte výživně
DESCRIPTION:ŽIJTE VÝŽIVNĚ\n– tento workshop má kapacitu omezenou na 12 míst
URL:https://zazijvedu.cz/event/zijte-vyzivne-2/
LOCATION:Žijte výživně
CATEGORIES:Pro střední školy
END:VEVENT
BEGIN:VEVENT
DTSTART;TZID=Europe/Prague:20220427T100000
DTEND;TZID=Europe/Prague:20220427T104500
DTSTAMP:20260421T060027
CREATED:20220318T130316Z
LAST-MODIFIED:20220323T082414Z
UID:10814-1651053600-1651056300@zazijvedu.cz
SUMMARY:Jak chutná hmyz
DESCRIPTION:JAK CHUTNÁ HMYZ\n– tento workshop má kapacitu omezenou na 15 míst
URL:https://zazijvedu.cz/event/jak-chutna-hmyz-2/
LOCATION:Jak chutná hmyz
CATEGORIES:Pro střední školy
END:VEVENT
BEGIN:VEVENT
DTSTART;TZID=Europe/Prague:20220427T090000
DTEND;TZID=Europe/Prague:20220427T094500
DTSTAMP:20260421T060027
CREATED:20220321T090829Z
LAST-MODIFIED:20220323T083720Z
UID:11039-1651050000-1651052700@zazijvedu.cz
SUMMARY:Na konci všeho byla tma
DESCRIPTION:NA KONCI VŠEHO BYLA TMA\n– tento workshop má kapacitu omezenou na 15 míst
URL:https://zazijvedu.cz/event/na-konci-vseho-byla-tma/
LOCATION:Na konci všeho byla tma
CATEGORIES:Pro střední školy
END:VEVENT
BEGIN:VEVENT
DTSTART;TZID=Europe/Prague:20220427T090000
DTEND;TZID=Europe/Prague:20220427T094500
DTSTAMP:20260421T060027
CREATED:20220321T090251Z
LAST-MODIFIED:20220323T083627Z
UID:11015-1651050000-1651052700@zazijvedu.cz
SUMMARY:Nanovlákna a polymerní filmy
DESCRIPTION:NANOVLÁKNA A POLYMERNÍ FILMY\n– tento workshop má kapacitu omezenou na 15 míst
URL:https://zazijvedu.cz/event/nanovlakna-a-polymerni-filmy/
LOCATION:Nanovlákna a polymerní filmy
CATEGORIES:Pro střední školy
END:VEVENT
BEGIN:VEVENT
DTSTART;TZID=Europe/Prague:20220427T090000
DTEND;TZID=Europe/Prague:20220427T094500
DTSTAMP:20260421T060027
CREATED:20220321T085543Z
LAST-MODIFIED:20220323T083555Z
UID:11000-1651050000-1651052700@zazijvedu.cz
SUMMARY:Od latexu k pneumatice
DESCRIPTION:OD LATEXU K PNEUMATICE\n– tento workshop má kapacitu omezenou na 15 míst
URL:https://zazijvedu.cz/event/od-latexu-k-pneumatice/
LOCATION:Od latexu k pneumatice
CATEGORIES:Pro střední školy
END:VEVENT
BEGIN:VEVENT
DTSTART;TZID=Europe/Prague:20220427T090000
DTEND;TZID=Europe/Prague:20220427T094500
DTSTAMP:20260421T060027
CREATED:20220321T085055Z
LAST-MODIFIED:20220323T083523Z
UID:10986-1651050000-1651052700@zazijvedu.cz
SUMMARY:Seznamte se s polymery
DESCRIPTION:SEZNAMTE SE S POLYMERY\n– tento workshop má kapacitu omezenou na 15 míst
URL:https://zazijvedu.cz/event/seznamte-se-s-polymery/
LOCATION:Seznamte se s polymery
CATEGORIES:Pro střední školy
END:VEVENT
BEGIN:VEVENT
DTSTART;TZID=Europe/Prague:20220427T090000
DTEND;TZID=Europe/Prague:20220427T094500
DTSTAMP:20260421T060027
CREATED:20220321T084517Z
LAST-MODIFIED:20220323T083451Z
UID:10972-1651050000-1651052700@zazijvedu.cz
SUMMARY:Toxický svět kolem nás
DESCRIPTION:TOXICKÝ SVĚT KOLEM NÁS\n– tento workshop má kapacitu omezenou na 15 míst
URL:https://zazijvedu.cz/event/toxicky-svet-kolem-nas/
LOCATION:Toxický svět kolem nás
CATEGORIES:Pro střední školy
END:VEVENT
BEGIN:VEVENT
DTSTART;TZID=Europe/Prague:20220427T090000
DTEND;TZID=Europe/Prague:20220427T094500
DTSTAMP:20260421T060027
CREATED:20220321T083823Z
LAST-MODIFIED:20220323T083418Z
UID:10958-1651050000-1651052700@zazijvedu.cz
SUMMARY:Uhlík vs. klimatické změny
DESCRIPTION:UHLÍK VS. KLIMATICKÉ ZMĚNY\n– tento workshop má kapacitu omezenou na 15 míst
URL:https://zazijvedu.cz/event/uhlik-vs-klimaticke-zmeny/
LOCATION:Uhlík vs. klimatické změny
CATEGORIES:Pro střední školy
END:VEVENT
BEGIN:VEVENT
DTSTART;TZID=Europe/Prague:20220427T090000
DTEND;TZID=Europe/Prague:20220427T094500
DTSTAMP:20260421T060027
CREATED:20220321T083314Z
LAST-MODIFIED:20220324T164548Z
UID:10943-1651050000-1651052700@zazijvedu.cz
SUMMARY:Sladké mámení
DESCRIPTION:SLADKÉ MÁMENÍ\n– tento workshop má kapacitu omezenou na 15 míst
URL:https://zazijvedu.cz/event/cukrovinky/
LOCATION:Sladké mámení
CATEGORIES:Pro střední školy
END:VEVENT
BEGIN:VEVENT
DTSTART;TZID=Europe/Prague:20220427T090000
DTEND;TZID=Europe/Prague:20220427T094500
DTSTAMP:20260421T060027
CREATED:20220321T082858Z
LAST-MODIFIED:20220323T083317Z
UID:10929-1651050000-1651052700@zazijvedu.cz
SUMMARY:Čokoládový sýr?!
DESCRIPTION:ČOKOLÁDOVÝ SÝR?!\n– tento workshop má kapacitu omezenou na 15 míst
URL:https://zazijvedu.cz/event/cokoladovy-syr/
LOCATION:Čokoládový sýr?!
CATEGORIES:Pro střední školy
END:VEVENT
BEGIN:VEVENT
DTSTART;TZID=Europe/Prague:20220427T090000
DTEND;TZID=Europe/Prague:20220427T094500
DTSTAMP:20260421T060027
CREATED:20220321T081934Z
LAST-MODIFIED:20220323T083241Z
UID:10914-1651050000-1651052700@zazijvedu.cz
SUMMARY:Reologie aneb vše plyne
DESCRIPTION:REOLOGIE ANEB VŠE PLYNE\n– tento workshop má kapacitu omezenou na 15 míst
URL:https://zazijvedu.cz/event/reologie-aneb-vse-plyne-2/
LOCATION:Reologie aneb vše plyne
CATEGORIES:Pro střední školy
END:VEVENT
BEGIN:VEVENT
DTSTART;TZID=Europe/Prague:20220427T090000
DTEND;TZID=Europe/Prague:20220427T094500
DTSTAMP:20260421T060027
CREATED:20220321T081418Z
LAST-MODIFIED:20220323T083208Z
UID:10899-1651050000-1651052700@zazijvedu.cz
SUMMARY:3D laboratoř
DESCRIPTION:3D LABORATOŘ\n– tento workshop má kapacitu omezenou na 15 míst
URL:https://zazijvedu.cz/event/3d-laborator/
LOCATION:3D laboratoř
CATEGORIES:Pro střední školy
END:VEVENT
BEGIN:VEVENT
DTSTART;TZID=Europe/Prague:20220427T090000
DTEND;TZID=Europe/Prague:20220427T094500
DTSTAMP:20260421T060027
CREATED:20220321T080611Z
LAST-MODIFIED:20220323T083135Z
UID:10885-1651050000-1651052700@zazijvedu.cz
SUMMARY:Lasery - Krotitelé fotonů
DESCRIPTION:LASERY – KROTITELÉ FOTONŮ\n– tento workshop má kapacitu omezenou na 15 míst
URL:https://zazijvedu.cz/event/lasery-krotitele-fotonu/
LOCATION:Lasery – Krotitelé fotonů
CATEGORIES:Pro střední školy
END:VEVENT
BEGIN:VEVENT
DTSTART;TZID=Europe/Prague:20220427T090000
DTEND;TZID=Europe/Prague:20220427T094500
DTSTAMP:20260421T060027
CREATED:20220321T071536Z
LAST-MODIFIED:20220323T082844Z
UID:10851-1651050000-1651052700@zazijvedu.cz
SUMMARY:Diagnóza: Pleť
DESCRIPTION:DIAGNÓZA: PLEŤ\n– tento workshop má kapacitu omezenou na 15 míst
URL:https://zazijvedu.cz/event/diagnoza-plet/
LOCATION:Diagnóza: Pleť
CATEGORIES:Pro střední školy
END:VEVENT
BEGIN:VEVENT
DTSTART;TZID=Europe/Prague:20220427T090000
DTEND;TZID=Europe/Prague:20220427T094500
DTSTAMP:20260421T060027
CREATED:20220321T070508Z
LAST-MODIFIED:20220323T082755Z
UID:10837-1651050000-1651052700@zazijvedu.cz
SUMMARY:3D bio tisk
DESCRIPTION:3D BIO TISK\n– tento workshop má kapacitu omezenou na 15 míst
URL:https://zazijvedu.cz/event/3d-bio-tisk/
LOCATION:3D bio tisk
CATEGORIES:Pro střední školy
END:VEVENT
BEGIN:VEVENT
DTSTART;TZID=Europe/Prague:20220427T090000
DTEND;TZID=Europe/Prague:20220427T094500
DTSTAMP:20260421T060027
CREATED:20220318T130733Z
LAST-MODIFIED:20220323T082621Z
UID:10820-1651050000-1651052700@zazijvedu.cz
SUMMARY:Žijte výživně
DESCRIPTION:ŽIJTE VÝŽIVNĚ\n– tento workshop má kapacitu omezenou na 12 míst
URL:https://zazijvedu.cz/event/zijte-vyzivne/
LOCATION:Žijte výživně
CATEGORIES:Pro střední školy
END:VEVENT
BEGIN:VEVENT
DTSTART;TZID=Europe/Prague:20220427T090000
DTEND;TZID=Europe/Prague:20220427T094500
DTSTAMP:20260421T060027
CREATED:20220318T123956Z
LAST-MODIFIED:20220323T090538Z
UID:10795-1651050000-1651052700@zazijvedu.cz
SUMMARY:Jak chutná hmyz
DESCRIPTION:JAK CHUTNÁ HMYZ\n– tento workshop má kapacitu omezenou na 15 míst
URL:https://zazijvedu.cz/event/jak-chutna-hmyz/
LOCATION:Jak chutná hmyz
CATEGORIES:Pro střední školy
END:VEVENT
BEGIN:VEVENT
DTSTART;TZID=Europe/Prague:20220203T110000
DTEND;TZID=Europe/Prague:20220203T114500
DTSTAMP:20260421T060027
CREATED:20220114T130405Z
LAST-MODIFIED:20220114T130424Z
UID:10513-1643886000-1643888700@zazijvedu.cz
SUMMARY:Tvrdohlavé polymerní sítě
DESCRIPTION:
URL:https://zazijvedu.cz/event/tvrdohlave-polymerni-site-26/
LOCATION:Tvrdohlavé polymerní sítě
CATEGORIES:Pro střední školy
END:VEVENT
BEGIN:VEVENT
DTSTART;TZID=Europe/Prague:20220203T110000
DTEND;TZID=Europe/Prague:20220203T114500
DTSTAMP:20260421T060027
CREATED:20220114T123757Z
LAST-MODIFIED:20220114T123945Z
UID:10428-1643886000-1643888700@zazijvedu.cz
SUMMARY:Chemie světla a barev
DESCRIPTION:
URL:https://zazijvedu.cz/event/chemie-svetla-a-barev-26/
LOCATION:Chemie světla a barev
CATEGORIES:Pro střední školy
END:VEVENT
END:VCALENDAR