BEGIN:VCALENDAR
VERSION:2.0
PRODID:-//Zažij vědu - ECPv6.15.20//NONSGML v1.0//EN
CALSCALE:GREGORIAN
METHOD:PUBLISH
X-ORIGINAL-URL:https://zazijvedu.cz
X-WR-CALDESC:Akce na Zažij vědu
REFRESH-INTERVAL;VALUE=DURATION:PT1H
X-Robots-Tag:noindex
X-PUBLISHED-TTL:PT1H
BEGIN:VTIMEZONE
TZID:Europe/Prague
BEGIN:DAYLIGHT
TZOFFSETFROM:+0100
TZOFFSETTO:+0200
TZNAME:CEST
DTSTART:20190331T010000
END:DAYLIGHT
BEGIN:STANDARD
TZOFFSETFROM:+0200
TZOFFSETTO:+0100
TZNAME:CET
DTSTART:20191027T010000
END:STANDARD
BEGIN:DAYLIGHT
TZOFFSETFROM:+0100
TZOFFSETTO:+0200
TZNAME:CEST
DTSTART:20200329T010000
END:DAYLIGHT
BEGIN:STANDARD
TZOFFSETFROM:+0200
TZOFFSETTO:+0100
TZNAME:CET
DTSTART:20201025T010000
END:STANDARD
BEGIN:DAYLIGHT
TZOFFSETFROM:+0100
TZOFFSETTO:+0200
TZNAME:CEST
DTSTART:20210328T010000
END:DAYLIGHT
BEGIN:STANDARD
TZOFFSETFROM:+0200
TZOFFSETTO:+0100
TZNAME:CET
DTSTART:20211031T010000
END:STANDARD
BEGIN:DAYLIGHT
TZOFFSETFROM:+0100
TZOFFSETTO:+0200
TZNAME:CEST
DTSTART:20220327T010000
END:DAYLIGHT
BEGIN:STANDARD
TZOFFSETFROM:+0200
TZOFFSETTO:+0100
TZNAME:CET
DTSTART:20221030T010000
END:STANDARD
BEGIN:DAYLIGHT
TZOFFSETFROM:+0100
TZOFFSETTO:+0200
TZNAME:CEST
DTSTART:20230326T010000
END:DAYLIGHT
BEGIN:STANDARD
TZOFFSETFROM:+0200
TZOFFSETTO:+0100
TZNAME:CET
DTSTART:20231029T010000
END:STANDARD
END:VTIMEZONE
BEGIN:VEVENT
DTSTART;TZID=Europe/Prague:20220427T090000
DTEND;TZID=Europe/Prague:20220427T094500
DTSTAMP:20260421T025444
CREATED:20220321T071536Z
LAST-MODIFIED:20220323T082844Z
UID:10851-1651050000-1651052700@zazijvedu.cz
SUMMARY:Diagnóza: Pleť
DESCRIPTION:DIAGNÓZA: PLEŤ\n– tento workshop má kapacitu omezenou na 15 míst
URL:https://zazijvedu.cz/event/diagnoza-plet/
LOCATION:Diagnóza: Pleť
CATEGORIES:Pro střední školy
END:VEVENT
BEGIN:VEVENT
DTSTART;TZID=Europe/Prague:20220427T090000
DTEND;TZID=Europe/Prague:20220427T094500
DTSTAMP:20260421T025444
CREATED:20220321T070508Z
LAST-MODIFIED:20220323T082755Z
UID:10837-1651050000-1651052700@zazijvedu.cz
SUMMARY:3D bio tisk
DESCRIPTION:3D BIO TISK\n– tento workshop má kapacitu omezenou na 15 míst
URL:https://zazijvedu.cz/event/3d-bio-tisk/
LOCATION:3D bio tisk
CATEGORIES:Pro střední školy
END:VEVENT
BEGIN:VEVENT
DTSTART;TZID=Europe/Prague:20220427T090000
DTEND;TZID=Europe/Prague:20220427T094500
DTSTAMP:20260421T025444
CREATED:20220318T130733Z
LAST-MODIFIED:20220323T082621Z
UID:10820-1651050000-1651052700@zazijvedu.cz
SUMMARY:Žijte výživně
DESCRIPTION:ŽIJTE VÝŽIVNĚ\n– tento workshop má kapacitu omezenou na 12 míst
URL:https://zazijvedu.cz/event/zijte-vyzivne/
LOCATION:Žijte výživně
CATEGORIES:Pro střední školy
END:VEVENT
BEGIN:VEVENT
DTSTART;TZID=Europe/Prague:20220427T090000
DTEND;TZID=Europe/Prague:20220427T094500
DTSTAMP:20260421T025444
CREATED:20220318T123956Z
LAST-MODIFIED:20220323T090538Z
UID:10795-1651050000-1651052700@zazijvedu.cz
SUMMARY:Jak chutná hmyz
DESCRIPTION:JAK CHUTNÁ HMYZ\n– tento workshop má kapacitu omezenou na 15 míst
URL:https://zazijvedu.cz/event/jak-chutna-hmyz/
LOCATION:Jak chutná hmyz
CATEGORIES:Pro střední školy
END:VEVENT
BEGIN:VEVENT
DTSTART;TZID=Europe/Prague:20220203T110000
DTEND;TZID=Europe/Prague:20220203T114500
DTSTAMP:20260421T025444
CREATED:20220114T130405Z
LAST-MODIFIED:20220114T130424Z
UID:10513-1643886000-1643888700@zazijvedu.cz
SUMMARY:Tvrdohlavé polymerní sítě
DESCRIPTION:
URL:https://zazijvedu.cz/event/tvrdohlave-polymerni-site-26/
LOCATION:Tvrdohlavé polymerní sítě
CATEGORIES:Pro střední školy
END:VEVENT
BEGIN:VEVENT
DTSTART;TZID=Europe/Prague:20220203T110000
DTEND;TZID=Europe/Prague:20220203T114500
DTSTAMP:20260421T025444
CREATED:20220114T123757Z
LAST-MODIFIED:20220114T123945Z
UID:10428-1643886000-1643888700@zazijvedu.cz
SUMMARY:Chemie světla a barev
DESCRIPTION:
URL:https://zazijvedu.cz/event/chemie-svetla-a-barev-26/
LOCATION:Chemie světla a barev
CATEGORIES:Pro střední školy
END:VEVENT
BEGIN:VEVENT
DTSTART;TZID=Europe/Prague:20220203T090000
DTEND;TZID=Europe/Prague:20220203T094500
DTSTAMP:20260421T025444
CREATED:20220114T130158Z
LAST-MODIFIED:20220114T130223Z
UID:10507-1643878800-1643881500@zazijvedu.cz
SUMMARY:Tvrdohlavé polymerní sítě
DESCRIPTION:
URL:https://zazijvedu.cz/event/tvrdohlave-polymerni-site-24/
LOCATION:Tvrdohlavé polymerní sítě
CATEGORIES:Pro střední školy
END:VEVENT
BEGIN:VEVENT
DTSTART;TZID=Europe/Prague:20220203T090000
DTEND;TZID=Europe/Prague:20220203T094500
DTSTAMP:20260421T025444
CREATED:20220114T123037Z
LAST-MODIFIED:20220114T123112Z
UID:10421-1643878800-1643881500@zazijvedu.cz
SUMMARY:Chemie světla a barev
DESCRIPTION:
URL:https://zazijvedu.cz/event/chemie-svetla-a-barev-24/
LOCATION:Chemie světla a barev
CATEGORIES:Pro střední školy
END:VEVENT
BEGIN:VEVENT
DTSTART;TZID=Europe/Prague:20200225T120000
DTEND;TZID=Europe/Prague:20200225T124500
DTSTAMP:20260421T025444
CREATED:20200128T104357Z
LAST-MODIFIED:20200128T104357Z
UID:9148-1582632000-1582634700@zazijvedu.cz
SUMMARY:Čistá CNC práce
DESCRIPTION:
URL:https://zazijvedu.cz/event/cista-cnc-prace-4/
LOCATION:Čistá CNC práce
CATEGORIES:Pro střední školy
END:VEVENT
BEGIN:VEVENT
DTSTART;TZID=Europe/Prague:20200225T120000
DTEND;TZID=Europe/Prague:20200225T124500
DTSTAMP:20260421T025444
CREATED:20200128T103918Z
LAST-MODIFIED:20200128T175547Z
UID:9134-1582632000-1582634700@zazijvedu.cz
SUMMARY:Sacharidy + tuky + bílkoviny = ?
DESCRIPTION:
URL:https://zazijvedu.cz/event/sacharidy-tuky-bilkoviny-4/
LOCATION:Sacharidy + tuky + bílkoviny = ?
CATEGORIES:Pro střední školy
END:VEVENT
BEGIN:VEVENT
DTSTART;TZID=Europe/Prague:20200225T120000
DTEND;TZID=Europe/Prague:20200225T124500
DTSTAMP:20260421T025444
CREATED:20200128T103531Z
LAST-MODIFIED:20200128T103531Z
UID:9120-1582632000-1582634700@zazijvedu.cz
SUMMARY:Sladké mámení
DESCRIPTION:
URL:https://zazijvedu.cz/event/sladke-mameni-4/
LOCATION:Sladké mámení
CATEGORIES:Pro střední školy
END:VEVENT
BEGIN:VEVENT
DTSTART;TZID=Europe/Prague:20200225T120000
DTEND;TZID=Europe/Prague:20200225T124500
DTSTAMP:20260421T025444
CREATED:20200128T103053Z
LAST-MODIFIED:20200128T103053Z
UID:9107-1582632000-1582634700@zazijvedu.cz
SUMMARY:Desítku nebo dvanáctku?
DESCRIPTION:
URL:https://zazijvedu.cz/event/desitku-nebo-dvanactku-4/
LOCATION:Desítku nebo dvanáctku?
CATEGORIES:Pro střední školy
END:VEVENT
BEGIN:VEVENT
DTSTART;TZID=Europe/Prague:20200225T120000
DTEND;TZID=Europe/Prague:20200225T124500
DTSTAMP:20260421T025444
CREATED:20200128T102552Z
LAST-MODIFIED:20200128T111114Z
UID:9093-1582632000-1582634700@zazijvedu.cz
SUMMARY:Realita recyklace
DESCRIPTION:
URL:https://zazijvedu.cz/event/realita-recyklace-4/
LOCATION:Realita recyklace
CATEGORIES:Pro střední školy
END:VEVENT
BEGIN:VEVENT
DTSTART;TZID=Europe/Prague:20200225T120000
DTEND;TZID=Europe/Prague:20200225T124500
DTSTAMP:20260421T025444
CREATED:20200127T080934Z
LAST-MODIFIED:20200127T080934Z
UID:9067-1582632000-1582634700@zazijvedu.cz
SUMMARY:Brouci na talíři
DESCRIPTION:
URL:https://zazijvedu.cz/event/brouci-na-taliri-21/
LOCATION:Jak chutná hmyz
CATEGORIES:Pro střední školy
END:VEVENT
BEGIN:VEVENT
DTSTART;TZID=Europe/Prague:20200225T120000
DTEND;TZID=Europe/Prague:20200225T124500
DTSTAMP:20260421T025444
CREATED:20200127T065046Z
LAST-MODIFIED:20200127T065046Z
UID:8996-1582632000-1582634700@zazijvedu.cz
SUMMARY:Tvrdohlavé polymerní sítě
DESCRIPTION:
URL:https://zazijvedu.cz/event/tvrdohlave-polymerni-site-21/
LOCATION:Tvrdohlavé polymerní sítě
CATEGORIES:Pro střední školy
END:VEVENT
BEGIN:VEVENT
DTSTART;TZID=Europe/Prague:20200225T120000
DTEND;TZID=Europe/Prague:20200225T124500
DTSTAMP:20260421T025444
CREATED:20200127T063728Z
LAST-MODIFIED:20200127T063728Z
UID:8980-1582632000-1582634700@zazijvedu.cz
SUMMARY:Supr-chemie
DESCRIPTION:
URL:https://zazijvedu.cz/event/supr-chemie-21/
LOCATION:Supr-chemie
CATEGORIES:Pro střední školy
END:VEVENT
BEGIN:VEVENT
DTSTART;TZID=Europe/Prague:20200225T120000
DTEND;TZID=Europe/Prague:20200225T124500
DTSTAMP:20260421T025444
CREATED:20200127T063025Z
LAST-MODIFIED:20200127T063041Z
UID:8965-1582632000-1582634700@zazijvedu.cz
SUMMARY:Chemie světla a barev
DESCRIPTION:
URL:https://zazijvedu.cz/event/chemie-svetla-a-barev-21/
LOCATION:Chemie světla a barev
CATEGORIES:Pro střední školy
END:VEVENT
BEGIN:VEVENT
DTSTART;TZID=Europe/Prague:20200225T120000
DTEND;TZID=Europe/Prague:20200225T124500
DTSTAMP:20260421T025444
CREATED:20200124T135358Z
LAST-MODIFIED:20200124T145508Z
UID:8912-1582632000-1582634700@zazijvedu.cz
SUMMARY:Vše plyne
DESCRIPTION:
URL:https://zazijvedu.cz/event/vse-plyne-19/
LOCATION:Reologie aneb vše plyne
CATEGORIES:Pro střední školy
END:VEVENT
BEGIN:VEVENT
DTSTART;TZID=Europe/Prague:20200225T120000
DTEND;TZID=Europe/Prague:20200225T124500
DTSTAMP:20260421T025444
CREATED:20200124T131459Z
LAST-MODIFIED:20200124T151515Z
UID:8897-1582632000-1582634700@zazijvedu.cz
SUMMARY:Věda skrytá v botě
DESCRIPTION:
URL:https://zazijvedu.cz/event/veda-skryta-v-bote-21/
LOCATION:PIEZOELEKTRICKÉ A TRIBOELEKTRICKÉ GENERÁTORY ELEKTŘINY
CATEGORIES:Pro střední školy
END:VEVENT
BEGIN:VEVENT
DTSTART;TZID=Europe/Prague:20200225T110000
DTEND;TZID=Europe/Prague:20200225T114500
DTSTAMP:20260421T025444
CREATED:20200128T104324Z
LAST-MODIFIED:20200128T105017Z
UID:9146-1582628400-1582631100@zazijvedu.cz
SUMMARY:Čistá CNC práce
DESCRIPTION:
URL:https://zazijvedu.cz/event/cista-cnc-prace-3/
LOCATION:Čistá CNC práce
CATEGORIES:Pro střední školy
END:VEVENT
BEGIN:VEVENT
DTSTART;TZID=Europe/Prague:20200225T110000
DTEND;TZID=Europe/Prague:20200225T114500
DTSTAMP:20260421T025444
CREATED:20200128T103851Z
LAST-MODIFIED:20200128T175559Z
UID:9132-1582628400-1582631100@zazijvedu.cz
SUMMARY:Sacharidy + tuky + bílkoviny = ?
DESCRIPTION:
URL:https://zazijvedu.cz/event/sacharidy-tuky-bilkoviny-3/
LOCATION:Sacharidy + tuky + bílkoviny = ?
CATEGORIES:Pro střední školy
END:VEVENT
BEGIN:VEVENT
DTSTART;TZID=Europe/Prague:20200225T110000
DTEND;TZID=Europe/Prague:20200225T114500
DTSTAMP:20260421T025444
CREATED:20200128T103501Z
LAST-MODIFIED:20200128T103501Z
UID:9118-1582628400-1582631100@zazijvedu.cz
SUMMARY:Sladké mámení
DESCRIPTION:
URL:https://zazijvedu.cz/event/sladke-mameni-3/
LOCATION:Sladké mámení
CATEGORIES:Pro střední školy
END:VEVENT
BEGIN:VEVENT
DTSTART;TZID=Europe/Prague:20200225T110000
DTEND;TZID=Europe/Prague:20200225T114500
DTSTAMP:20260421T025444
CREATED:20200128T103020Z
LAST-MODIFIED:20200128T103020Z
UID:9105-1582628400-1582631100@zazijvedu.cz
SUMMARY:Desítku nebo dvanáctku?
DESCRIPTION:
URL:https://zazijvedu.cz/event/desitku-nebo-dvanactku-3/
LOCATION:Desítku nebo dvanáctku?
CATEGORIES:Pro střední školy
END:VEVENT
BEGIN:VEVENT
DTSTART;TZID=Europe/Prague:20200225T110000
DTEND;TZID=Europe/Prague:20200225T114500
DTSTAMP:20260421T025444
CREATED:20200128T102305Z
LAST-MODIFIED:20200128T102305Z
UID:9091-1582628400-1582631100@zazijvedu.cz
SUMMARY:Realita recyklace
DESCRIPTION:
URL:https://zazijvedu.cz/event/realita-recyklace-3/
LOCATION:Realita recyklace
CATEGORIES:Pro střední školy
END:VEVENT
BEGIN:VEVENT
DTSTART;TZID=Europe/Prague:20200225T110000
DTEND;TZID=Europe/Prague:20200225T114500
DTSTAMP:20260421T025444
CREATED:20200127T080908Z
LAST-MODIFIED:20200127T080908Z
UID:9065-1582628400-1582631100@zazijvedu.cz
SUMMARY:Brouci na talíři
DESCRIPTION:
URL:https://zazijvedu.cz/event/brouci-na-taliri-20/
LOCATION:Jak chutná hmyz
CATEGORIES:Pro střední školy
END:VEVENT
BEGIN:VEVENT
DTSTART;TZID=Europe/Prague:20200225T110000
DTEND;TZID=Europe/Prague:20200225T114500
DTSTAMP:20260421T025444
CREATED:20200127T065012Z
LAST-MODIFIED:20200127T065012Z
UID:8994-1582628400-1582631100@zazijvedu.cz
SUMMARY:Tvrdohlavé polymerní sítě
DESCRIPTION:
URL:https://zazijvedu.cz/event/tvrdohlave-polymerni-site-20/
LOCATION:Tvrdohlavé polymerní sítě
CATEGORIES:Pro střední školy
END:VEVENT
BEGIN:VEVENT
DTSTART;TZID=Europe/Prague:20200225T110000
DTEND;TZID=Europe/Prague:20200225T114500
DTSTAMP:20260421T025444
CREATED:20200127T063643Z
LAST-MODIFIED:20200127T063643Z
UID:8978-1582628400-1582631100@zazijvedu.cz
SUMMARY:Supr-chemie
DESCRIPTION:
URL:https://zazijvedu.cz/event/supr-chemie-20/
LOCATION:Supr-chemie
CATEGORIES:Pro střední školy
END:VEVENT
BEGIN:VEVENT
DTSTART;TZID=Europe/Prague:20200225T110000
DTEND;TZID=Europe/Prague:20200225T114500
DTSTAMP:20260421T025444
CREATED:20200127T062950Z
LAST-MODIFIED:20200127T063348Z
UID:8963-1582628400-1582631100@zazijvedu.cz
SUMMARY:Chemie světla a barev
DESCRIPTION:
URL:https://zazijvedu.cz/event/chemie-svetla-a-barev-20/
LOCATION:Chemie světla a barev
CATEGORIES:Pro střední školy
END:VEVENT
BEGIN:VEVENT
DTSTART;TZID=Europe/Prague:20200225T110000
DTEND;TZID=Europe/Prague:20200225T114500
DTSTAMP:20260421T025444
CREATED:20200124T135328Z
LAST-MODIFIED:20200124T145505Z
UID:8910-1582628400-1582631100@zazijvedu.cz
SUMMARY:Vše plyne
DESCRIPTION:
URL:https://zazijvedu.cz/event/vse-plyne-18/
LOCATION:Reologie aneb vše plyne
CATEGORIES:Pro střední školy
END:VEVENT
BEGIN:VEVENT
DTSTART;TZID=Europe/Prague:20200225T110000
DTEND;TZID=Europe/Prague:20200225T114500
DTSTAMP:20260421T025444
CREATED:20200124T131433Z
LAST-MODIFIED:20200124T151547Z
UID:8895-1582628400-1582631100@zazijvedu.cz
SUMMARY:Věda skrytá v botě
DESCRIPTION:
URL:https://zazijvedu.cz/event/veda-skryta-v-bote-20/
LOCATION:PIEZOELEKTRICKÉ A TRIBOELEKTRICKÉ GENERÁTORY ELEKTŘINY
CATEGORIES:Pro střední školy
END:VEVENT
END:VCALENDAR