BEGIN:VCALENDAR
VERSION:2.0
PRODID:-//Zažij vědu - ECPv6.15.20//NONSGML v1.0//EN
CALSCALE:GREGORIAN
METHOD:PUBLISH
X-WR-CALNAME:Zažij vědu
X-ORIGINAL-URL:https://zazijvedu.cz
X-WR-CALDESC:Akce na Zažij vědu
REFRESH-INTERVAL;VALUE=DURATION:PT1H
X-Robots-Tag:noindex
X-PUBLISHED-TTL:PT1H
BEGIN:VTIMEZONE
TZID:Europe/Prague
BEGIN:DAYLIGHT
TZOFFSETFROM:+0100
TZOFFSETTO:+0200
TZNAME:CEST
DTSTART:20220327T010000
END:DAYLIGHT
BEGIN:STANDARD
TZOFFSETFROM:+0200
TZOFFSETTO:+0100
TZNAME:CET
DTSTART:20221030T010000
END:STANDARD
BEGIN:DAYLIGHT
TZOFFSETFROM:+0100
TZOFFSETTO:+0200
TZNAME:CEST
DTSTART:20230326T010000
END:DAYLIGHT
BEGIN:STANDARD
TZOFFSETFROM:+0200
TZOFFSETTO:+0100
TZNAME:CET
DTSTART:20231029T010000
END:STANDARD
BEGIN:DAYLIGHT
TZOFFSETFROM:+0100
TZOFFSETTO:+0200
TZNAME:CEST
DTSTART:20240331T010000
END:DAYLIGHT
BEGIN:STANDARD
TZOFFSETFROM:+0200
TZOFFSETTO:+0100
TZNAME:CET
DTSTART:20241027T010000
END:STANDARD
END:VTIMEZONE
BEGIN:VEVENT
DTSTART;TZID=Europe/Prague:20230426T120000
DTEND;TZID=Europe/Prague:20230426T124500
DTSTAMP:20260420T070702
CREATED:20230331T121519Z
LAST-MODIFIED:20230331T121519Z
UID:12406-1682510400-1682513100@zazijvedu.cz
SUMMARY:JAK CHUTNÁ HMYZ
DESCRIPTION:
URL:https://zazijvedu.cz/event/jak-chutna-hmyz-12/
LOCATION:Jak chutná hmyz
CATEGORIES:Pro střední školy
END:VEVENT
BEGIN:VEVENT
DTSTART;TZID=Europe/Prague:20230426T120000
DTEND;TZID=Europe/Prague:20230426T124500
DTSTAMP:20260420T070702
CREATED:20230331T121340Z
LAST-MODIFIED:20230331T121353Z
UID:12402-1682510400-1682513100@zazijvedu.cz
SUMMARY:DIAGNÓZA: PLEŤ
DESCRIPTION:DIAGNÓZA: PLEŤ
URL:https://zazijvedu.cz/event/diagnoza-plet-12/
LOCATION:Diagnóza: Pleť
CATEGORIES:Pro střední školy
END:VEVENT
BEGIN:VEVENT
DTSTART;TZID=Europe/Prague:20230426T120000
DTEND;TZID=Europe/Prague:20230426T124500
DTSTAMP:20260420T070702
CREATED:20230331T121222Z
LAST-MODIFIED:20230331T121222Z
UID:12398-1682510400-1682513100@zazijvedu.cz
SUMMARY:VOŇAVÝ SVĚT KOSMETIKY
DESCRIPTION:VOŇAVÝ SVĚT KOSMETIKY
URL:https://zazijvedu.cz/event/vonavy-svet-kosmetiky-6/
LOCATION:Voňavý svět kosmetiky
CATEGORIES:Pro střední školy
END:VEVENT
BEGIN:VEVENT
DTSTART;TZID=Europe/Prague:20230426T120000
DTEND;TZID=Europe/Prague:20230426T124500
DTSTAMP:20260420T070702
CREATED:20230331T121122Z
LAST-MODIFIED:20230331T121122Z
UID:12394-1682510400-1682513100@zazijvedu.cz
SUMMARY:MICELA - ZÁZRAČNÝ MAGNET NA NEČISTOTY
DESCRIPTION:
URL:https://zazijvedu.cz/event/micela-zazracny-magnet-na-necistoty-10/
LOCATION:Micela – zázračný magnet na nečistoty
CATEGORIES:Pro střední školy
END:VEVENT
BEGIN:VEVENT
DTSTART;TZID=Europe/Prague:20230426T120000
DTEND;TZID=Europe/Prague:20230426T124500
DTSTAMP:20260420T070702
CREATED:20230331T120838Z
LAST-MODIFIED:20230331T120838Z
UID:12388-1682510400-1682513100@zazijvedu.cz
SUMMARY:PIEZOELEKTRICKÉ A TRIBOELEKTRICKÉ GENERÁTORY ELEKTŘINY
DESCRIPTION:PIEZOELEKTRICKÉ A TRIBOELEKTRICKÉ GENERÁTORY ELEKTŘINY
URL:https://zazijvedu.cz/event/piezoelektricke-a-triboelektricke-generatory-elektriny-2/
LOCATION:PIEZOELEKTRICKÉ A TRIBOELEKTRICKÉ GENERÁTORY ELEKTŘINY
CATEGORIES:Pro střední školy
END:VEVENT
BEGIN:VEVENT
DTSTART;TZID=Europe/Prague:20230426T120000
DTEND;TZID=Europe/Prague:20230426T124500
DTSTAMP:20260420T070702
CREATED:20230331T120644Z
LAST-MODIFIED:20230331T120958Z
UID:12384-1682510400-1682513100@zazijvedu.cz
SUMMARY:Reologie aneb jak materiály tečou
DESCRIPTION:Reologie aneb jak materiály tečou
URL:https://zazijvedu.cz/event/reologie-aneb-jak-materialy-tecou-6/
LOCATION:REOLOGIE ANEB JAK MATERIÁLY TEČOU
CATEGORIES:Pro střední školy
END:VEVENT
BEGIN:VEVENT
DTSTART;TZID=Europe/Prague:20230426T120000
DTEND;TZID=Europe/Prague:20230426T124500
DTSTAMP:20260420T070702
CREATED:20230331T120347Z
LAST-MODIFIED:20230331T120347Z
UID:12380-1682510400-1682513100@zazijvedu.cz
SUMMARY:3D Bio Tisk
DESCRIPTION:3D Bio Tisk
URL:https://zazijvedu.cz/event/3d-bio-tisk-12/
LOCATION:3D bio tisk
CATEGORIES:Pro střední školy
END:VEVENT
BEGIN:VEVENT
DTSTART;TZID=Europe/Prague:20230426T110000
DTEND;TZID=Europe/Prague:20230426T114500
DTSTAMP:20260420T070702
CREATED:20230331T122652Z
LAST-MODIFIED:20230331T122652Z
UID:12460-1682506800-1682509500@zazijvedu.cz
SUMMARY:KŮŽE\, ŠLACHY\, PEŘÍ… ODPAD NEBO POKLAD?
DESCRIPTION:KŮŽE\, ŠLACHY\, PEŘÍ… ODPAD NEBO POKLAD?
URL:https://zazijvedu.cz/event/kuze-slachy-peri-odpad-nebo-poklad/
LOCATION:KŮŽE\, ŠLACHY\, PEŘÍ… ODPAD NEBO POKLAD?
CATEGORIES:Pro střední školy
END:VEVENT
BEGIN:VEVENT
DTSTART;TZID=Europe/Prague:20230426T110000
DTEND;TZID=Europe/Prague:20230426T114500
DTSTAMP:20260420T070702
CREATED:20230331T122637Z
LAST-MODIFIED:20230331T122637Z
UID:12455-1682506800-1682509500@zazijvedu.cz
SUMMARY:Sladké mámení
DESCRIPTION:Sladké mámení
URL:https://zazijvedu.cz/event/sladke-mameni-11/
LOCATION:Sladké mámení
CATEGORIES:Pro střední školy
END:VEVENT
BEGIN:VEVENT
DTSTART;TZID=Europe/Prague:20230426T110000
DTEND;TZID=Europe/Prague:20230426T114500
DTSTAMP:20260420T070702
CREATED:20230331T122556Z
LAST-MODIFIED:20230331T122556Z
UID:12456-1682506800-1682509500@zazijvedu.cz
SUMMARY:MIKROKOSMOS V NÁS
DESCRIPTION:MIKROKOSMOS V NÁS
URL:https://zazijvedu.cz/event/mikrokosmos-v-nas-5/
LOCATION:MIKROKOSMOS V NÁS
CATEGORIES:Pro střední školy
END:VEVENT
BEGIN:VEVENT
DTSTART;TZID=Europe/Prague:20230426T110000
DTEND;TZID=Europe/Prague:20230426T114500
DTSTAMP:20260420T070702
CREATED:20230331T122502Z
LAST-MODIFIED:20230331T122502Z
UID:12450-1682506800-1682509500@zazijvedu.cz
SUMMARY:MIONOVÁ OBSERVATOŘ
DESCRIPTION:MIONOVÁ OBSERVATOŘ
URL:https://zazijvedu.cz/event/mionova-observator-5/
LOCATION:MIONOVÁ OBSERVATOŘ
CATEGORIES:Pro střední školy
END:VEVENT
BEGIN:VEVENT
DTSTART;TZID=Europe/Prague:20230426T110000
DTEND;TZID=Europe/Prague:20230426T114500
DTSTAMP:20260420T070702
CREATED:20230331T122415Z
LAST-MODIFIED:20230331T122535Z
UID:12443-1682506800-1682509500@zazijvedu.cz
SUMMARY:Toxický svět kolem nás
DESCRIPTION:Toxický svět kolem nás
URL:https://zazijvedu.cz/event/toxicky-svet-kolem-nas-11/
LOCATION:Toxický svět kolem nás
CATEGORIES:Pro střední školy
END:VEVENT
BEGIN:VEVENT
DTSTART;TZID=Europe/Prague:20230426T110000
DTEND;TZID=Europe/Prague:20230426T114500
DTSTAMP:20260420T070702
CREATED:20230331T122410Z
LAST-MODIFIED:20230331T122410Z
UID:12444-1682506800-1682509500@zazijvedu.cz
SUMMARY:NA KONCI VŠEHO BYLA TMA
DESCRIPTION:NA KONCI VŠEHO BYLA TMA
URL:https://zazijvedu.cz/event/na-konci-vseho-byla-tma-6/
LOCATION:Na konci všeho byla tma
CATEGORIES:Pro střední školy
END:VEVENT
BEGIN:VEVENT
DTSTART;TZID=Europe/Prague:20230426T110000
DTEND;TZID=Europe/Prague:20230426T114500
DTSTAMP:20260420T070702
CREATED:20230331T122318Z
LAST-MODIFIED:20230331T122318Z
UID:12439-1682506800-1682509500@zazijvedu.cz
SUMMARY:MĚŘENÍ\, MATKA PŘESNOSTI
DESCRIPTION:MĚŘENÍ\, MATKA PŘESNOSTI
URL:https://zazijvedu.cz/event/mereni-matka-presnosti-5/
LOCATION:MĚŘENÍ\, MATKA PŘESNOSTI
CATEGORIES:Pro střední školy
END:VEVENT
BEGIN:VEVENT
DTSTART;TZID=Europe/Prague:20230426T110000
DTEND;TZID=Europe/Prague:20230426T114500
DTSTAMP:20260420T070702
CREATED:20230331T122222Z
LAST-MODIFIED:20230331T122222Z
UID:12435-1682506800-1682509500@zazijvedu.cz
SUMMARY:ČISTÁ CNC PRÁCE
DESCRIPTION:ČISTÁ CNC PRÁCE
URL:https://zazijvedu.cz/event/cista-cnc-prace-11/
LOCATION:Čistá CNC práce
CATEGORIES:Pro střední školy
END:VEVENT
BEGIN:VEVENT
DTSTART;TZID=Europe/Prague:20230426T110000
DTEND;TZID=Europe/Prague:20230426T114500
DTSTAMP:20260420T070702
CREATED:20230331T122129Z
LAST-MODIFIED:20230331T122129Z
UID:12431-1682506800-1682509500@zazijvedu.cz
SUMMARY:3D LABORATOŘ
DESCRIPTION:3D LABORATOŘ
URL:https://zazijvedu.cz/event/3d-laborator-11/
LOCATION:3D laboratoř
CATEGORIES:Pro střední školy
END:VEVENT
BEGIN:VEVENT
DTSTART;TZID=Europe/Prague:20230426T110000
DTEND;TZID=Europe/Prague:20230426T114500
DTSTAMP:20260420T070702
CREATED:20230331T122026Z
LAST-MODIFIED:20230331T122026Z
UID:12427-1682506800-1682509500@zazijvedu.cz
SUMMARY:OD LATEXU K PNEUMATICE
DESCRIPTION:OD LATEXU K PNEUMATICE
URL:https://zazijvedu.cz/event/od-latexu-k-pneumatice-11/
LOCATION:Od latexu k pneumatice
CATEGORIES:Pro střední školy
END:VEVENT
BEGIN:VEVENT
DTSTART;TZID=Europe/Prague:20230426T110000
DTEND;TZID=Europe/Prague:20230426T114500
DTSTAMP:20260420T070702
CREATED:20230331T121927Z
LAST-MODIFIED:20230331T121927Z
UID:12423-1682506800-1682509500@zazijvedu.cz
SUMMARY:ŽIJTE VÝŽIVNĚ
DESCRIPTION:ŽIJTE VÝŽIVNĚ
URL:https://zazijvedu.cz/event/zijte-vyzivne-11/
LOCATION:Žijte výživně
CATEGORIES:Pro střední školy
END:VEVENT
BEGIN:VEVENT
DTSTART;TZID=Europe/Prague:20230426T110000
DTEND;TZID=Europe/Prague:20230426T114500
DTSTAMP:20260420T070702
CREATED:20230331T121753Z
LAST-MODIFIED:20230331T121753Z
UID:12418-1682506800-1682509500@zazijvedu.cz
SUMMARY:LASERY - KROTITELÉ FOTONŮ
DESCRIPTION:LASERY – KROTITELÉ FOTONŮ
URL:https://zazijvedu.cz/event/lasery-krotitele-fotonu-11/
LOCATION:Lasery – Krotitelé fotonů
CATEGORIES:Pro střední školy
END:VEVENT
BEGIN:VEVENT
DTSTART;TZID=Europe/Prague:20230426T110000
DTEND;TZID=Europe/Prague:20230426T114500
DTSTAMP:20260420T070702
CREATED:20230331T121641Z
LAST-MODIFIED:20230331T121641Z
UID:12414-1682506800-1682509500@zazijvedu.cz
SUMMARY:ZÁZRAK ZVANÝ VEJCE
DESCRIPTION:ZÁZRAK ZVANÝ VEJCE
URL:https://zazijvedu.cz/event/zazrak-zvany-vejce-5/
LOCATION:Zázrak zvaný vejce\, U15\, Zlín
CATEGORIES:Pro střední školy
END:VEVENT
BEGIN:VEVENT
DTSTART;TZID=Europe/Prague:20230426T110000
DTEND;TZID=Europe/Prague:20230426T114500
DTSTAMP:20260420T070702
CREATED:20230331T121546Z
LAST-MODIFIED:20230331T121546Z
UID:12409-1682506800-1682509500@zazijvedu.cz
SUMMARY:REALITA RECYKLACE
DESCRIPTION:REALITA RECYKLACE
URL:https://zazijvedu.cz/event/realita-recyklace-11/
LOCATION:Realita recyklace
CATEGORIES:Pro střední školy
END:VEVENT
BEGIN:VEVENT
DTSTART;TZID=Europe/Prague:20230426T110000
DTEND;TZID=Europe/Prague:20230426T114500
DTSTAMP:20260420T070702
CREATED:20230331T121449Z
LAST-MODIFIED:20230331T121449Z
UID:12404-1682506800-1682509500@zazijvedu.cz
SUMMARY:JAK CHUTNÁ HMYZ
DESCRIPTION:JAK CHUTNÁ HMYZ
URL:https://zazijvedu.cz/event/jak-chutna-hmyz-9/
LOCATION:Jak chutná hmyz
CATEGORIES:Pro střední školy
END:VEVENT
BEGIN:VEVENT
DTSTART;TZID=Europe/Prague:20230426T110000
DTEND;TZID=Europe/Prague:20230426T114500
DTSTAMP:20260420T070702
CREATED:20230331T121306Z
LAST-MODIFIED:20230331T121306Z
UID:12400-1682506800-1682509500@zazijvedu.cz
SUMMARY:DIAGNÓZA: PLEŤ
DESCRIPTION:DIAGNÓZA: PLEŤ
URL:https://zazijvedu.cz/event/diagnoza-plet-11/
LOCATION:Diagnóza: Pleť
CATEGORIES:Pro střední školy
END:VEVENT
BEGIN:VEVENT
DTSTART;TZID=Europe/Prague:20230426T110000
DTEND;TZID=Europe/Prague:20230426T114500
DTSTAMP:20260420T070702
CREATED:20230331T121151Z
LAST-MODIFIED:20230331T121151Z
UID:12396-1682506800-1682509500@zazijvedu.cz
SUMMARY:VOŇAVÝ SVĚT KOSMETIKY
DESCRIPTION:VOŇAVÝ SVĚT KOSMETIKY
URL:https://zazijvedu.cz/event/vonavy-svet-kosmetiky-5/
LOCATION:Voňavý svět kosmetiky
CATEGORIES:Pro střední školy
END:VEVENT
BEGIN:VEVENT
DTSTART;TZID=Europe/Prague:20230426T110000
DTEND;TZID=Europe/Prague:20230426T114500
DTSTAMP:20260420T070702
CREATED:20230331T121054Z
LAST-MODIFIED:20230331T121054Z
UID:12392-1682506800-1682509500@zazijvedu.cz
SUMMARY:MICELA - ZÁZRAČNÝ MAGNET NA NEČISTOTY
DESCRIPTION:MICELA – ZÁZRAČNÝ MAGNET NA NEČISTOTY
URL:https://zazijvedu.cz/event/micela-zazracny-magnet-na-necistoty-9/
LOCATION:Micela – zázračný magnet na nečistoty
CATEGORIES:Pro střední školy
END:VEVENT
BEGIN:VEVENT
DTSTART;TZID=Europe/Prague:20230426T110000
DTEND;TZID=Europe/Prague:20230426T114500
DTSTAMP:20260420T070702
CREATED:20230331T120744Z
LAST-MODIFIED:20230331T120744Z
UID:12386-1682506800-1682509500@zazijvedu.cz
SUMMARY:PIEZOELEKTRICKÉ A TRIBOELEKTRICKÉ GENERÁTORY ELEKTŘINY
DESCRIPTION:PIEZOELEKTRICKÉ A TRIBOELEKTRICKÉ GENERÁTORY ELEKTŘINY
URL:https://zazijvedu.cz/event/piezoelektricke-a-triboelektricke-generatory-elektriny/
LOCATION:PIEZOELEKTRICKÉ A TRIBOELEKTRICKÉ GENERÁTORY ELEKTŘINY
CATEGORIES:Pro střední školy
END:VEVENT
BEGIN:VEVENT
DTSTART;TZID=Europe/Prague:20230426T110000
DTEND;TZID=Europe/Prague:20230426T114500
DTSTAMP:20260420T070702
CREATED:20230331T120557Z
LAST-MODIFIED:20230331T120947Z
UID:12382-1682506800-1682509500@zazijvedu.cz
SUMMARY:Reologie aneb jak materiály tečou
DESCRIPTION:Reologie aneb jak materiály tečou
URL:https://zazijvedu.cz/event/reologie-aneb-jak-materialy-tecou-5/
LOCATION:REOLOGIE ANEB JAK MATERIÁLY TEČOU
CATEGORIES:Pro střední školy
END:VEVENT
BEGIN:VEVENT
DTSTART;TZID=Europe/Prague:20230426T110000
DTEND;TZID=Europe/Prague:20230426T114500
DTSTAMP:20260420T070702
CREATED:20230331T120142Z
LAST-MODIFIED:20230331T120242Z
UID:12378-1682506800-1682509500@zazijvedu.cz
SUMMARY:3D Bio Tisk
DESCRIPTION:3D Bio Tisk
URL:https://zazijvedu.cz/event/3d-bio-tisk-11/
LOCATION:3D bio tisk
CATEGORIES:Pro střední školy
END:VEVENT
BEGIN:VEVENT
DTSTART;TZID=Europe/Prague:20230426T100000
DTEND;TZID=Europe/Prague:20230426T104500
DTSTAMP:20260420T070702
CREATED:20230328T211301Z
LAST-MODIFIED:20230328T211301Z
UID:12282-1682503200-1682505900@zazijvedu.cz
SUMMARY:TOXICKÝ SVĚT KOLEM NÁS
DESCRIPTION:TOXICKÝ SVĚT KOLEM NÁS
URL:https://zazijvedu.cz/event/toxicky-svet-kolem-nas-10/
LOCATION:Toxický svět kolem nás
CATEGORIES:Pro střední školy
END:VEVENT
BEGIN:VEVENT
DTSTART;TZID=Europe/Prague:20230426T100000
DTEND;TZID=Europe/Prague:20230426T104500
DTSTAMP:20260420T070702
CREATED:20230328T211006Z
LAST-MODIFIED:20230328T211006Z
UID:12277-1682503200-1682505900@zazijvedu.cz
SUMMARY:SLADKÉ MÁMENÍ
DESCRIPTION:SLADKÉ MÁMENÍ
URL:https://zazijvedu.cz/event/sladke-mameni-10/
LOCATION:Sladké mámení
CATEGORIES:Pro střední školy
END:VEVENT
END:VCALENDAR