BEGIN:VCALENDAR
VERSION:2.0
PRODID:-//Zažij vědu - ECPv6.15.20//NONSGML v1.0//EN
CALSCALE:GREGORIAN
METHOD:PUBLISH
X-WR-CALNAME:Zažij vědu
X-ORIGINAL-URL:https://zazijvedu.cz
X-WR-CALDESC:Akce na Zažij vědu
REFRESH-INTERVAL;VALUE=DURATION:PT1H
X-Robots-Tag:noindex
X-PUBLISHED-TTL:PT1H
BEGIN:VTIMEZONE
TZID:Europe/Prague
BEGIN:DAYLIGHT
TZOFFSETFROM:+0100
TZOFFSETTO:+0200
TZNAME:CEST
DTSTART:20240331T010000
END:DAYLIGHT
BEGIN:STANDARD
TZOFFSETFROM:+0200
TZOFFSETTO:+0100
TZNAME:CET
DTSTART:20241027T010000
END:STANDARD
BEGIN:DAYLIGHT
TZOFFSETFROM:+0100
TZOFFSETTO:+0200
TZNAME:CEST
DTSTART:20250330T010000
END:DAYLIGHT
BEGIN:STANDARD
TZOFFSETFROM:+0200
TZOFFSETTO:+0100
TZNAME:CET
DTSTART:20251026T010000
END:STANDARD
BEGIN:DAYLIGHT
TZOFFSETFROM:+0100
TZOFFSETTO:+0200
TZNAME:CEST
DTSTART:20260329T010000
END:DAYLIGHT
BEGIN:STANDARD
TZOFFSETFROM:+0200
TZOFFSETTO:+0100
TZNAME:CET
DTSTART:20261025T010000
END:STANDARD
END:VTIMEZONE
BEGIN:VEVENT
DTSTART;TZID=Europe/Prague:20250422T090000
DTEND;TZID=Europe/Prague:20250422T100000
DTSTAMP:20260420T073157
CREATED:20250314T112537Z
LAST-MODIFIED:20250314T112537Z
UID:14265-1745312400-1745316000@zazijvedu.cz
SUMMARY:Jak chutná hmyz
DESCRIPTION:Jak chutná hmyz
URL:https://zazijvedu.cz/event/jak-chutna-hmyz-19/
LOCATION:Jak chutná hmyz
CATEGORIES:Pro střední školy
END:VEVENT
BEGIN:VEVENT
DTSTART;TZID=Europe/Prague:20250422T090000
DTEND;TZID=Europe/Prague:20250422T100000
DTSTAMP:20260420T073157
CREATED:20250314T134928Z
LAST-MODIFIED:20250314T135121Z
UID:14217-1745312400-1745316000@zazijvedu.cz
SUMMARY:ČokoLanýž: Zlato mezi lanýži
DESCRIPTION:ČokoLanýž: Zlato mezi lanýži
URL:https://zazijvedu.cz/event/cokolanyz-zlato-mezi-lanyzi-7/
LOCATION:ČOKOLANÝŽ: ZLATO MEZI LANÝŽI
CATEGORIES:Pro střední školy
END:VEVENT
BEGIN:VEVENT
DTSTART;TZID=Europe/Prague:20250422T090000
DTEND;TZID=Europe/Prague:20250422T100000
DTSTAMP:20260420T073157
CREATED:20250317T065110Z
LAST-MODIFIED:20250317T065110Z
UID:14456-1745312400-1745316000@zazijvedu.cz
SUMMARY:Žijte výživně
DESCRIPTION:Žijte výživně
URL:https://zazijvedu.cz/event/zijte-vyzivne-19/
LOCATION:Žijte výživně
CATEGORIES:Pro střední školy
END:VEVENT
BEGIN:VEVENT
DTSTART;TZID=Europe/Prague:20250422T100000
DTEND;TZID=Europe/Prague:20250422T110000
DTSTAMP:20260420T073157
CREATED:20250314T112630Z
LAST-MODIFIED:20250314T112630Z
UID:14267-1745316000-1745319600@zazijvedu.cz
SUMMARY:Jak chutná hmyz
DESCRIPTION:Jak chutná hmyz
URL:https://zazijvedu.cz/event/jak-chutna-hmyz-20/
LOCATION:Jak chutná hmyz
CATEGORIES:Pro střední školy
END:VEVENT
BEGIN:VEVENT
DTSTART;TZID=Europe/Prague:20250422T100000
DTEND;TZID=Europe/Prague:20250422T110000
DTSTAMP:20260420T073157
CREATED:20250314T135010Z
LAST-MODIFIED:20250314T135010Z
UID:14361-1745316000-1745319600@zazijvedu.cz
SUMMARY:ČokoLanýž: Zlato mezi lanýži
DESCRIPTION:ČokoLanýž: Zlato mezi lanýži
URL:https://zazijvedu.cz/event/cokolanyz-zlato-mezi-lanyzi-8/
LOCATION:ČOKOLANÝŽ: ZLATO MEZI LANÝŽI
CATEGORIES:Pro střední školy
END:VEVENT
BEGIN:VEVENT
DTSTART;TZID=Europe/Prague:20250422T100000
DTEND;TZID=Europe/Prague:20250422T110000
DTSTAMP:20260420T073157
CREATED:20250317T065156Z
LAST-MODIFIED:20250317T065156Z
UID:14458-1745316000-1745319600@zazijvedu.cz
SUMMARY:Žijte výživně
DESCRIPTION:Žijte výživně
URL:https://zazijvedu.cz/event/zijte-vyzivne-20/
LOCATION:Žijte výživně
CATEGORIES:Pro střední školy
END:VEVENT
BEGIN:VEVENT
DTSTART;TZID=Europe/Prague:20250422T110000
DTEND;TZID=Europe/Prague:20250422T120000
DTSTAMP:20260420T073157
CREATED:20250314T112717Z
LAST-MODIFIED:20250314T112717Z
UID:14269-1745319600-1745323200@zazijvedu.cz
SUMMARY:Jak chutná hmyz
DESCRIPTION:
URL:https://zazijvedu.cz/event/jak-chutna-hmyz-21/
LOCATION:Jak chutná hmyz
CATEGORIES:Pro střední školy
END:VEVENT
BEGIN:VEVENT
DTSTART;TZID=Europe/Prague:20250422T110000
DTEND;TZID=Europe/Prague:20250422T120000
DTSTAMP:20260420T073157
CREATED:20250314T135153Z
LAST-MODIFIED:20250314T135153Z
UID:14364-1745319600-1745323200@zazijvedu.cz
SUMMARY:ČokoLanýž: Zlato mezi lanýži
DESCRIPTION:ČokoLanýž: Zlato mezi lanýži
URL:https://zazijvedu.cz/event/cokolanyz-zlato-mezi-lanyzi-9/
LOCATION:ČOKOLANÝŽ: ZLATO MEZI LANÝŽI
CATEGORIES:Pro střední školy
END:VEVENT
BEGIN:VEVENT
DTSTART;TZID=Europe/Prague:20250422T110000
DTEND;TZID=Europe/Prague:20250422T120000
DTSTAMP:20260420T073157
CREATED:20250317T065322Z
LAST-MODIFIED:20250317T065337Z
UID:14460-1745319600-1745323200@zazijvedu.cz
SUMMARY:Žijte výživně
DESCRIPTION:Žijte výživně
URL:https://zazijvedu.cz/event/zijte-vyzivne-21/
LOCATION:Žijte výživně
CATEGORIES:Pro střední školy
END:VEVENT
BEGIN:VEVENT
DTSTART;TZID=Europe/Prague:20250422T120000
DTEND;TZID=Europe/Prague:20250422T120000
DTSTAMP:20260420T073158
CREATED:20250314T135223Z
LAST-MODIFIED:20250314T135223Z
UID:14366-1745323200-1745323200@zazijvedu.cz
SUMMARY:ČokoLanýž: Zlato mezi lanýži
DESCRIPTION:ČokoLanýž: Zlato mezi lanýži
URL:https://zazijvedu.cz/event/cokolanyz-zlato-mezi-lanyzi-10/
LOCATION:ČOKOLANÝŽ: ZLATO MEZI LANÝŽI
CATEGORIES:Pro střední školy
END:VEVENT
BEGIN:VEVENT
DTSTART;TZID=Europe/Prague:20250422T120000
DTEND;TZID=Europe/Prague:20250422T130000
DTSTAMP:20260420T073158
CREATED:20250314T112807Z
LAST-MODIFIED:20250314T112807Z
UID:14271-1745323200-1745326800@zazijvedu.cz
SUMMARY:Jak chutná hmyz
DESCRIPTION:Jak chutná hmyz
URL:https://zazijvedu.cz/event/jak-chutna-hmyz-22/
LOCATION:Jak chutná hmyz
CATEGORIES:Pro střední školy
END:VEVENT
BEGIN:VEVENT
DTSTART;TZID=Europe/Prague:20250422T120000
DTEND;TZID=Europe/Prague:20250422T130000
DTSTAMP:20260420T073158
CREATED:20250317T065423Z
LAST-MODIFIED:20250317T065423Z
UID:14463-1745323200-1745326800@zazijvedu.cz
SUMMARY:Žijte výživně
DESCRIPTION:Žijte výživně
URL:https://zazijvedu.cz/event/zijte-vyzivne-22/
LOCATION:Žijte výživně
CATEGORIES:Pro střední školy
END:VEVENT
BEGIN:VEVENT
DTSTART;TZID=Europe/Prague:20250422T160000
DTEND;TZID=Europe/Prague:20250422T170000
DTSTAMP:20260420T073158
CREATED:20250314T113515Z
LAST-MODIFIED:20250314T113515Z
UID:14284-1745337600-1745341200@zazijvedu.cz
SUMMARY:Jak chutná hmyz
DESCRIPTION:Jak chutná hmyz
URL:https://zazijvedu.cz/event/jak-chutna-hmyz-28/
LOCATION:Jak chutná hmyz
CATEGORIES:Pro veřejnost
END:VEVENT
BEGIN:VEVENT
DTSTART;TZID=Europe/Prague:20250422T160000
DTEND;TZID=Europe/Prague:20250422T170000
DTSTAMP:20260420T073158
CREATED:20250314T135642Z
LAST-MODIFIED:20250314T135840Z
UID:14381-1745337600-1745341200@zazijvedu.cz
SUMMARY:ČokoLanýž: Zlato mezi lanýži
DESCRIPTION:ČokoLanýž: Zlato mezi lanýži
URL:https://zazijvedu.cz/event/cokolanyz-zlato-mezi-lanyzi-16/
LOCATION:ČOKOLANÝŽ: ZLATO MEZI LANÝŽI
CATEGORIES:Pro veřejnost
END:VEVENT
BEGIN:VEVENT
DTSTART;TZID=Europe/Prague:20250422T160000
DTEND;TZID=Europe/Prague:20250422T170000
DTSTAMP:20260420T073158
CREATED:20250317T070015Z
LAST-MODIFIED:20250317T070015Z
UID:14477-1745337600-1745341200@zazijvedu.cz
SUMMARY:Žijte výživně
DESCRIPTION:Žijte výživně
URL:https://zazijvedu.cz/event/zijte-vyzivne-28/
LOCATION:Žijte výživně
CATEGORIES:Pro veřejnost
END:VEVENT
END:VCALENDAR