BEGIN:VCALENDAR
VERSION:2.0
PRODID:-//Zažij vědu - ECPv6.15.20//NONSGML v1.0//EN
CALSCALE:GREGORIAN
METHOD:PUBLISH
X-ORIGINAL-URL:https://zazijvedu.cz
X-WR-CALDESC:Akce na Zažij vědu
REFRESH-INTERVAL;VALUE=DURATION:PT1H
X-Robots-Tag:noindex
X-PUBLISHED-TTL:PT1H
BEGIN:VTIMEZONE
TZID:Europe/Prague
BEGIN:DAYLIGHT
TZOFFSETFROM:+0100
TZOFFSETTO:+0200
TZNAME:CEST
DTSTART:20240331T010000
END:DAYLIGHT
BEGIN:STANDARD
TZOFFSETFROM:+0200
TZOFFSETTO:+0100
TZNAME:CET
DTSTART:20241027T010000
END:STANDARD
BEGIN:DAYLIGHT
TZOFFSETFROM:+0100
TZOFFSETTO:+0200
TZNAME:CEST
DTSTART:20250330T010000
END:DAYLIGHT
BEGIN:STANDARD
TZOFFSETFROM:+0200
TZOFFSETTO:+0100
TZNAME:CET
DTSTART:20251026T010000
END:STANDARD
BEGIN:DAYLIGHT
TZOFFSETFROM:+0100
TZOFFSETTO:+0200
TZNAME:CEST
DTSTART:20260329T010000
END:DAYLIGHT
BEGIN:STANDARD
TZOFFSETFROM:+0200
TZOFFSETTO:+0100
TZNAME:CET
DTSTART:20261025T010000
END:STANDARD
END:VTIMEZONE
BEGIN:VEVENT
DTSTART;TZID=Europe/Prague:20250423T090000
DTEND;TZID=Europe/Prague:20250423T100000
DTSTAMP:20260420T073345
CREATED:20250314T112856Z
LAST-MODIFIED:20250314T112856Z
UID:14273-1745398800-1745402400@zazijvedu.cz
SUMMARY:Jak chutná hmyz
DESCRIPTION:Jak chutná hmyz
URL:https://zazijvedu.cz/event/jak-chutna-hmyz-23/
LOCATION:Jak chutná hmyz
CATEGORIES:Pro střední školy
END:VEVENT
BEGIN:VEVENT
DTSTART;TZID=Europe/Prague:20250423T090000
DTEND;TZID=Europe/Prague:20250423T100000
DTSTAMP:20260420T073345
CREATED:20250314T135302Z
LAST-MODIFIED:20250314T135302Z
UID:14368-1745398800-1745402400@zazijvedu.cz
SUMMARY:ČokoLanýž: Zlato mezi lanýži
DESCRIPTION:ČokoLanýž: Zlato mezi lanýži
URL:https://zazijvedu.cz/event/cokolanyz-zlato-mezi-lanyzi-11/
LOCATION:ČOKOLANÝŽ: ZLATO MEZI LANÝŽI
CATEGORIES:Pro střední školy
END:VEVENT
BEGIN:VEVENT
DTSTART;TZID=Europe/Prague:20250423T090000
DTEND;TZID=Europe/Prague:20250423T100000
DTSTAMP:20260420T073345
CREATED:20250317T065526Z
LAST-MODIFIED:20250317T065526Z
UID:14465-1745398800-1745402400@zazijvedu.cz
SUMMARY:Žijte výživně
DESCRIPTION:Žijte výživně
URL:https://zazijvedu.cz/event/zijte-vyzivne-23/
LOCATION:Žijte výživně
CATEGORIES:Pro střední školy
END:VEVENT
BEGIN:VEVENT
DTSTART;TZID=Europe/Prague:20250423T100000
DTEND;TZID=Europe/Prague:20250423T110000
DTSTAMP:20260420T073345
CREATED:20250314T112958Z
LAST-MODIFIED:20250314T113021Z
UID:14275-1745402400-1745406000@zazijvedu.cz
SUMMARY:Jak chutná hmyz
DESCRIPTION:Jak chutná hmyz
URL:https://zazijvedu.cz/event/jak-chutna-hmyz-24/
LOCATION:Jak chutná hmyz
CATEGORIES:Pro střední školy
END:VEVENT
BEGIN:VEVENT
DTSTART;TZID=Europe/Prague:20250423T100000
DTEND;TZID=Europe/Prague:20250423T110000
DTSTAMP:20260420T073345
CREATED:20250314T135336Z
LAST-MODIFIED:20250314T135336Z
UID:14370-1745402400-1745406000@zazijvedu.cz
SUMMARY:ČokoLanýž: Zlato mezi lanýži
DESCRIPTION:ČokoLanýž: Zlato mezi lanýži
URL:https://zazijvedu.cz/event/cokolanyz-zlato-mezi-lanyzi-12/
LOCATION:ČOKOLANÝŽ: ZLATO MEZI LANÝŽI
CATEGORIES:Pro střední školy
END:VEVENT
BEGIN:VEVENT
DTSTART;TZID=Europe/Prague:20250423T100000
DTEND;TZID=Europe/Prague:20250423T110000
DTSTAMP:20260420T073345
CREATED:20250317T065605Z
LAST-MODIFIED:20250317T065605Z
UID:14467-1745402400-1745406000@zazijvedu.cz
SUMMARY:Žijte výživně
DESCRIPTION:Žijte výživně
URL:https://zazijvedu.cz/event/zijte-vyzivne-24/
LOCATION:Žijte výživně
CATEGORIES:Pro střední školy
END:VEVENT
BEGIN:VEVENT
DTSTART;TZID=Europe/Prague:20250423T110000
DTEND;TZID=Europe/Prague:20250423T120000
DTSTAMP:20260420T073345
CREATED:20250314T113113Z
LAST-MODIFIED:20250314T113113Z
UID:14277-1745406000-1745409600@zazijvedu.cz
SUMMARY:Jak chutná hmyz
DESCRIPTION:Jak chutná hmyz
URL:https://zazijvedu.cz/event/jak-chutna-hmyz-25/
LOCATION:Jak chutná hmyz
CATEGORIES:Pro střední školy
END:VEVENT
BEGIN:VEVENT
DTSTART;TZID=Europe/Prague:20250423T110000
DTEND;TZID=Europe/Prague:20250423T120000
DTSTAMP:20260420T073345
CREATED:20250314T135407Z
LAST-MODIFIED:20250314T135407Z
UID:14372-1745406000-1745409600@zazijvedu.cz
SUMMARY:ČokoLanýž: Zlato mezi lanýži
DESCRIPTION:ČokoLanýž: Zlato mezi lanýži
URL:https://zazijvedu.cz/event/cokolanyz-zlato-mezi-lanyzi-13/
LOCATION:ČOKOLANÝŽ: ZLATO MEZI LANÝŽI
CATEGORIES:Pro střední školy
END:VEVENT
BEGIN:VEVENT
DTSTART;TZID=Europe/Prague:20250423T110000
DTEND;TZID=Europe/Prague:20250423T120000
DTSTAMP:20260420T073345
CREATED:20250317T065652Z
LAST-MODIFIED:20250317T065652Z
UID:14469-1745406000-1745409600@zazijvedu.cz
SUMMARY:Žijte výživně
DESCRIPTION:Žijte výživně
URL:https://zazijvedu.cz/event/zijte-vyzivne-25/
LOCATION:Žijte výživně
CATEGORIES:Pro střední školy
END:VEVENT
BEGIN:VEVENT
DTSTART;TZID=Europe/Prague:20250423T120000
DTEND;TZID=Europe/Prague:20250423T130000
DTSTAMP:20260420T073345
CREATED:20250314T113201Z
LAST-MODIFIED:20250314T113201Z
UID:14279-1745409600-1745413200@zazijvedu.cz
SUMMARY:Jak chutná hmyz
DESCRIPTION:Jak chutná hmyz
URL:https://zazijvedu.cz/event/jak-chutna-hmyz-26/
LOCATION:Jak chutná hmyz
CATEGORIES:Pro střední školy
END:VEVENT
BEGIN:VEVENT
DTSTART;TZID=Europe/Prague:20250423T120000
DTEND;TZID=Europe/Prague:20250423T130000
DTSTAMP:20260420T073345
CREATED:20250314T135442Z
LAST-MODIFIED:20250314T135442Z
UID:14374-1745409600-1745413200@zazijvedu.cz
SUMMARY:ČokoLanýž: Zlato mezi lanýži
DESCRIPTION:ČokoLanýž: Zlato mezi lanýži
URL:https://zazijvedu.cz/event/cokolanyz-zlato-mezi-lanyzi-14/
LOCATION:ČOKOLANÝŽ: ZLATO MEZI LANÝŽI
CATEGORIES:Pro střední školy
END:VEVENT
BEGIN:VEVENT
DTSTART;TZID=Europe/Prague:20250423T120000
DTEND;TZID=Europe/Prague:20250423T130000
DTSTAMP:20260420T073345
CREATED:20250314T135523Z
LAST-MODIFIED:20250314T135523Z
UID:14376-1745409600-1745413200@zazijvedu.cz
SUMMARY:ČokoLanýž: Zlato mezi lanýži
DESCRIPTION:ČokoLanýž: Zlato mezi lanýži
URL:https://zazijvedu.cz/event/cokolanyz-zlato-mezi-lanyzi-15/
LOCATION:ČOKOLANÝŽ: ZLATO MEZI LANÝŽI
CATEGORIES:Pro střední školy
END:VEVENT
BEGIN:VEVENT
DTSTART;TZID=Europe/Prague:20250423T120000
DTEND;TZID=Europe/Prague:20250423T130000
DTSTAMP:20260420T073345
CREATED:20250317T065739Z
LAST-MODIFIED:20250317T065739Z
UID:14471-1745409600-1745413200@zazijvedu.cz
SUMMARY:Žijte výživně
DESCRIPTION:Žijte výživně
URL:https://zazijvedu.cz/event/zijte-vyzivne-26/
LOCATION:Žijte výživně
CATEGORIES:Pro střední školy
END:VEVENT
END:VCALENDAR