BEGIN:VCALENDAR
VERSION:2.0
PRODID:-//Zažij vědu - ECPv6.15.20//NONSGML v1.0//EN
CALSCALE:GREGORIAN
METHOD:PUBLISH
X-WR-CALNAME:Zažij vědu
X-ORIGINAL-URL:https://zazijvedu.cz
X-WR-CALDESC:Akce na Zažij vědu
REFRESH-INTERVAL;VALUE=DURATION:PT1H
X-Robots-Tag:noindex
X-PUBLISHED-TTL:PT1H
BEGIN:VTIMEZONE
TZID:Europe/Prague
BEGIN:DAYLIGHT
TZOFFSETFROM:+0100
TZOFFSETTO:+0200
TZNAME:CEST
DTSTART:20190331T010000
END:DAYLIGHT
BEGIN:STANDARD
TZOFFSETFROM:+0200
TZOFFSETTO:+0100
TZNAME:CET
DTSTART:20191027T010000
END:STANDARD
BEGIN:DAYLIGHT
TZOFFSETFROM:+0100
TZOFFSETTO:+0200
TZNAME:CEST
DTSTART:20200329T010000
END:DAYLIGHT
BEGIN:STANDARD
TZOFFSETFROM:+0200
TZOFFSETTO:+0100
TZNAME:CET
DTSTART:20201025T010000
END:STANDARD
BEGIN:DAYLIGHT
TZOFFSETFROM:+0100
TZOFFSETTO:+0200
TZNAME:CEST
DTSTART:20210328T010000
END:DAYLIGHT
BEGIN:STANDARD
TZOFFSETFROM:+0200
TZOFFSETTO:+0100
TZNAME:CET
DTSTART:20211031T010000
END:STANDARD
BEGIN:DAYLIGHT
TZOFFSETFROM:+0100
TZOFFSETTO:+0200
TZNAME:CEST
DTSTART:20220327T010000
END:DAYLIGHT
BEGIN:STANDARD
TZOFFSETFROM:+0200
TZOFFSETTO:+0100
TZNAME:CET
DTSTART:20221030T010000
END:STANDARD
BEGIN:DAYLIGHT
TZOFFSETFROM:+0100
TZOFFSETTO:+0200
TZNAME:CEST
DTSTART:20230326T010000
END:DAYLIGHT
BEGIN:STANDARD
TZOFFSETFROM:+0200
TZOFFSETTO:+0100
TZNAME:CET
DTSTART:20231029T010000
END:STANDARD
BEGIN:DAYLIGHT
TZOFFSETFROM:+0100
TZOFFSETTO:+0200
TZNAME:CEST
DTSTART:20240331T010000
END:DAYLIGHT
BEGIN:STANDARD
TZOFFSETFROM:+0200
TZOFFSETTO:+0100
TZNAME:CET
DTSTART:20241027T010000
END:STANDARD
BEGIN:DAYLIGHT
TZOFFSETFROM:+0100
TZOFFSETTO:+0200
TZNAME:CEST
DTSTART:20250330T010000
END:DAYLIGHT
BEGIN:STANDARD
TZOFFSETFROM:+0200
TZOFFSETTO:+0100
TZNAME:CET
DTSTART:20251026T010000
END:STANDARD
END:VTIMEZONE
BEGIN:VEVENT
DTSTART;TZID=Europe/Prague:20240416T100000
DTEND;TZID=Europe/Prague:20240416T104500
DTSTAMP:20260420T013238
CREATED:20240307T140012Z
LAST-MODIFIED:20240307T140410Z
UID:13305-1713261600-1713264300@zazijvedu.cz
SUMMARY:ČOKOLANÝŽ: ZLATO MEZI LANÝŽI
DESCRIPTION:ČOKOLANÝŽ: ZLATO MEZI LANÝŽI
URL:https://zazijvedu.cz/event/cokolanyz-zlato-mezi-lanyzi-2/
LOCATION:ČOKOLANÝŽ: ZLATO MEZI LANÝŽI
CATEGORIES:Pro střední školy
END:VEVENT
BEGIN:VEVENT
DTSTART;TZID=Europe/Prague:20240416T100000
DTEND;TZID=Europe/Prague:20240416T104500
DTSTAMP:20260420T013238
CREATED:20240307T120631Z
LAST-MODIFIED:20240307T121014Z
UID:13248-1713261600-1713264300@zazijvedu.cz
SUMMARY:JAK CHUTNÁ HMYZ
DESCRIPTION:JAK CHUTNÁ HMYZ
URL:https://zazijvedu.cz/event/jak-chutna-hmyz-17/
LOCATION:Jak chutná hmyz
CATEGORIES:Pro střední školy
END:VEVENT
BEGIN:VEVENT
DTSTART;TZID=Europe/Prague:20240416T100000
DTEND;TZID=Europe/Prague:20240416T104500
DTSTAMP:20260420T013238
CREATED:20240306T130522Z
LAST-MODIFIED:20240306T130947Z
UID:13169-1713261600-1713264300@zazijvedu.cz
SUMMARY:Žijte výživně
DESCRIPTION:ŽIJTE VÝŽIVNĚ
URL:https://zazijvedu.cz/event/zijte-vyzivne-14/
LOCATION:Žijte výživně
CATEGORIES:Pro střední školy
END:VEVENT
BEGIN:VEVENT
DTSTART;TZID=Europe/Prague:20240416T090000
DTEND;TZID=Europe/Prague:20240416T094500
DTSTAMP:20260420T013238
CREATED:20240307T135934Z
LAST-MODIFIED:20240307T140402Z
UID:13304-1713258000-1713260700@zazijvedu.cz
SUMMARY:ČOKOLANÝŽ: ZLATO MEZI LANÝŽI
DESCRIPTION:ČOKOLANÝŽ: ZLATO MEZI LANÝŽI
URL:https://zazijvedu.cz/event/cokolanyz-zlato-mezi-lanyzi/
LOCATION:ČOKOLANÝŽ: ZLATO MEZI LANÝŽI
CATEGORIES:Pro střední školy
END:VEVENT
BEGIN:VEVENT
DTSTART;TZID=Europe/Prague:20240416T090000
DTEND;TZID=Europe/Prague:20240416T094500
DTSTAMP:20260420T013238
CREATED:20240307T120712Z
LAST-MODIFIED:20240307T121021Z
UID:13247-1713258000-1713260700@zazijvedu.cz
SUMMARY:JAK CHUTNÁ HMYZ
DESCRIPTION:JAK CHUTNÁ HMYZ
URL:https://zazijvedu.cz/event/jak-chutna-hmyz-18/
LOCATION:Jak chutná hmyz
CATEGORIES:Pro střední školy
END:VEVENT
BEGIN:VEVENT
DTSTART;TZID=Europe/Prague:20240416T090000
DTEND;TZID=Europe/Prague:20240416T094500
DTSTAMP:20260420T013238
CREATED:20240306T130438Z
LAST-MODIFIED:20240306T131014Z
UID:13167-1713258000-1713260700@zazijvedu.cz
SUMMARY:Žijte výživně
DESCRIPTION:ŽIJTE VÝŽIVNĚ
URL:https://zazijvedu.cz/event/zijte-vyzivne-13/
LOCATION:Žijte výživně
CATEGORIES:Pro střední školy
END:VEVENT
BEGIN:VEVENT
DTSTART;TZID=Europe/Prague:20230426T160000
DTEND;TZID=Europe/Prague:20230426T164500
DTSTAMP:20260420T013238
CREATED:20230328T094704Z
LAST-MODIFIED:20230328T094951Z
UID:12179-1682524800-1682527500@zazijvedu.cz
SUMMARY:JAK CHUTNÁ HMYZ
DESCRIPTION:JAK CHUTNÁ HMYZ
URL:https://zazijvedu.cz/event/jak-chutna-hmyz-11/
LOCATION:Jak chutná hmyz
CATEGORIES:Pro veřejnost
END:VEVENT
BEGIN:VEVENT
DTSTART;TZID=Europe/Prague:20230426T160000
DTEND;TZID=Europe/Prague:20230426T164500
DTSTAMP:20260420T013238
CREATED:20230328T094436Z
LAST-MODIFIED:20230328T094436Z
UID:12170-1682524800-1682527500@zazijvedu.cz
SUMMARY:ŽIJTE VÝŽIVNĚ
DESCRIPTION:ŽIJTE VÝŽIVNĚ
URL:https://zazijvedu.cz/event/zijte-vyzivne-10/
LOCATION:Žijte výživně
CATEGORIES:Pro veřejnost
END:VEVENT
BEGIN:VEVENT
DTSTART;TZID=Europe/Prague:20230426T150000
DTEND;TZID=Europe/Prague:20230426T154500
DTSTAMP:20260420T013238
CREATED:20230328T094624Z
LAST-MODIFIED:20230328T094624Z
UID:12176-1682521200-1682523900@zazijvedu.cz
SUMMARY:JAK CHUTNÁ HMYZ
DESCRIPTION:JAK CHUTNÁ HMYZ
URL:https://zazijvedu.cz/event/jak-chutna-hmyz-10/
LOCATION:Jak chutná hmyz
CATEGORIES:Pro veřejnost
END:VEVENT
BEGIN:VEVENT
DTSTART;TZID=Europe/Prague:20230426T150000
DTEND;TZID=Europe/Prague:20230426T154500
DTSTAMP:20260420T013238
CREATED:20230328T094351Z
LAST-MODIFIED:20230328T094351Z
UID:12166-1682521200-1682523900@zazijvedu.cz
SUMMARY:ŽIJTE VÝŽIVNĚ
DESCRIPTION:ŽIJTE VÝŽIVNĚ
URL:https://zazijvedu.cz/event/zijte-vyzivne-9/
LOCATION:Žijte výživně
CATEGORIES:Pro veřejnost
END:VEVENT
BEGIN:VEVENT
DTSTART;TZID=Europe/Prague:20230426T100000
DTEND;TZID=Europe/Prague:20230426T104500
DTSTAMP:20260420T013238
CREATED:20230328T074828Z
LAST-MODIFIED:20230328T074828Z
UID:12139-1682503200-1682505900@zazijvedu.cz
SUMMARY:ŽIJTE VÝŽIVNĚ
DESCRIPTION:ŽIJTE VÝŽIVNĚ
URL:https://zazijvedu.cz/event/zijte-vyzivne-8/
LOCATION:Žijte výživně
CATEGORIES:Pro střední školy
END:VEVENT
BEGIN:VEVENT
DTSTART;TZID=Europe/Prague:20230426T100000
DTEND;TZID=Europe/Prague:20230426T104500
DTSTAMP:20260420T013238
CREATED:20230328T073922Z
LAST-MODIFIED:20230328T074010Z
UID:12119-1682503200-1682505900@zazijvedu.cz
SUMMARY:JAK CHUTNÁ HMYZ
DESCRIPTION:JAK CHUTNÁ HMYZ
URL:https://zazijvedu.cz/event/jak-chutna-hmyz-8/
LOCATION:Jak chutná hmyz
CATEGORIES:Pro střední školy
END:VEVENT
BEGIN:VEVENT
DTSTART;TZID=Europe/Prague:20230426T090000
DTEND;TZID=Europe/Prague:20230426T094500
DTSTAMP:20260420T013238
CREATED:20230328T074747Z
LAST-MODIFIED:20230328T074747Z
UID:12137-1682499600-1682502300@zazijvedu.cz
SUMMARY:ŽIJTE VÝŽIVNĚ
DESCRIPTION:ŽIJTE VÝŽIVNĚ
URL:https://zazijvedu.cz/event/zijte-vyzivne-7/
LOCATION:Žijte výživně
CATEGORIES:Pro střední školy
END:VEVENT
BEGIN:VEVENT
DTSTART;TZID=Europe/Prague:20230426T090000
DTEND;TZID=Europe/Prague:20230426T094500
DTSTAMP:20260420T013238
CREATED:20230328T073828Z
LAST-MODIFIED:20230328T073828Z
UID:12117-1682499600-1682502300@zazijvedu.cz
SUMMARY:JAK CHUTNÁ HMYZ
DESCRIPTION:JAK CHUTNÁ HMYZ
URL:https://zazijvedu.cz/event/jak-chutna-hmyz-7/
LOCATION:Jak chutná hmyz
CATEGORIES:Pro střední školy
END:VEVENT
BEGIN:VEVENT
DTSTART;TZID=Europe/Prague:20220427T150000
DTEND;TZID=Europe/Prague:20220427T154500
DTSTAMP:20260420T013238
CREATED:20220323T105626Z
LAST-MODIFIED:20220323T105626Z
UID:11262-1651071600-1651074300@zazijvedu.cz
SUMMARY:Jak chutná hmyz
DESCRIPTION:JAK CHUTNÁ HMYZ
URL:https://zazijvedu.cz/event/jak-chutna-hmyz-4/
LOCATION:Jak chutná hmyz
CATEGORIES:Pro veřejnost
END:VEVENT
BEGIN:VEVENT
DTSTART;TZID=Europe/Prague:20220427T150000
DTEND;TZID=Europe/Prague:20220427T154500
DTSTAMP:20260420T013238
CREATED:20220318T131111Z
LAST-MODIFIED:20220324T071942Z
UID:10831-1651071600-1651074300@zazijvedu.cz
SUMMARY:Žijte výživně
DESCRIPTION:ŽIJTE VÝŽIVNĚ
URL:https://zazijvedu.cz/event/zijte-vyzivne-6/
LOCATION:Žijte výživně
CATEGORIES:Pro veřejnost
END:VEVENT
BEGIN:VEVENT
DTSTART;TZID=Europe/Prague:20220427T140000
DTEND;TZID=Europe/Prague:20220427T144500
DTSTAMP:20260420T013238
CREATED:20220323T105752Z
LAST-MODIFIED:20220323T105752Z
UID:11265-1651068000-1651070700@zazijvedu.cz
SUMMARY:Jak chutná hmyz
DESCRIPTION:JAK CHUTNÁ HMYZ
URL:https://zazijvedu.cz/event/jak-chutna-hmyz-3/
LOCATION:Jak chutná hmyz
CATEGORIES:Pro veřejnost
END:VEVENT
BEGIN:VEVENT
DTSTART;TZID=Europe/Prague:20220427T140000
DTEND;TZID=Europe/Prague:20220427T144500
DTSTAMP:20260420T013238
CREATED:20220318T131032Z
LAST-MODIFIED:20220324T071939Z
UID:10828-1651068000-1651070700@zazijvedu.cz
SUMMARY:Žijte výživně
DESCRIPTION:ŽIJTE VÝŽIVNĚ
URL:https://zazijvedu.cz/event/zijte-vyzivne-5/
LOCATION:Žijte výživně
CATEGORIES:Pro veřejnost
END:VEVENT
BEGIN:VEVENT
DTSTART;TZID=Europe/Prague:20220427T120000
DTEND;TZID=Europe/Prague:20220427T124500
DTSTAMP:20260420T013238
CREATED:20220318T130914Z
LAST-MODIFIED:20220323T082604Z
UID:10826-1651060800-1651063500@zazijvedu.cz
SUMMARY:Žijte výživně
DESCRIPTION:ŽIJTE VÝŽIVNĚ\n– tento workshop má kapacitu omezenou na 12 míst
URL:https://zazijvedu.cz/event/zijte-vyzivne-4/
LOCATION:Žijte výživně
CATEGORIES:Pro střední školy
END:VEVENT
BEGIN:VEVENT
DTSTART;TZID=Europe/Prague:20220427T120000
DTEND;TZID=Europe/Prague:20220427T124500
DTSTAMP:20260420T013238
CREATED:20220318T130415Z
LAST-MODIFIED:20220323T085611Z
UID:10818-1651060800-1651063500@zazijvedu.cz
SUMMARY:Jak chutná hmyz
DESCRIPTION:JAK CHUTNÁ HMYZ\n– tento workshop má kapacitu omezenou na 15 míst
URL:https://zazijvedu.cz/event/jak-chutna-hmyz-6/
LOCATION:Jak chutná hmyz
CATEGORIES:Pro střední školy
END:VEVENT
BEGIN:VEVENT
DTSTART;TZID=Europe/Prague:20220427T110000
DTEND;TZID=Europe/Prague:20220427T114500
DTSTAMP:20260420T013238
CREATED:20220318T130833Z
LAST-MODIFIED:20220323T082610Z
UID:10824-1651057200-1651059900@zazijvedu.cz
SUMMARY:Žijte výživně
DESCRIPTION:ŽIJTE VÝŽIVNĚ\n– tento workshop má kapacitu omezenou na 12 míst
URL:https://zazijvedu.cz/event/zijte-vyzivne-3/
LOCATION:Žijte výživně
CATEGORIES:Pro střední školy
END:VEVENT
BEGIN:VEVENT
DTSTART;TZID=Europe/Prague:20220427T110000
DTEND;TZID=Europe/Prague:20220427T114500
DTSTAMP:20260420T013238
CREATED:20220318T130345Z
LAST-MODIFIED:20220323T085601Z
UID:10816-1651057200-1651059900@zazijvedu.cz
SUMMARY:Jak chutná hmyz
DESCRIPTION:JAK CHUTNÁ HMYZ\n– tento workshop má kapacitu omezenou na 15 míst
URL:https://zazijvedu.cz/event/jak-chutna-hmyz-5/
LOCATION:Jak chutná hmyz
CATEGORIES:Pro střední školy
END:VEVENT
BEGIN:VEVENT
DTSTART;TZID=Europe/Prague:20220427T100000
DTEND;TZID=Europe/Prague:20220427T104500
DTSTAMP:20260420T013238
CREATED:20220318T130802Z
LAST-MODIFIED:20220323T082615Z
UID:10822-1651053600-1651056300@zazijvedu.cz
SUMMARY:Žijte výživně
DESCRIPTION:ŽIJTE VÝŽIVNĚ\n– tento workshop má kapacitu omezenou na 12 míst
URL:https://zazijvedu.cz/event/zijte-vyzivne-2/
LOCATION:Žijte výživně
CATEGORIES:Pro střední školy
END:VEVENT
BEGIN:VEVENT
DTSTART;TZID=Europe/Prague:20220427T100000
DTEND;TZID=Europe/Prague:20220427T104500
DTSTAMP:20260420T013238
CREATED:20220318T130316Z
LAST-MODIFIED:20220323T082414Z
UID:10814-1651053600-1651056300@zazijvedu.cz
SUMMARY:Jak chutná hmyz
DESCRIPTION:JAK CHUTNÁ HMYZ\n– tento workshop má kapacitu omezenou na 15 míst
URL:https://zazijvedu.cz/event/jak-chutna-hmyz-2/
LOCATION:Jak chutná hmyz
CATEGORIES:Pro střední školy
END:VEVENT
BEGIN:VEVENT
DTSTART;TZID=Europe/Prague:20220427T090000
DTEND;TZID=Europe/Prague:20220427T094500
DTSTAMP:20260420T013238
CREATED:20220318T130733Z
LAST-MODIFIED:20220323T082621Z
UID:10820-1651050000-1651052700@zazijvedu.cz
SUMMARY:Žijte výživně
DESCRIPTION:ŽIJTE VÝŽIVNĚ\n– tento workshop má kapacitu omezenou na 12 míst
URL:https://zazijvedu.cz/event/zijte-vyzivne/
LOCATION:Žijte výživně
CATEGORIES:Pro střední školy
END:VEVENT
BEGIN:VEVENT
DTSTART;TZID=Europe/Prague:20220427T090000
DTEND;TZID=Europe/Prague:20220427T094500
DTSTAMP:20260420T013238
CREATED:20220318T123956Z
LAST-MODIFIED:20220323T090538Z
UID:10795-1651050000-1651052700@zazijvedu.cz
SUMMARY:Jak chutná hmyz
DESCRIPTION:JAK CHUTNÁ HMYZ\n– tento workshop má kapacitu omezenou na 15 míst
URL:https://zazijvedu.cz/event/jak-chutna-hmyz/
LOCATION:Jak chutná hmyz
CATEGORIES:Pro střední školy
END:VEVENT
BEGIN:VEVENT
DTSTART;TZID=Europe/Prague:20200225T150000
DTEND;TZID=Europe/Prague:20200225T154500
DTSTAMP:20260420T013238
CREATED:20200128T104056Z
LAST-MODIFIED:20200128T175523Z
UID:9139-1582642800-1582645500@zazijvedu.cz
SUMMARY:Sacharidy + tuky + bílkoviny = ?
DESCRIPTION:
URL:https://zazijvedu.cz/event/sacharidy-tuky-bilkoviny-6/
LOCATION:Sacharidy + tuky + bílkoviny = ?
CATEGORIES:Pro veřejnost
END:VEVENT
BEGIN:VEVENT
DTSTART;TZID=Europe/Prague:20200225T150000
DTEND;TZID=Europe/Prague:20200225T154500
DTSTAMP:20260420T013238
CREATED:20200127T081107Z
LAST-MODIFIED:20200127T081107Z
UID:9072-1582642800-1582645500@zazijvedu.cz
SUMMARY:Brouci na talíři
DESCRIPTION:
URL:https://zazijvedu.cz/event/brouci-na-taliri-23/
LOCATION:Jak chutná hmyz
CATEGORIES:Pro veřejnost
END:VEVENT
BEGIN:VEVENT
DTSTART;TZID=Europe/Prague:20200225T140000
DTEND;TZID=Europe/Prague:20200225T144500
DTSTAMP:20260420T013238
CREATED:20200128T104007Z
LAST-MODIFIED:20200128T175535Z
UID:9136-1582639200-1582641900@zazijvedu.cz
SUMMARY:Sacharidy + tuky + bílkoviny = ?
DESCRIPTION:
URL:https://zazijvedu.cz/event/sacharidy-tuky-bilkoviny-5/
LOCATION:Sacharidy + tuky + bílkoviny = ?
CATEGORIES:Pro veřejnost
END:VEVENT
BEGIN:VEVENT
DTSTART;TZID=Europe/Prague:20200225T140000
DTEND;TZID=Europe/Prague:20200225T144500
DTSTAMP:20260420T013238
CREATED:20200127T081018Z
LAST-MODIFIED:20200127T122914Z
UID:9069-1582639200-1582641900@zazijvedu.cz
SUMMARY:Brouci na talíři
DESCRIPTION:
URL:https://zazijvedu.cz/event/brouci-na-taliri-22/
LOCATION:Jak chutná hmyz
CATEGORIES:Pro veřejnost
END:VEVENT
END:VCALENDAR