BEGIN:VCALENDAR
VERSION:2.0
PRODID:-//Zažij vědu - ECPv6.15.20//NONSGML v1.0//EN
CALSCALE:GREGORIAN
METHOD:PUBLISH
X-WR-CALNAME:Zažij vědu
X-ORIGINAL-URL:https://zazijvedu.cz
X-WR-CALDESC:Akce na Zažij vědu
REFRESH-INTERVAL;VALUE=DURATION:PT1H
X-Robots-Tag:noindex
X-PUBLISHED-TTL:PT1H
BEGIN:VTIMEZONE
TZID:Europe/Prague
BEGIN:DAYLIGHT
TZOFFSETFROM:+0100
TZOFFSETTO:+0200
TZNAME:CEST
DTSTART:20230326T010000
END:DAYLIGHT
BEGIN:STANDARD
TZOFFSETFROM:+0200
TZOFFSETTO:+0100
TZNAME:CET
DTSTART:20231029T010000
END:STANDARD
BEGIN:DAYLIGHT
TZOFFSETFROM:+0100
TZOFFSETTO:+0200
TZNAME:CEST
DTSTART:20240331T010000
END:DAYLIGHT
BEGIN:STANDARD
TZOFFSETFROM:+0200
TZOFFSETTO:+0100
TZNAME:CET
DTSTART:20241027T010000
END:STANDARD
BEGIN:DAYLIGHT
TZOFFSETFROM:+0100
TZOFFSETTO:+0200
TZNAME:CEST
DTSTART:20250330T010000
END:DAYLIGHT
BEGIN:STANDARD
TZOFFSETFROM:+0200
TZOFFSETTO:+0100
TZNAME:CET
DTSTART:20251026T010000
END:STANDARD
BEGIN:DAYLIGHT
TZOFFSETFROM:+0100
TZOFFSETTO:+0200
TZNAME:CEST
DTSTART:20260329T010000
END:DAYLIGHT
BEGIN:STANDARD
TZOFFSETFROM:+0200
TZOFFSETTO:+0100
TZNAME:CET
DTSTART:20261025T010000
END:STANDARD
BEGIN:DAYLIGHT
TZOFFSETFROM:+0100
TZOFFSETTO:+0200
TZNAME:CEST
DTSTART:20270328T010000
END:DAYLIGHT
BEGIN:STANDARD
TZOFFSETFROM:+0200
TZOFFSETTO:+0100
TZNAME:CET
DTSTART:20271031T010000
END:STANDARD
END:VTIMEZONE
BEGIN:VEVENT
DTSTART;TZID=Europe/Prague:20260423T120000
DTEND;TZID=Europe/Prague:20260423T124500
DTSTAMP:20260420T024030
CREATED:20260320T121518Z
LAST-MODIFIED:20260327T115549Z
UID:16252-1776945600-1776948300@zazijvedu.cz
SUMMARY:Proměny a vliv neviditelné hmoty
DESCRIPTION:Proměny a vliv neviditelné hmoty
URL:https://zazijvedu.cz/event/promeny-a-vliv-neviditelne-hmoty-8/
LOCATION:Proměny a vliv neviditelné hmoty
CATEGORIES:Pro střední školy
END:VEVENT
BEGIN:VEVENT
DTSTART;TZID=Europe/Prague:20260423T120000
DTEND;TZID=Europe/Prague:20260423T124500
DTSTAMP:20260420T024030
CREATED:20260320T112056Z
LAST-MODIFIED:20260327T115526Z
UID:16137-1776945600-1776948300@zazijvedu.cz
SUMMARY:Kosmické částice na dosah ruky
DESCRIPTION:Kosmické částice na dosah ruky
URL:https://zazijvedu.cz/event/kosmicke-castice-na-dosah-ruky-8/
LOCATION:Kosmické částice na dosah ruky
CATEGORIES:Pro střední školy
END:VEVENT
BEGIN:VEVENT
DTSTART;TZID=Europe/Prague:20260423T110000
DTEND;TZID=Europe/Prague:20260423T114500
DTSTAMP:20260420T024030
CREATED:20260320T121442Z
LAST-MODIFIED:20260327T115549Z
UID:16250-1776942000-1776944700@zazijvedu.cz
SUMMARY:Proměny a vliv neviditelné hmoty
DESCRIPTION:Proměny a vliv neviditelné hmoty
URL:https://zazijvedu.cz/event/promeny-a-vliv-neviditelne-hmoty-7/
LOCATION:Proměny a vliv neviditelné hmoty
CATEGORIES:Pro střední školy
END:VEVENT
BEGIN:VEVENT
DTSTART;TZID=Europe/Prague:20260423T110000
DTEND;TZID=Europe/Prague:20260423T114500
DTSTAMP:20260420T024030
CREATED:20260320T111946Z
LAST-MODIFIED:20260327T115525Z
UID:16134-1776942000-1776944700@zazijvedu.cz
SUMMARY:Kosmické částice na dosah ruky
DESCRIPTION:Kosmické částice na dosah ruky
URL:https://zazijvedu.cz/event/kosmicke-castice-na-dosah-ruky-7/
LOCATION:Kosmické částice na dosah ruky
CATEGORIES:Pro střední školy
END:VEVENT
BEGIN:VEVENT
DTSTART;TZID=Europe/Prague:20260423T100000
DTEND;TZID=Europe/Prague:20260423T104500
DTSTAMP:20260420T024030
CREATED:20260320T121408Z
LAST-MODIFIED:20260327T115548Z
UID:16248-1776938400-1776941100@zazijvedu.cz
SUMMARY:Proměny a vliv neviditelné hmoty
DESCRIPTION:Proměny a vliv neviditelné hmoty
URL:https://zazijvedu.cz/event/promeny-a-vliv-neviditelne-hmoty-6/
LOCATION:Proměny a vliv neviditelné hmoty
CATEGORIES:Pro střední školy
END:VEVENT
BEGIN:VEVENT
DTSTART;TZID=Europe/Prague:20260423T100000
DTEND;TZID=Europe/Prague:20260423T104500
DTSTAMP:20260420T024030
CREATED:20260320T111255Z
LAST-MODIFIED:20260327T115524Z
UID:16132-1776938400-1776941100@zazijvedu.cz
SUMMARY:Kosmické částice na dosah ruky
DESCRIPTION:Kosmické částice na dosah ruky
URL:https://zazijvedu.cz/event/kosmicke-castice-na-dosah-ruky-6/
LOCATION:Kosmické částice na dosah ruky
CATEGORIES:Pro střední školy
END:VEVENT
BEGIN:VEVENT
DTSTART;TZID=Europe/Prague:20260423T090000
DTEND;TZID=Europe/Prague:20260423T094500
DTSTAMP:20260420T024030
CREATED:20260320T121329Z
LAST-MODIFIED:20260327T115548Z
UID:16246-1776934800-1776937500@zazijvedu.cz
SUMMARY:Proměny a vliv neviditelné hmoty
DESCRIPTION:Proměny a vliv neviditelné hmoty
URL:https://zazijvedu.cz/event/promeny-a-vliv-neviditelne-hmoty-5/
LOCATION:Proměny a vliv neviditelné hmoty
CATEGORIES:Pro střední školy
END:VEVENT
BEGIN:VEVENT
DTSTART;TZID=Europe/Prague:20260423T090000
DTEND;TZID=Europe/Prague:20260423T094500
DTSTAMP:20260420T024030
CREATED:20260320T110344Z
LAST-MODIFIED:20260327T115524Z
UID:16130-1776934800-1776937500@zazijvedu.cz
SUMMARY:Kosmické částice na dosah ruky
DESCRIPTION:Kosmické částice na dosah ruky
URL:https://zazijvedu.cz/event/kosmicke-castice-na-dosah-ruky-5/
LOCATION:Kosmické částice na dosah ruky
CATEGORIES:Pro střední školy
END:VEVENT
BEGIN:VEVENT
DTSTART;TZID=Europe/Prague:20260422T160000
DTEND;TZID=Europe/Prague:20260422T164500
DTSTAMP:20260420T024030
CREATED:20260320T113021Z
LAST-MODIFIED:20260327T115527Z
UID:16142-1776873600-1776876300@zazijvedu.cz
SUMMARY:Kosmické částice na dosah ruky
DESCRIPTION:Kosmické částice na dosah ruky
URL:https://zazijvedu.cz/event/kosmicke-castice-na-dosah-ruky-10/
LOCATION:Kosmické částice na dosah ruky
CATEGORIES:Pro veřejnost
END:VEVENT
BEGIN:VEVENT
DTSTART;TZID=Europe/Prague:20260422T150000
DTEND;TZID=Europe/Prague:20260422T154500
DTSTAMP:20260420T024030
CREATED:20260320T121604Z
LAST-MODIFIED:20260327T115550Z
UID:16254-1776870000-1776872700@zazijvedu.cz
SUMMARY:Proměny a vliv neviditelné hmoty
DESCRIPTION:Proměny a vliv neviditelné hmoty
URL:https://zazijvedu.cz/event/promeny-a-vliv-neviditelne-hmoty-9/
LOCATION:Proměny a vliv neviditelné hmoty
CATEGORIES:Pro veřejnost
END:VEVENT
BEGIN:VEVENT
DTSTART;TZID=Europe/Prague:20260422T120000
DTEND;TZID=Europe/Prague:20260422T124500
DTSTAMP:20260420T024030
CREATED:20260320T121246Z
LAST-MODIFIED:20260327T115547Z
UID:16244-1776859200-1776861900@zazijvedu.cz
SUMMARY:Proměny a vliv neviditelné hmoty
DESCRIPTION:Proměny a vliv neviditelné hmoty
URL:https://zazijvedu.cz/event/promeny-a-vliv-neviditelne-hmoty-4/
LOCATION:Proměny a vliv neviditelné hmoty
CATEGORIES:Pro střední školy
END:VEVENT
BEGIN:VEVENT
DTSTART;TZID=Europe/Prague:20260422T120000
DTEND;TZID=Europe/Prague:20260422T124500
DTSTAMP:20260420T024030
CREATED:20260320T105436Z
LAST-MODIFIED:20260327T115523Z
UID:16128-1776859200-1776861900@zazijvedu.cz
SUMMARY:Kosmické částice na dosah ruky
DESCRIPTION:Kosmické částice na dosah ruky
URL:https://zazijvedu.cz/event/kosmicke-castice-na-dosah-ruky-4/
LOCATION:Kosmické částice na dosah ruky
CATEGORIES:Pro střední školy
END:VEVENT
BEGIN:VEVENT
DTSTART;TZID=Europe/Prague:20260422T110000
DTEND;TZID=Europe/Prague:20260422T114500
DTSTAMP:20260420T024030
CREATED:20260320T121205Z
LAST-MODIFIED:20260327T115546Z
UID:16242-1776855600-1776858300@zazijvedu.cz
SUMMARY:Proměny a vliv neviditelné hmoty
DESCRIPTION:Proměny a vliv neviditelné hmoty
URL:https://zazijvedu.cz/event/promeny-a-vliv-neviditelne-hmoty-3/
LOCATION:Proměny a vliv neviditelné hmoty
CATEGORIES:Pro střední školy
END:VEVENT
BEGIN:VEVENT
DTSTART;TZID=Europe/Prague:20260422T110000
DTEND;TZID=Europe/Prague:20260422T114500
DTSTAMP:20260420T024030
CREATED:20260320T105310Z
LAST-MODIFIED:20260327T115523Z
UID:16126-1776855600-1776858300@zazijvedu.cz
SUMMARY:Kosmické částice na dosah ruky
DESCRIPTION:Kosmické částice na dosah ruky
URL:https://zazijvedu.cz/event/kosmicke-castice-na-dosah-ruky-3/
LOCATION:Kosmické částice na dosah ruky
CATEGORIES:Pro střední školy
END:VEVENT
BEGIN:VEVENT
DTSTART;TZID=Europe/Prague:20260422T100000
DTEND;TZID=Europe/Prague:20260422T104500
DTSTAMP:20260420T024030
CREATED:20260320T121122Z
LAST-MODIFIED:20260327T115546Z
UID:16240-1776852000-1776854700@zazijvedu.cz
SUMMARY:Proměny a vliv neviditelné hmoty
DESCRIPTION:Proměny a vliv neviditelné hmoty
URL:https://zazijvedu.cz/event/promeny-a-vliv-neviditelne-hmoty-2/
LOCATION:Proměny a vliv neviditelné hmoty
CATEGORIES:Pro střední školy
END:VEVENT
BEGIN:VEVENT
DTSTART;TZID=Europe/Prague:20260422T100000
DTEND;TZID=Europe/Prague:20260422T104500
DTSTAMP:20260420T024030
CREATED:20260320T105229Z
LAST-MODIFIED:20260327T115523Z
UID:16124-1776852000-1776854700@zazijvedu.cz
SUMMARY:Kosmické částice na dosah ruky
DESCRIPTION:Kosmické částice na dosah ruky
URL:https://zazijvedu.cz/event/kosmicke-castice-na-dosah-ruky-2/
LOCATION:Kosmické částice na dosah ruky
CATEGORIES:Pro střední školy
END:VEVENT
BEGIN:VEVENT
DTSTART;TZID=Europe/Prague:20260422T090000
DTEND;TZID=Europe/Prague:20260422T094500
DTSTAMP:20260420T024030
CREATED:20260320T120726Z
LAST-MODIFIED:20260327T115545Z
UID:16237-1776848400-1776851100@zazijvedu.cz
SUMMARY:Proměny a vliv neviditelné hmoty
DESCRIPTION:Proměny a vliv neviditelné hmoty
URL:https://zazijvedu.cz/event/promeny-a-vliv-neviditelne-hmoty/
LOCATION:Proměny a vliv neviditelné hmoty
CATEGORIES:Pro střední školy
END:VEVENT
BEGIN:VEVENT
DTSTART;TZID=Europe/Prague:20260422T090000
DTEND;TZID=Europe/Prague:20260422T094500
DTSTAMP:20260420T024030
CREATED:20260320T094701Z
LAST-MODIFIED:20260324T151319Z
UID:16121-1776848400-1776851100@zazijvedu.cz
SUMMARY:Kosmické částice na dosah ruky
DESCRIPTION:Kosmické částice na dosah ruky
URL:https://zazijvedu.cz/event/kosmicke-castice-na-dosah-ruky/
LOCATION:Kosmické částice na dosah ruky
CATEGORIES:Pro střední školy
END:VEVENT
BEGIN:VEVENT
DTSTART;TZID=Europe/Prague:20250423T120000
DTEND;TZID=Europe/Prague:20250423T130000
DTSTAMP:20260420T024030
CREATED:20250317T071039Z
LAST-MODIFIED:20250317T071039Z
UID:14496-1745409600-1745413200@zazijvedu.cz
SUMMARY:Svět za zrcadlem
DESCRIPTION:Svět za zrcadlem
URL:https://zazijvedu.cz/event/svet-za-zrcadlem-26/
LOCATION:Svět za zrcadlem
CATEGORIES:Pro střední školy
END:VEVENT
BEGIN:VEVENT
DTSTART;TZID=Europe/Prague:20250423T110000
DTEND;TZID=Europe/Prague:20250423T120000
DTSTAMP:20260420T024030
CREATED:20250317T070901Z
LAST-MODIFIED:20250317T070911Z
UID:14494-1745406000-1745409600@zazijvedu.cz
SUMMARY:Svět za zrcadlem
DESCRIPTION:Svět za zrcadlem
URL:https://zazijvedu.cz/event/svet-za-zrcadlem-25/
LOCATION:Svět za zrcadlem
CATEGORIES:Pro střední školy
END:VEVENT
BEGIN:VEVENT
DTSTART;TZID=Europe/Prague:20250423T100000
DTEND;TZID=Europe/Prague:20250423T110000
DTSTAMP:20260420T024030
CREATED:20250317T070807Z
LAST-MODIFIED:20250317T070807Z
UID:14492-1745402400-1745406000@zazijvedu.cz
SUMMARY:Svět za zrcadlem
DESCRIPTION:Svět za zrcadlem
URL:https://zazijvedu.cz/event/svet-za-zrcadlem-24/
LOCATION:Svět za zrcadlem
CATEGORIES:Pro střední školy
END:VEVENT
BEGIN:VEVENT
DTSTART;TZID=Europe/Prague:20250423T090000
DTEND;TZID=Europe/Prague:20250423T100000
DTSTAMP:20260420T024030
CREATED:20250317T070721Z
LAST-MODIFIED:20250317T070721Z
UID:14490-1745398800-1745402400@zazijvedu.cz
SUMMARY:Svět za zrcadlem
DESCRIPTION:Svět za zrcadlem
URL:https://zazijvedu.cz/event/svet-za-zrcadlem-23/
LOCATION:Svět za zrcadlem
CATEGORIES:Pro střední školy
END:VEVENT
BEGIN:VEVENT
DTSTART;TZID=Europe/Prague:20250422T150000
DTEND;TZID=Europe/Prague:20250422T160000
DTSTAMP:20260420T024030
CREATED:20250317T071206Z
LAST-MODIFIED:20250317T071206Z
UID:14498-1745334000-1745337600@zazijvedu.cz
SUMMARY:Svět za zrcadlem
DESCRIPTION:Svět za zrcadlem
URL:https://zazijvedu.cz/event/svet-za-zrcadlem-27/
LOCATION:Svět za zrcadlem
CATEGORIES:Pro veřejnost
END:VEVENT
BEGIN:VEVENT
DTSTART;TZID=Europe/Prague:20250422T120000
DTEND;TZID=Europe/Prague:20250422T130000
DTSTAMP:20260420T024030
CREATED:20250317T070641Z
LAST-MODIFIED:20250317T070641Z
UID:14488-1745323200-1745326800@zazijvedu.cz
SUMMARY:Svět za zrcadlem
DESCRIPTION:Svět za zrcadlem
URL:https://zazijvedu.cz/event/svet-za-zrcadlem-22/
LOCATION:Svět za zrcadlem
CATEGORIES:Pro střední školy
END:VEVENT
BEGIN:VEVENT
DTSTART;TZID=Europe/Prague:20250422T110000
DTEND;TZID=Europe/Prague:20250422T120000
DTSTAMP:20260420T024030
CREATED:20250317T070547Z
LAST-MODIFIED:20250317T070547Z
UID:14486-1745319600-1745323200@zazijvedu.cz
SUMMARY:Svět za zrcadlem
DESCRIPTION:Svět za zrcadlem
URL:https://zazijvedu.cz/event/svet-za-zrcadlem-21/
LOCATION:Svět za zrcadlem
CATEGORIES:Pro střední školy
END:VEVENT
BEGIN:VEVENT
DTSTART;TZID=Europe/Prague:20250422T100000
DTEND;TZID=Europe/Prague:20250422T110000
DTSTAMP:20260420T024030
CREATED:20250317T070443Z
LAST-MODIFIED:20250317T070443Z
UID:14484-1745316000-1745319600@zazijvedu.cz
SUMMARY:Svět za zrcadlem
DESCRIPTION:Svět za zrcadlem
URL:https://zazijvedu.cz/event/svet-za-zrcadlem-20/
LOCATION:Svět za zrcadlem
CATEGORIES:Pro střední školy
END:VEVENT
BEGIN:VEVENT
DTSTART;TZID=Europe/Prague:20250422T090000
DTEND;TZID=Europe/Prague:20250422T100000
DTSTAMP:20260420T024030
CREATED:20250317T070348Z
LAST-MODIFIED:20250317T070348Z
UID:14482-1745312400-1745316000@zazijvedu.cz
SUMMARY:Svět za zrcadlem
DESCRIPTION:Svět za zrcadlem
URL:https://zazijvedu.cz/event/svet-za-zrcadlem-19/
LOCATION:Svět za zrcadlem
CATEGORIES:Pro střední školy
END:VEVENT
BEGIN:VEVENT
DTSTART;TZID=Europe/Prague:20240416T160000
DTEND;TZID=Europe/Prague:20240416T164500
DTSTAMP:20260420T024030
CREATED:20240308T120525Z
LAST-MODIFIED:20240308T120525Z
UID:13589-1713283200-1713285900@zazijvedu.cz
SUMMARY:PŘÍBĚH CHEMIE = PŘÍBĚH NÁS VŠECH
DESCRIPTION:PŘÍBĚH CHEMIE = PŘÍBĚH NÁS VŠECH
URL:https://zazijvedu.cz/event/pribeh-chemie-pribeh-nas-vsech-6/
LOCATION:PŘÍBĚH CHEMIE = PŘÍBĚH NÁS VŠECH
CATEGORIES:Pro veřejnost
END:VEVENT
BEGIN:VEVENT
DTSTART;TZID=Europe/Prague:20240416T160000
DTEND;TZID=Europe/Prague:20240416T164500
DTSTAMP:20260420T024030
CREATED:20240308T112951Z
LAST-MODIFIED:20240308T112951Z
UID:13501-1713283200-1713285900@zazijvedu.cz
SUMMARY:MIONOVÁ OBSERVATOŘ
DESCRIPTION:MIONOVÁ OBSERVATOŘ
URL:https://zazijvedu.cz/event/mionova-observator-12/
LOCATION:MIONOVÁ OBSERVATOŘ
CATEGORIES:Pro veřejnost
END:VEVENT
BEGIN:VEVENT
DTSTART;TZID=Europe/Prague:20240416T150000
DTEND;TZID=Europe/Prague:20240416T154500
DTSTAMP:20260420T024030
CREATED:20240308T120424Z
LAST-MODIFIED:20240308T120424Z
UID:13585-1713279600-1713282300@zazijvedu.cz
SUMMARY:PŘÍBĚH CHEMIE = PŘÍBĚH NÁS VŠECH
DESCRIPTION:PŘÍBĚH CHEMIE = PŘÍBĚH NÁS VŠECH
URL:https://zazijvedu.cz/event/pribeh-chemie-pribeh-nas-vsech-5/
LOCATION:PŘÍBĚH CHEMIE = PŘÍBĚH NÁS VŠECH
CATEGORIES:Pro veřejnost
END:VEVENT
END:VCALENDAR