BEGIN:VCALENDAR
VERSION:2.0
PRODID:-//Zažij vědu - ECPv6.15.20//NONSGML v1.0//EN
CALSCALE:GREGORIAN
METHOD:PUBLISH
X-WR-CALNAME:Zažij vědu
X-ORIGINAL-URL:https://zazijvedu.cz
X-WR-CALDESC:Akce na Zažij vědu
REFRESH-INTERVAL;VALUE=DURATION:PT1H
X-Robots-Tag:noindex
X-PUBLISHED-TTL:PT1H
BEGIN:VTIMEZONE
TZID:Europe/Prague
BEGIN:DAYLIGHT
TZOFFSETFROM:+0100
TZOFFSETTO:+0200
TZNAME:CEST
DTSTART:20190331T010000
END:DAYLIGHT
BEGIN:STANDARD
TZOFFSETFROM:+0200
TZOFFSETTO:+0100
TZNAME:CET
DTSTART:20191027T010000
END:STANDARD
BEGIN:DAYLIGHT
TZOFFSETFROM:+0100
TZOFFSETTO:+0200
TZNAME:CEST
DTSTART:20200329T010000
END:DAYLIGHT
BEGIN:STANDARD
TZOFFSETFROM:+0200
TZOFFSETTO:+0100
TZNAME:CET
DTSTART:20201025T010000
END:STANDARD
BEGIN:DAYLIGHT
TZOFFSETFROM:+0100
TZOFFSETTO:+0200
TZNAME:CEST
DTSTART:20210328T010000
END:DAYLIGHT
BEGIN:STANDARD
TZOFFSETFROM:+0200
TZOFFSETTO:+0100
TZNAME:CET
DTSTART:20211031T010000
END:STANDARD
BEGIN:DAYLIGHT
TZOFFSETFROM:+0100
TZOFFSETTO:+0200
TZNAME:CEST
DTSTART:20220327T010000
END:DAYLIGHT
BEGIN:STANDARD
TZOFFSETFROM:+0200
TZOFFSETTO:+0100
TZNAME:CET
DTSTART:20221030T010000
END:STANDARD
BEGIN:DAYLIGHT
TZOFFSETFROM:+0100
TZOFFSETTO:+0200
TZNAME:CEST
DTSTART:20230326T010000
END:DAYLIGHT
BEGIN:STANDARD
TZOFFSETFROM:+0200
TZOFFSETTO:+0100
TZNAME:CET
DTSTART:20231029T010000
END:STANDARD
BEGIN:DAYLIGHT
TZOFFSETFROM:+0100
TZOFFSETTO:+0200
TZNAME:CEST
DTSTART:20240331T010000
END:DAYLIGHT
BEGIN:STANDARD
TZOFFSETFROM:+0200
TZOFFSETTO:+0100
TZNAME:CET
DTSTART:20241027T010000
END:STANDARD
BEGIN:DAYLIGHT
TZOFFSETFROM:+0100
TZOFFSETTO:+0200
TZNAME:CEST
DTSTART:20250330T010000
END:DAYLIGHT
BEGIN:STANDARD
TZOFFSETFROM:+0200
TZOFFSETTO:+0100
TZNAME:CET
DTSTART:20251026T010000
END:STANDARD
END:VTIMEZONE
BEGIN:VEVENT
DTSTART;TZID=Europe/Prague:20240416T160000
DTEND;TZID=Europe/Prague:20240416T164500
DTSTAMP:20260420T060014
CREATED:20240308T112951Z
LAST-MODIFIED:20240308T112951Z
UID:13501-1713283200-1713285900@zazijvedu.cz
SUMMARY:MIONOVÁ OBSERVATOŘ
DESCRIPTION:MIONOVÁ OBSERVATOŘ
URL:https://zazijvedu.cz/event/mionova-observator-12/
LOCATION:MIONOVÁ OBSERVATOŘ
CATEGORIES:Pro veřejnost
END:VEVENT
BEGIN:VEVENT
DTSTART;TZID=Europe/Prague:20240416T150000
DTEND;TZID=Europe/Prague:20240416T154500
DTSTAMP:20260420T060014
CREATED:20240308T120424Z
LAST-MODIFIED:20240308T120424Z
UID:13585-1713279600-1713282300@zazijvedu.cz
SUMMARY:PŘÍBĚH CHEMIE = PŘÍBĚH NÁS VŠECH
DESCRIPTION:PŘÍBĚH CHEMIE = PŘÍBĚH NÁS VŠECH
URL:https://zazijvedu.cz/event/pribeh-chemie-pribeh-nas-vsech-5/
LOCATION:PŘÍBĚH CHEMIE = PŘÍBĚH NÁS VŠECH
CATEGORIES:Pro veřejnost
END:VEVENT
BEGIN:VEVENT
DTSTART;TZID=Europe/Prague:20240416T150000
DTEND;TZID=Europe/Prague:20240416T154500
DTSTAMP:20260420T060014
CREATED:20240308T112849Z
LAST-MODIFIED:20240308T112849Z
UID:13498-1713279600-1713282300@zazijvedu.cz
SUMMARY:MIONOVÁ OBSERVATOŘ
DESCRIPTION:MIONOVÁ OBSERVATOŘ
URL:https://zazijvedu.cz/event/mionova-observator-11/
LOCATION:MIONOVÁ OBSERVATOŘ
CATEGORIES:Pro veřejnost
END:VEVENT
BEGIN:VEVENT
DTSTART;TZID=Europe/Prague:20240416T120000
DTEND;TZID=Europe/Prague:20240416T124500
DTSTAMP:20260420T060014
CREATED:20240308T120324Z
LAST-MODIFIED:20240308T120421Z
UID:13582-1713268800-1713271500@zazijvedu.cz
SUMMARY:PŘÍBĚH CHEMIE = PŘÍBĚH NÁS VŠECH
DESCRIPTION:PŘÍBĚH CHEMIE = PŘÍBĚH NÁS VŠECH
URL:https://zazijvedu.cz/event/pribeh-chemie-pribeh-nas-vsech-4/
LOCATION:PŘÍBĚH CHEMIE = PŘÍBĚH NÁS VŠECH
CATEGORIES:Pro střední školy
END:VEVENT
BEGIN:VEVENT
DTSTART;TZID=Europe/Prague:20240416T120000
DTEND;TZID=Europe/Prague:20240416T124500
DTSTAMP:20260420T060014
CREATED:20240308T112716Z
LAST-MODIFIED:20240308T112716Z
UID:13495-1713268800-1713271500@zazijvedu.cz
SUMMARY:MIONOVÁ OBSERVATOŘ
DESCRIPTION:MIONOVÁ OBSERVATOŘ
URL:https://zazijvedu.cz/event/mionova-observator-10/
LOCATION:MIONOVÁ OBSERVATOŘ
CATEGORIES:Pro střední školy
END:VEVENT
BEGIN:VEVENT
DTSTART;TZID=Europe/Prague:20240416T110000
DTEND;TZID=Europe/Prague:20240416T114500
DTSTAMP:20260420T060014
CREATED:20240308T120242Z
LAST-MODIFIED:20240308T120242Z
UID:13580-1713265200-1713267900@zazijvedu.cz
SUMMARY:PŘÍBĚH CHEMIE = PŘÍBĚH NÁS VŠECH
DESCRIPTION:PŘÍBĚH CHEMIE = PŘÍBĚH NÁS VŠECH
URL:https://zazijvedu.cz/event/pribeh-chemie-pribeh-nas-vsech-3/
LOCATION:PŘÍBĚH CHEMIE = PŘÍBĚH NÁS VŠECH
CATEGORIES:Pro střední školy
END:VEVENT
BEGIN:VEVENT
DTSTART;TZID=Europe/Prague:20240416T110000
DTEND;TZID=Europe/Prague:20240416T114500
DTSTAMP:20260420T060014
CREATED:20240308T112636Z
LAST-MODIFIED:20240308T112636Z
UID:13492-1713265200-1713267900@zazijvedu.cz
SUMMARY:MIONOVÁ OBSERVATOŘ
DESCRIPTION:MIONOVÁ OBSERVATOŘ
URL:https://zazijvedu.cz/event/mionova-observator-9/
LOCATION:MIONOVÁ OBSERVATOŘ
CATEGORIES:Pro střední školy
END:VEVENT
BEGIN:VEVENT
DTSTART;TZID=Europe/Prague:20240416T100000
DTEND;TZID=Europe/Prague:20240416T104500
DTSTAMP:20260420T060014
CREATED:20240308T120206Z
LAST-MODIFIED:20240308T120206Z
UID:13578-1713261600-1713264300@zazijvedu.cz
SUMMARY:PŘÍBĚH CHEMIE = PŘÍBĚH NÁS VŠECH
DESCRIPTION:PŘÍBĚH CHEMIE = PŘÍBĚH NÁS VŠECH
URL:https://zazijvedu.cz/event/pribeh-chemie-pribeh-nas-vsech-2/
LOCATION:PŘÍBĚH CHEMIE = PŘÍBĚH NÁS VŠECH
CATEGORIES:Pro střední školy
END:VEVENT
BEGIN:VEVENT
DTSTART;TZID=Europe/Prague:20240416T100000
DTEND;TZID=Europe/Prague:20240416T104500
DTSTAMP:20260420T060014
CREATED:20240308T112551Z
LAST-MODIFIED:20240308T112551Z
UID:13489-1713261600-1713264300@zazijvedu.cz
SUMMARY:MIONOVÁ OBSERVATOŘ
DESCRIPTION:MIONOVÁ OBSERVATOŘ
URL:https://zazijvedu.cz/event/mionova-observator-8/
LOCATION:MIONOVÁ OBSERVATOŘ
CATEGORIES:Pro střední školy
END:VEVENT
BEGIN:VEVENT
DTSTART;TZID=Europe/Prague:20240416T090000
DTEND;TZID=Europe/Prague:20240416T094500
DTSTAMP:20260420T060014
CREATED:20240308T120105Z
LAST-MODIFIED:20240308T120120Z
UID:13574-1713258000-1713260700@zazijvedu.cz
SUMMARY:PŘÍBĚH CHEMIE = PŘÍBĚH NÁS VŠECH
DESCRIPTION:PŘÍBĚH CHEMIE = PŘÍBĚH NÁS VŠECH
URL:https://zazijvedu.cz/event/pribeh-chemie-pribeh-nas-vsech/
LOCATION:PŘÍBĚH CHEMIE = PŘÍBĚH NÁS VŠECH
CATEGORIES:Pro střední školy
END:VEVENT
BEGIN:VEVENT
DTSTART;TZID=Europe/Prague:20240416T090000
DTEND;TZID=Europe/Prague:20240416T094500
DTSTAMP:20260420T060014
CREATED:20240308T112440Z
LAST-MODIFIED:20240308T112503Z
UID:13484-1713258000-1713260700@zazijvedu.cz
SUMMARY:MIONOVÁ OBSERVATOŘ
DESCRIPTION:MIONOVÁ OBSERVATOŘ
URL:https://zazijvedu.cz/event/mionova-observator-7/
LOCATION:MIONOVÁ OBSERVATOŘ
CATEGORIES:Pro střední školy
END:VEVENT
BEGIN:VEVENT
DTSTART;TZID=Europe/Prague:20230426T160000
DTEND;TZID=Europe/Prague:20230426T164500
DTSTAMP:20260420T060014
CREATED:20230328T131316Z
LAST-MODIFIED:20230328T131316Z
UID:12217-1682524800-1682527500@zazijvedu.cz
SUMMARY:MIONOVÁ OBSERVATOŘ
DESCRIPTION:MIONOVÁ OBSERVATOŘ
URL:https://zazijvedu.cz/event/mionova-observator-2/
LOCATION:MIONOVÁ OBSERVATOŘ
CATEGORIES:Pro veřejnost
END:VEVENT
BEGIN:VEVENT
DTSTART;TZID=Europe/Prague:20230426T150000
DTEND;TZID=Europe/Prague:20230426T154500
DTSTAMP:20260420T060014
CREATED:20230328T131209Z
LAST-MODIFIED:20230328T131209Z
UID:12213-1682521200-1682523900@zazijvedu.cz
SUMMARY:MIONOVÁ OBSERVATOŘ
DESCRIPTION:MIONOVÁ OBSERVATOŘ
URL:https://zazijvedu.cz/event/mionova-observator/
LOCATION:MIONOVÁ OBSERVATOŘ
CATEGORIES:Pro veřejnost
END:VEVENT
BEGIN:VEVENT
DTSTART;TZID=Europe/Prague:20230426T150000
DTEND;TZID=Europe/Prague:20230426T154500
DTSTAMP:20260420T060014
CREATED:20230328T131032Z
LAST-MODIFIED:20230328T131032Z
UID:12207-1682521200-1682523900@zazijvedu.cz
SUMMARY:NA KONCI VŠEHO BYLA TMA
DESCRIPTION:NA KONCI VŠEHO BYLA TMA
URL:https://zazijvedu.cz/event/na-konci-vseho-byla-tma-4/
LOCATION:Na konci všeho byla tma
CATEGORIES:Pro veřejnost
END:VEVENT
BEGIN:VEVENT
DTSTART;TZID=Europe/Prague:20230426T100000
DTEND;TZID=Europe/Prague:20230426T104500
DTSTAMP:20260420T060014
CREATED:20230328T133905Z
LAST-MODIFIED:20230328T133905Z
UID:12247-1682503200-1682505900@zazijvedu.cz
SUMMARY:MIONOVÁ OBSERVATOŘ
DESCRIPTION:MIONOVÁ OBSERVATOŘ
URL:https://zazijvedu.cz/event/mionova-observator-4/
LOCATION:MIONOVÁ OBSERVATOŘ
CATEGORIES:Pro střední školy
END:VEVENT
BEGIN:VEVENT
DTSTART;TZID=Europe/Prague:20230426T090000
DTEND;TZID=Europe/Prague:20230426T094500
DTSTAMP:20260420T060014
CREATED:20230328T133826Z
LAST-MODIFIED:20230328T133949Z
UID:12245-1682499600-1682502300@zazijvedu.cz
SUMMARY:MIONOVÁ OBSERVATOŘ
DESCRIPTION:MIONOVÁ OBSERVATOŘ
URL:https://zazijvedu.cz/event/mionova-observator-3/
LOCATION:MIONOVÁ OBSERVATOŘ
CATEGORIES:Pro střední školy
END:VEVENT
BEGIN:VEVENT
DTSTART;TZID=Europe/Prague:20230426T090000
DTEND;TZID=Europe/Prague:20230426T094500
DTSTAMP:20260420T060014
CREATED:20230328T133412Z
LAST-MODIFIED:20230328T133636Z
UID:12241-1682499600-1682502300@zazijvedu.cz
SUMMARY:NA KONCI VŠEHO BYLA TMA
DESCRIPTION:NA KONCI VŠEHO BYLA TMA
URL:https://zazijvedu.cz/event/na-konci-vseho-byla-tma-7/
LOCATION:Na konci všeho byla tma
CATEGORIES:Pro střední školy
END:VEVENT
BEGIN:VEVENT
DTSTART;TZID=Europe/Prague:20220427T150000
DTEND;TZID=Europe/Prague:20220427T154500
DTSTAMP:20260420T060014
CREATED:20220321T090749Z
LAST-MODIFIED:20220324T073240Z
UID:11036-1651071600-1651074300@zazijvedu.cz
SUMMARY:Svět chemických reakcí
DESCRIPTION:SVĚT CHEMICKÝCH REAKCÍ
URL:https://zazijvedu.cz/event/svet-chemickych-reakci-3/
LOCATION:Svět chemických reakcí
CATEGORIES:Pro veřejnost
END:VEVENT
BEGIN:VEVENT
DTSTART;TZID=Europe/Prague:20220427T120000
DTEND;TZID=Europe/Prague:20220427T124500
DTSTAMP:20260420T060014
CREATED:20220321T090713Z
LAST-MODIFIED:20220323T083653Z
UID:11034-1651060800-1651063500@zazijvedu.cz
SUMMARY:Svět chemických reakcí
DESCRIPTION:SVĚT CHEMICKÝCH REAKCÍ\n– tento workshop má kapacitu omezenou na 15 míst
URL:https://zazijvedu.cz/event/svet-chemickych-reakci-2/
LOCATION:Svět chemických reakcí
CATEGORIES:Pro střední školy
END:VEVENT
BEGIN:VEVENT
DTSTART;TZID=Europe/Prague:20220427T110000
DTEND;TZID=Europe/Prague:20220427T114500
DTSTAMP:20260420T060014
CREATED:20220321T090859Z
LAST-MODIFIED:20220323T083716Z
UID:11041-1651057200-1651059900@zazijvedu.cz
SUMMARY:Na konci všeho byla tma
DESCRIPTION:NA KONCI VŠEHO BYLA TMA\n– tento workshop má kapacitu omezenou na 15 míst
URL:https://zazijvedu.cz/event/na-konci-vseho-byla-tma-2/
LOCATION:Na konci všeho byla tma
CATEGORIES:Pro střední školy
END:VEVENT
BEGIN:VEVENT
DTSTART;TZID=Europe/Prague:20220427T100000
DTEND;TZID=Europe/Prague:20220427T104500
DTSTAMP:20260420T060014
CREATED:20220321T090646Z
LAST-MODIFIED:20220323T083657Z
UID:11031-1651053600-1651056300@zazijvedu.cz
SUMMARY:Svět chemických reakcí
DESCRIPTION:SVĚT CHEMICKÝCH REAKCÍ\n– tento workshop má kapacitu omezenou na 15 míst
URL:https://zazijvedu.cz/event/svet-chemickych-reakci/
LOCATION:Svět chemických reakcí
CATEGORIES:Pro střední školy
END:VEVENT
BEGIN:VEVENT
DTSTART;TZID=Europe/Prague:20220427T090000
DTEND;TZID=Europe/Prague:20220427T094500
DTSTAMP:20260420T060014
CREATED:20220321T090829Z
LAST-MODIFIED:20220323T083720Z
UID:11039-1651050000-1651052700@zazijvedu.cz
SUMMARY:Na konci všeho byla tma
DESCRIPTION:NA KONCI VŠEHO BYLA TMA\n– tento workshop má kapacitu omezenou na 15 míst
URL:https://zazijvedu.cz/event/na-konci-vseho-byla-tma/
LOCATION:Na konci všeho byla tma
CATEGORIES:Pro střední školy
END:VEVENT
BEGIN:VEVENT
DTSTART;TZID=Europe/Prague:20220203T140000
DTEND;TZID=Europe/Prague:20220203T144500
DTSTAMP:20260420T060014
CREATED:20220114T124140Z
LAST-MODIFIED:20220114T124157Z
UID:10438-1643896800-1643899500@zazijvedu.cz
SUMMARY:Chemie světla a barev
DESCRIPTION:
URL:https://zazijvedu.cz/event/chemie-svetla-a-barev-28/
LOCATION:Chemie světla a barev
CATEGORIES:Pro veřejnost
END:VEVENT
BEGIN:VEVENT
DTSTART;TZID=Europe/Prague:20220203T110000
DTEND;TZID=Europe/Prague:20220203T114500
DTSTAMP:20260420T060014
CREATED:20220114T123757Z
LAST-MODIFIED:20220114T123945Z
UID:10428-1643886000-1643888700@zazijvedu.cz
SUMMARY:Chemie světla a barev
DESCRIPTION:
URL:https://zazijvedu.cz/event/chemie-svetla-a-barev-26/
LOCATION:Chemie světla a barev
CATEGORIES:Pro střední školy
END:VEVENT
BEGIN:VEVENT
DTSTART;TZID=Europe/Prague:20220203T090000
DTEND;TZID=Europe/Prague:20220203T094500
DTSTAMP:20260420T060014
CREATED:20220114T123037Z
LAST-MODIFIED:20220114T123112Z
UID:10421-1643878800-1643881500@zazijvedu.cz
SUMMARY:Chemie světla a barev
DESCRIPTION:
URL:https://zazijvedu.cz/event/chemie-svetla-a-barev-24/
LOCATION:Chemie světla a barev
CATEGORIES:Pro střední školy
END:VEVENT
BEGIN:VEVENT
DTSTART;TZID=Europe/Prague:20200225T150000
DTEND;TZID=Europe/Prague:20200225T154500
DTSTAMP:20260420T060014
CREATED:20200127T063848Z
LAST-MODIFIED:20200127T063848Z
UID:8984-1582642800-1582645500@zazijvedu.cz
SUMMARY:Supr-chemie
DESCRIPTION:
URL:https://zazijvedu.cz/event/supr-chemie-23/
LOCATION:Supr-chemie
CATEGORIES:Pro veřejnost
END:VEVENT
BEGIN:VEVENT
DTSTART;TZID=Europe/Prague:20200225T150000
DTEND;TZID=Europe/Prague:20200225T154500
DTSTAMP:20260420T060014
CREATED:20200127T063239Z
LAST-MODIFIED:20200127T063239Z
UID:8970-1582642800-1582645500@zazijvedu.cz
SUMMARY:Chemie světla a barev
DESCRIPTION:
URL:https://zazijvedu.cz/event/chemie-svetla-a-barev-23/
LOCATION:Chemie světla a barev
CATEGORIES:Pro veřejnost
END:VEVENT
BEGIN:VEVENT
DTSTART;TZID=Europe/Prague:20200225T140000
DTEND;TZID=Europe/Prague:20200225T144500
DTSTAMP:20260420T060014
CREATED:20200127T063758Z
LAST-MODIFIED:20200127T063952Z
UID:8982-1582639200-1582641900@zazijvedu.cz
SUMMARY:Supr-chemie
DESCRIPTION:
URL:https://zazijvedu.cz/event/supr-chemie-22/
LOCATION:Supr-chemie
CATEGORIES:Pro veřejnost
END:VEVENT
BEGIN:VEVENT
DTSTART;TZID=Europe/Prague:20200225T140000
DTEND;TZID=Europe/Prague:20200225T144500
DTSTAMP:20260420T060014
CREATED:20200127T063146Z
LAST-MODIFIED:20200127T063146Z
UID:8967-1582639200-1582641900@zazijvedu.cz
SUMMARY:Chemie světla a barev
DESCRIPTION:
URL:https://zazijvedu.cz/event/chemie-svetla-a-barev-22/
LOCATION:Chemie světla a barev
CATEGORIES:Pro veřejnost
END:VEVENT
BEGIN:VEVENT
DTSTART;TZID=Europe/Prague:20200225T120000
DTEND;TZID=Europe/Prague:20200225T124500
DTSTAMP:20260420T060014
CREATED:20200127T063728Z
LAST-MODIFIED:20200127T063728Z
UID:8980-1582632000-1582634700@zazijvedu.cz
SUMMARY:Supr-chemie
DESCRIPTION:
URL:https://zazijvedu.cz/event/supr-chemie-21/
LOCATION:Supr-chemie
CATEGORIES:Pro střední školy
END:VEVENT
END:VCALENDAR