BEGIN:VCALENDAR
VERSION:2.0
PRODID:-//Zažij vědu - ECPv6.15.20//NONSGML v1.0//EN
CALSCALE:GREGORIAN
METHOD:PUBLISH
X-WR-CALNAME:Zažij vědu
X-ORIGINAL-URL:https://zazijvedu.cz
X-WR-CALDESC:Akce na Zažij vědu
REFRESH-INTERVAL;VALUE=DURATION:PT1H
X-Robots-Tag:noindex
X-PUBLISHED-TTL:PT1H
BEGIN:VTIMEZONE
TZID:Europe/Prague
BEGIN:DAYLIGHT
TZOFFSETFROM:+0100
TZOFFSETTO:+0200
TZNAME:CEST
DTSTART:20190331T010000
END:DAYLIGHT
BEGIN:STANDARD
TZOFFSETFROM:+0200
TZOFFSETTO:+0100
TZNAME:CET
DTSTART:20191027T010000
END:STANDARD
BEGIN:DAYLIGHT
TZOFFSETFROM:+0100
TZOFFSETTO:+0200
TZNAME:CEST
DTSTART:20200329T010000
END:DAYLIGHT
BEGIN:STANDARD
TZOFFSETFROM:+0200
TZOFFSETTO:+0100
TZNAME:CET
DTSTART:20201025T010000
END:STANDARD
BEGIN:DAYLIGHT
TZOFFSETFROM:+0100
TZOFFSETTO:+0200
TZNAME:CEST
DTSTART:20210328T010000
END:DAYLIGHT
BEGIN:STANDARD
TZOFFSETFROM:+0200
TZOFFSETTO:+0100
TZNAME:CET
DTSTART:20211031T010000
END:STANDARD
BEGIN:DAYLIGHT
TZOFFSETFROM:+0100
TZOFFSETTO:+0200
TZNAME:CEST
DTSTART:20220327T010000
END:DAYLIGHT
BEGIN:STANDARD
TZOFFSETFROM:+0200
TZOFFSETTO:+0100
TZNAME:CET
DTSTART:20221030T010000
END:STANDARD
BEGIN:DAYLIGHT
TZOFFSETFROM:+0100
TZOFFSETTO:+0200
TZNAME:CEST
DTSTART:20230326T010000
END:DAYLIGHT
BEGIN:STANDARD
TZOFFSETFROM:+0200
TZOFFSETTO:+0100
TZNAME:CET
DTSTART:20231029T010000
END:STANDARD
END:VTIMEZONE
BEGIN:VEVENT
DTSTART;TZID=Europe/Prague:20220427T100000
DTEND;TZID=Europe/Prague:20220427T104500
DTSTAMP:20260420T075300
CREATED:20220321T090646Z
LAST-MODIFIED:20220323T083657Z
UID:11031-1651053600-1651056300@zazijvedu.cz
SUMMARY:Svět chemických reakcí
DESCRIPTION:SVĚT CHEMICKÝCH REAKCÍ\n– tento workshop má kapacitu omezenou na 15 míst
URL:https://zazijvedu.cz/event/svet-chemickych-reakci/
LOCATION:Svět chemických reakcí
CATEGORIES:Pro střední školy
END:VEVENT
BEGIN:VEVENT
DTSTART;TZID=Europe/Prague:20220427T090000
DTEND;TZID=Europe/Prague:20220427T094500
DTSTAMP:20260420T075300
CREATED:20220321T090829Z
LAST-MODIFIED:20220323T083720Z
UID:11039-1651050000-1651052700@zazijvedu.cz
SUMMARY:Na konci všeho byla tma
DESCRIPTION:NA KONCI VŠEHO BYLA TMA\n– tento workshop má kapacitu omezenou na 15 míst
URL:https://zazijvedu.cz/event/na-konci-vseho-byla-tma/
LOCATION:Na konci všeho byla tma
CATEGORIES:Pro střední školy
END:VEVENT
BEGIN:VEVENT
DTSTART;TZID=Europe/Prague:20220203T140000
DTEND;TZID=Europe/Prague:20220203T144500
DTSTAMP:20260420T075300
CREATED:20220114T124140Z
LAST-MODIFIED:20220114T124157Z
UID:10438-1643896800-1643899500@zazijvedu.cz
SUMMARY:Chemie světla a barev
DESCRIPTION:
URL:https://zazijvedu.cz/event/chemie-svetla-a-barev-28/
LOCATION:Chemie světla a barev
CATEGORIES:Pro veřejnost
END:VEVENT
BEGIN:VEVENT
DTSTART;TZID=Europe/Prague:20220203T110000
DTEND;TZID=Europe/Prague:20220203T114500
DTSTAMP:20260420T075300
CREATED:20220114T123757Z
LAST-MODIFIED:20220114T123945Z
UID:10428-1643886000-1643888700@zazijvedu.cz
SUMMARY:Chemie světla a barev
DESCRIPTION:
URL:https://zazijvedu.cz/event/chemie-svetla-a-barev-26/
LOCATION:Chemie světla a barev
CATEGORIES:Pro střední školy
END:VEVENT
BEGIN:VEVENT
DTSTART;TZID=Europe/Prague:20220203T090000
DTEND;TZID=Europe/Prague:20220203T094500
DTSTAMP:20260420T075300
CREATED:20220114T123037Z
LAST-MODIFIED:20220114T123112Z
UID:10421-1643878800-1643881500@zazijvedu.cz
SUMMARY:Chemie světla a barev
DESCRIPTION:
URL:https://zazijvedu.cz/event/chemie-svetla-a-barev-24/
LOCATION:Chemie světla a barev
CATEGORIES:Pro střední školy
END:VEVENT
BEGIN:VEVENT
DTSTART;TZID=Europe/Prague:20200225T150000
DTEND;TZID=Europe/Prague:20200225T154500
DTSTAMP:20260420T075300
CREATED:20200127T063848Z
LAST-MODIFIED:20200127T063848Z
UID:8984-1582642800-1582645500@zazijvedu.cz
SUMMARY:Supr-chemie
DESCRIPTION:
URL:https://zazijvedu.cz/event/supr-chemie-23/
LOCATION:Supr-chemie
CATEGORIES:Pro veřejnost
END:VEVENT
BEGIN:VEVENT
DTSTART;TZID=Europe/Prague:20200225T150000
DTEND;TZID=Europe/Prague:20200225T154500
DTSTAMP:20260420T075300
CREATED:20200127T063239Z
LAST-MODIFIED:20200127T063239Z
UID:8970-1582642800-1582645500@zazijvedu.cz
SUMMARY:Chemie světla a barev
DESCRIPTION:
URL:https://zazijvedu.cz/event/chemie-svetla-a-barev-23/
LOCATION:Chemie světla a barev
CATEGORIES:Pro veřejnost
END:VEVENT
BEGIN:VEVENT
DTSTART;TZID=Europe/Prague:20200225T140000
DTEND;TZID=Europe/Prague:20200225T144500
DTSTAMP:20260420T075300
CREATED:20200127T063758Z
LAST-MODIFIED:20200127T063952Z
UID:8982-1582639200-1582641900@zazijvedu.cz
SUMMARY:Supr-chemie
DESCRIPTION:
URL:https://zazijvedu.cz/event/supr-chemie-22/
LOCATION:Supr-chemie
CATEGORIES:Pro veřejnost
END:VEVENT
BEGIN:VEVENT
DTSTART;TZID=Europe/Prague:20200225T140000
DTEND;TZID=Europe/Prague:20200225T144500
DTSTAMP:20260420T075300
CREATED:20200127T063146Z
LAST-MODIFIED:20200127T063146Z
UID:8967-1582639200-1582641900@zazijvedu.cz
SUMMARY:Chemie světla a barev
DESCRIPTION:
URL:https://zazijvedu.cz/event/chemie-svetla-a-barev-22/
LOCATION:Chemie světla a barev
CATEGORIES:Pro veřejnost
END:VEVENT
BEGIN:VEVENT
DTSTART;TZID=Europe/Prague:20200225T120000
DTEND;TZID=Europe/Prague:20200225T124500
DTSTAMP:20260420T075300
CREATED:20200127T063728Z
LAST-MODIFIED:20200127T063728Z
UID:8980-1582632000-1582634700@zazijvedu.cz
SUMMARY:Supr-chemie
DESCRIPTION:
URL:https://zazijvedu.cz/event/supr-chemie-21/
LOCATION:Supr-chemie
CATEGORIES:Pro střední školy
END:VEVENT
BEGIN:VEVENT
DTSTART;TZID=Europe/Prague:20200225T120000
DTEND;TZID=Europe/Prague:20200225T124500
DTSTAMP:20260420T075300
CREATED:20200127T063025Z
LAST-MODIFIED:20200127T063041Z
UID:8965-1582632000-1582634700@zazijvedu.cz
SUMMARY:Chemie světla a barev
DESCRIPTION:
URL:https://zazijvedu.cz/event/chemie-svetla-a-barev-21/
LOCATION:Chemie světla a barev
CATEGORIES:Pro střední školy
END:VEVENT
BEGIN:VEVENT
DTSTART;TZID=Europe/Prague:20200225T110000
DTEND;TZID=Europe/Prague:20200225T114500
DTSTAMP:20260420T075300
CREATED:20200127T063643Z
LAST-MODIFIED:20200127T063643Z
UID:8978-1582628400-1582631100@zazijvedu.cz
SUMMARY:Supr-chemie
DESCRIPTION:
URL:https://zazijvedu.cz/event/supr-chemie-20/
LOCATION:Supr-chemie
CATEGORIES:Pro střední školy
END:VEVENT
BEGIN:VEVENT
DTSTART;TZID=Europe/Prague:20200225T110000
DTEND;TZID=Europe/Prague:20200225T114500
DTSTAMP:20260420T075300
CREATED:20200127T062950Z
LAST-MODIFIED:20200127T063348Z
UID:8963-1582628400-1582631100@zazijvedu.cz
SUMMARY:Chemie světla a barev
DESCRIPTION:
URL:https://zazijvedu.cz/event/chemie-svetla-a-barev-20/
LOCATION:Chemie světla a barev
CATEGORIES:Pro střední školy
END:VEVENT
BEGIN:VEVENT
DTSTART;TZID=Europe/Prague:20200225T100000
DTEND;TZID=Europe/Prague:20200225T104500
DTSTAMP:20260420T075300
CREATED:20200127T063609Z
LAST-MODIFIED:20200127T063609Z
UID:8976-1582624800-1582627500@zazijvedu.cz
SUMMARY:Supr-chemie
DESCRIPTION:
URL:https://zazijvedu.cz/event/supr-chemie-19/
LOCATION:Supr-chemie
CATEGORIES:Pro střední školy
END:VEVENT
BEGIN:VEVENT
DTSTART;TZID=Europe/Prague:20200225T100000
DTEND;TZID=Europe/Prague:20200225T104500
DTSTAMP:20260420T075300
CREATED:20200127T062917Z
LAST-MODIFIED:20200127T062917Z
UID:8961-1582624800-1582627500@zazijvedu.cz
SUMMARY:Chemie světla a barev
DESCRIPTION:
URL:https://zazijvedu.cz/event/chemie-svetla-a-barev-19/
LOCATION:Chemie světla a barev
CATEGORIES:Pro střední školy
END:VEVENT
BEGIN:VEVENT
DTSTART;TZID=Europe/Prague:20200225T090000
DTEND;TZID=Europe/Prague:20200225T094500
DTSTAMP:20260420T075300
CREATED:20200127T063530Z
LAST-MODIFIED:20200127T063536Z
UID:8974-1582621200-1582623900@zazijvedu.cz
SUMMARY:Supr-chemie
DESCRIPTION:
URL:https://zazijvedu.cz/event/supr-chemie-18/
LOCATION:Supr-chemie
CATEGORIES:Pro střední školy
END:VEVENT
BEGIN:VEVENT
DTSTART;TZID=Europe/Prague:20200225T090000
DTEND;TZID=Europe/Prague:20200225T094500
DTSTAMP:20260420T075300
CREATED:20200127T062838Z
LAST-MODIFIED:20200127T062838Z
UID:8959-1582621200-1582623900@zazijvedu.cz
SUMMARY:Chemie světla a barev
DESCRIPTION:
URL:https://zazijvedu.cz/event/chemie-svetla-a-barev-18/
LOCATION:Chemie světla a barev
CATEGORIES:Pro střední školy
END:VEVENT
END:VCALENDAR