BEGIN:VCALENDAR
VERSION:2.0
PRODID:-//Zažij vědu - ECPv6.15.20//NONSGML v1.0//EN
CALSCALE:GREGORIAN
METHOD:PUBLISH
X-WR-CALNAME:Zažij vědu
X-ORIGINAL-URL:https://zazijvedu.cz
X-WR-CALDESC:Akce na Zažij vědu
REFRESH-INTERVAL;VALUE=DURATION:PT1H
X-Robots-Tag:noindex
X-PUBLISHED-TTL:PT1H
BEGIN:VTIMEZONE
TZID:Europe/Prague
BEGIN:DAYLIGHT
TZOFFSETFROM:+0100
TZOFFSETTO:+0200
TZNAME:CEST
DTSTART:20240331T010000
END:DAYLIGHT
BEGIN:STANDARD
TZOFFSETFROM:+0200
TZOFFSETTO:+0100
TZNAME:CET
DTSTART:20241027T010000
END:STANDARD
BEGIN:DAYLIGHT
TZOFFSETFROM:+0100
TZOFFSETTO:+0200
TZNAME:CEST
DTSTART:20250330T010000
END:DAYLIGHT
BEGIN:STANDARD
TZOFFSETFROM:+0200
TZOFFSETTO:+0100
TZNAME:CET
DTSTART:20251026T010000
END:STANDARD
BEGIN:DAYLIGHT
TZOFFSETFROM:+0100
TZOFFSETTO:+0200
TZNAME:CEST
DTSTART:20260329T010000
END:DAYLIGHT
BEGIN:STANDARD
TZOFFSETFROM:+0200
TZOFFSETTO:+0100
TZNAME:CET
DTSTART:20261025T010000
END:STANDARD
END:VTIMEZONE
BEGIN:VEVENT
DTSTART;TZID=Europe/Prague:20250423T090000
DTEND;TZID=Europe/Prague:20250423T100000
DTSTAMP:20260425T054725
CREATED:20250313T121454Z
LAST-MODIFIED:20250313T121454Z
UID:14142-1745398800-1745402400@zazijvedu.cz
SUMMARY:3D biotisk
DESCRIPTION:3D biotisk
URL:https://zazijvedu.cz/event/3d-biotisk-12/
LOCATION:3D bio tisk
CATEGORIES:Pro střední školy
END:VEVENT
BEGIN:VEVENT
DTSTART;TZID=Europe/Prague:20250423T090000
DTEND;TZID=Europe/Prague:20250423T100000
DTSTAMP:20260425T054725
CREATED:20250314T110738Z
LAST-MODIFIED:20250314T110738Z
UID:14239-1745398800-1745402400@zazijvedu.cz
SUMMARY:Věda pod napětím
DESCRIPTION:Věda pod napětím
URL:https://zazijvedu.cz/event/veda-pod-napetim-7/
LOCATION:Věda pod napětím
CATEGORIES:Pro střední školy
END:VEVENT
BEGIN:VEVENT
DTSTART;TZID=Europe/Prague:20250423T090000
DTEND;TZID=Europe/Prague:20250423T100000
DTSTAMP:20260425T054725
CREATED:20250318T130352Z
LAST-MODIFIED:20250318T130352Z
UID:14628-1745398800-1745402400@zazijvedu.cz
SUMMARY:Hmota v krizi identity
DESCRIPTION:Hmota v krizi identity
URL:https://zazijvedu.cz/event/hmota-v-krizi-identity-5/
LOCATION:Hmota v krizi identity
CATEGORIES:Pro střední školy
END:VEVENT
BEGIN:VEVENT
DTSTART;TZID=Europe/Prague:20250423T100000
DTEND;TZID=Europe/Prague:20250423T110000
DTSTAMP:20260425T054725
CREATED:20250313T121542Z
LAST-MODIFIED:20250313T121542Z
UID:14144-1745402400-1745406000@zazijvedu.cz
SUMMARY:3D biotisk
DESCRIPTION:3D biotisk
URL:https://zazijvedu.cz/event/3d-biotisk-13/
LOCATION:3D bio tisk
CATEGORIES:Pro střední školy
END:VEVENT
BEGIN:VEVENT
DTSTART;TZID=Europe/Prague:20250423T100000
DTEND;TZID=Europe/Prague:20250423T110000
DTSTAMP:20260425T054725
CREATED:20250314T110840Z
LAST-MODIFIED:20250314T110840Z
UID:14241-1745402400-1745406000@zazijvedu.cz
SUMMARY:Věda pod napětím
DESCRIPTION:Věda pod napětím
URL:https://zazijvedu.cz/event/veda-pod-napetim-8/
LOCATION:Věda pod napětím
CATEGORIES:Pro střední školy
END:VEVENT
BEGIN:VEVENT
DTSTART;TZID=Europe/Prague:20250423T100000
DTEND;TZID=Europe/Prague:20250423T110000
DTSTAMP:20260425T054725
CREATED:20250318T130437Z
LAST-MODIFIED:20250318T130437Z
UID:14630-1745402400-1745406000@zazijvedu.cz
SUMMARY:Hmota v krizi identity
DESCRIPTION:Hmota v krizi identity
URL:https://zazijvedu.cz/event/hmota-v-krizi-identity-6/
LOCATION:Hmota v krizi identity
CATEGORIES:Pro střední školy
END:VEVENT
BEGIN:VEVENT
DTSTART;TZID=Europe/Prague:20250423T110000
DTEND;TZID=Europe/Prague:20250423T120000
DTSTAMP:20260425T054725
CREATED:20250313T121627Z
LAST-MODIFIED:20250313T121627Z
UID:14146-1745406000-1745409600@zazijvedu.cz
SUMMARY:3D biotisk
DESCRIPTION:3D biotisk
URL:https://zazijvedu.cz/event/3d-biotisk-14/
LOCATION:3D bio tisk
CATEGORIES:Pro střední školy
END:VEVENT
BEGIN:VEVENT
DTSTART;TZID=Europe/Prague:20250423T110000
DTEND;TZID=Europe/Prague:20250423T120000
DTSTAMP:20260425T054725
CREATED:20250314T110946Z
LAST-MODIFIED:20250314T111124Z
UID:14243-1745406000-1745409600@zazijvedu.cz
SUMMARY:Věda pod napětím
DESCRIPTION:Věda pod napětím
URL:https://zazijvedu.cz/event/veda-pod-napetim-9/
LOCATION:Věda pod napětím
CATEGORIES:Pro střední školy
END:VEVENT
BEGIN:VEVENT
DTSTART;TZID=Europe/Prague:20250423T110000
DTEND;TZID=Europe/Prague:20250423T120000
DTSTAMP:20260425T054725
CREATED:20250318T130621Z
LAST-MODIFIED:20250318T130621Z
UID:14634-1745406000-1745409600@zazijvedu.cz
SUMMARY:Hmota v krizi identity
DESCRIPTION:Hmota v krizi identity
URL:https://zazijvedu.cz/event/hmota-v-krizi-identity-8/
LOCATION:Hmota v krizi identity
CATEGORIES:Pro střední školy
END:VEVENT
BEGIN:VEVENT
DTSTART;TZID=Europe/Prague:20250423T120000
DTEND;TZID=Europe/Prague:20250423T130000
DTSTAMP:20260425T054725
CREATED:20250313T121718Z
LAST-MODIFIED:20250313T121718Z
UID:14148-1745409600-1745413200@zazijvedu.cz
SUMMARY:3D biotisk
DESCRIPTION:3D biotisk
URL:https://zazijvedu.cz/event/3d-biotisk-15/
LOCATION:3D bio tisk
CATEGORIES:Pro střední školy
END:VEVENT
BEGIN:VEVENT
DTSTART;TZID=Europe/Prague:20250423T120000
DTEND;TZID=Europe/Prague:20250423T130000
DTSTAMP:20260425T054725
CREATED:20250314T111058Z
LAST-MODIFIED:20250314T111058Z
UID:14245-1745409600-1745413200@zazijvedu.cz
SUMMARY:Věda pod napětím
DESCRIPTION:Věda pod napětím
URL:https://zazijvedu.cz/event/veda-pod-napetim-10/
LOCATION:Věda pod napětím
CATEGORIES:Pro střední školy
END:VEVENT
BEGIN:VEVENT
DTSTART;TZID=Europe/Prague:20250423T120000
DTEND;TZID=Europe/Prague:20250423T130000
DTSTAMP:20260425T054725
CREATED:20250318T130515Z
LAST-MODIFIED:20250318T130515Z
UID:14632-1745409600-1745413200@zazijvedu.cz
SUMMARY:Hmota v krizi identity
DESCRIPTION:Hmota v krizi identity
URL:https://zazijvedu.cz/event/hmota-v-krizi-identity-7/
LOCATION:Hmota v krizi identity
CATEGORIES:Pro střední školy
END:VEVENT
END:VCALENDAR