BEGIN:VCALENDAR
VERSION:2.0
PRODID:-//Zažij vědu - ECPv6.15.20//NONSGML v1.0//EN
CALSCALE:GREGORIAN
METHOD:PUBLISH
X-WR-CALNAME:Zažij vědu
X-ORIGINAL-URL:https://zazijvedu.cz
X-WR-CALDESC:Akce na Zažij vědu
REFRESH-INTERVAL;VALUE=DURATION:PT1H
X-Robots-Tag:noindex
X-PUBLISHED-TTL:PT1H
BEGIN:VTIMEZONE
TZID:Europe/Prague
BEGIN:DAYLIGHT
TZOFFSETFROM:+0100
TZOFFSETTO:+0200
TZNAME:CEST
DTSTART:20210328T010000
END:DAYLIGHT
BEGIN:STANDARD
TZOFFSETFROM:+0200
TZOFFSETTO:+0100
TZNAME:CET
DTSTART:20211031T010000
END:STANDARD
BEGIN:DAYLIGHT
TZOFFSETFROM:+0100
TZOFFSETTO:+0200
TZNAME:CEST
DTSTART:20220327T010000
END:DAYLIGHT
BEGIN:STANDARD
TZOFFSETFROM:+0200
TZOFFSETTO:+0100
TZNAME:CET
DTSTART:20221030T010000
END:STANDARD
BEGIN:DAYLIGHT
TZOFFSETFROM:+0100
TZOFFSETTO:+0200
TZNAME:CEST
DTSTART:20230326T010000
END:DAYLIGHT
BEGIN:STANDARD
TZOFFSETFROM:+0200
TZOFFSETTO:+0100
TZNAME:CET
DTSTART:20231029T010000
END:STANDARD
BEGIN:DAYLIGHT
TZOFFSETFROM:+0100
TZOFFSETTO:+0200
TZNAME:CEST
DTSTART:20240331T010000
END:DAYLIGHT
BEGIN:STANDARD
TZOFFSETFROM:+0200
TZOFFSETTO:+0100
TZNAME:CET
DTSTART:20241027T010000
END:STANDARD
BEGIN:DAYLIGHT
TZOFFSETFROM:+0100
TZOFFSETTO:+0200
TZNAME:CEST
DTSTART:20250330T010000
END:DAYLIGHT
BEGIN:STANDARD
TZOFFSETFROM:+0200
TZOFFSETTO:+0100
TZNAME:CET
DTSTART:20251026T010000
END:STANDARD
END:VTIMEZONE
BEGIN:VEVENT
DTSTART;TZID=Europe/Prague:20240416T150000
DTEND;TZID=Europe/Prague:20240416T154500
DTSTAMP:20260421T145053
CREATED:20240306T103809Z
LAST-MODIFIED:20240409T133657Z
UID:13081-1713279600-1713282300@zazijvedu.cz
SUMMARY:REOLOGIE ANEB JAK MATERIÁLY TEČOU
DESCRIPTION:REOLOGIE ANEB JAK MATERIÁLY TEČOU
URL:https://zazijvedu.cz/event/reologie-aneb-jak-materialy-tecou-11/
LOCATION:REOLOGIE ANEB JAK MATERIÁLY TEČOU
CATEGORIES:Pro veřejnost
END:VEVENT
BEGIN:VEVENT
DTSTART;TZID=Europe/Prague:20240416T120000
DTEND;TZID=Europe/Prague:20240416T124500
DTSTAMP:20260421T145053
CREATED:20240306T112519Z
LAST-MODIFIED:20240306T112752Z
UID:13100-1713268800-1713271500@zazijvedu.cz
SUMMARY:VĚDA SKRYTÁ V BOTĚ
DESCRIPTION:VĚDA SKRYTÁ V BOTĚ
URL:https://zazijvedu.cz/event/veda-skryta-v-bote-30/
LOCATION:Věda skrytá v botě
CATEGORIES:Pro střední školy
END:VEVENT
BEGIN:VEVENT
DTSTART;TZID=Europe/Prague:20240416T120000
DTEND;TZID=Europe/Prague:20240416T124500
DTSTAMP:20260421T145053
CREATED:20240306T103805Z
LAST-MODIFIED:20240306T103805Z
UID:13077-1713268800-1713271500@zazijvedu.cz
SUMMARY:REOLOGIE ANEB JAK MATERIÁLY TEČOU
DESCRIPTION:REOLOGIE ANEB JAK MATERIÁLY TEČOU
URL:https://zazijvedu.cz/event/reologie-aneb-jak-materialy-tecou-10/
LOCATION:REOLOGIE ANEB JAK MATERIÁLY TEČOU
CATEGORIES:Pro střední školy
END:VEVENT
BEGIN:VEVENT
DTSTART;TZID=Europe/Prague:20240416T110000
DTEND;TZID=Europe/Prague:20240416T114500
DTSTAMP:20260421T145053
CREATED:20240306T112523Z
LAST-MODIFIED:20240306T112744Z
UID:13099-1713265200-1713267900@zazijvedu.cz
SUMMARY:VĚDA SKRYTÁ V BOTĚ
DESCRIPTION:VĚDA SKRYTÁ V BOTĚ
URL:https://zazijvedu.cz/event/veda-skryta-v-bote-31/
LOCATION:Věda skrytá v botě
CATEGORIES:Pro střední školy
END:VEVENT
BEGIN:VEVENT
DTSTART;TZID=Europe/Prague:20240416T110000
DTEND;TZID=Europe/Prague:20240416T114500
DTSTAMP:20260421T145053
CREATED:20240306T103801Z
LAST-MODIFIED:20240306T103801Z
UID:13078-1713265200-1713267900@zazijvedu.cz
SUMMARY:REOLOGIE ANEB JAK MATERIÁLY TEČOU
DESCRIPTION:REOLOGIE ANEB JAK MATERIÁLY TEČOU
URL:https://zazijvedu.cz/event/reologie-aneb-jak-materialy-tecou-9/
LOCATION:REOLOGIE ANEB JAK MATERIÁLY TEČOU
CATEGORIES:Pro střední školy
END:VEVENT
BEGIN:VEVENT
DTSTART;TZID=Europe/Prague:20240416T100000
DTEND;TZID=Europe/Prague:20240416T104500
DTSTAMP:20260421T145053
CREATED:20240306T112527Z
LAST-MODIFIED:20240306T112732Z
UID:13098-1713261600-1713264300@zazijvedu.cz
SUMMARY:VĚDA SKRYTÁ V BOTĚ
DESCRIPTION:VĚDA SKRYTÁ V BOTĚ
URL:https://zazijvedu.cz/event/veda-skryta-v-bote-32/
LOCATION:Věda skrytá v botě
CATEGORIES:Pro střední školy
END:VEVENT
BEGIN:VEVENT
DTSTART;TZID=Europe/Prague:20240416T100000
DTEND;TZID=Europe/Prague:20240416T104500
DTSTAMP:20260421T145053
CREATED:20240306T103756Z
LAST-MODIFIED:20240306T103756Z
UID:13079-1713261600-1713264300@zazijvedu.cz
SUMMARY:REOLOGIE ANEB JAK MATERIÁLY TEČOU
DESCRIPTION:REOLOGIE ANEB JAK MATERIÁLY TEČOU
URL:https://zazijvedu.cz/event/reologie-aneb-jak-materialy-tecou-8/
LOCATION:REOLOGIE ANEB JAK MATERIÁLY TEČOU
CATEGORIES:Pro střední školy
END:VEVENT
BEGIN:VEVENT
DTSTART;TZID=Europe/Prague:20240416T090000
DTEND;TZID=Europe/Prague:20240416T094500
DTSTAMP:20260421T145053
CREATED:20240306T112531Z
LAST-MODIFIED:20240306T112723Z
UID:13096-1713258000-1713260700@zazijvedu.cz
SUMMARY:VĚDA SKRYTÁ V BOTĚ
DESCRIPTION:VĚDA SKRYTÁ V BOTĚ
URL:https://zazijvedu.cz/event/veda-skryta-v-bote-33/
LOCATION:Věda skrytá v botě
CATEGORIES:Pro střední školy
END:VEVENT
BEGIN:VEVENT
DTSTART;TZID=Europe/Prague:20240416T090000
DTEND;TZID=Europe/Prague:20240416T094500
DTSTAMP:20260421T145053
CREATED:20240306T103752Z
LAST-MODIFIED:20240306T103752Z
UID:13080-1713258000-1713260700@zazijvedu.cz
SUMMARY:REOLOGIE ANEB JAK MATERIÁLY TEČOU
DESCRIPTION:REOLOGIE ANEB JAK MATERIÁLY TEČOU
URL:https://zazijvedu.cz/event/reologie-aneb-jak-materialy-tecou-7/
LOCATION:REOLOGIE ANEB JAK MATERIÁLY TEČOU
CATEGORIES:Pro střední školy
END:VEVENT
BEGIN:VEVENT
DTSTART;TZID=Europe/Prague:20240416T080000
DTEND;TZID=Europe/Prague:20240416T084500
DTSTAMP:20260421T145053
CREATED:20240308T083536Z
LAST-MODIFIED:20240308T084611Z
UID:13363-1713254400-1713257100@zazijvedu.cz
SUMMARY:VĚDA SKRYTÁ V BOTĚ - TEST
DESCRIPTION:VĚDA SKRYTÁ V BOTĚ – TEST
URL:https://zazijvedu.cz/event/veda-skryta-v-bote-34/
LOCATION:Věda skrytá v botě
CATEGORIES:Pro střední školy
END:VEVENT
BEGIN:VEVENT
DTSTART;TZID=Europe/Prague:20240416T080000
DTEND;TZID=Europe/Prague:20240416T084500
DTSTAMP:20260421T145053
CREATED:20240308T083104Z
LAST-MODIFIED:20240308T084555Z
UID:13362-1713254400-1713257100@zazijvedu.cz
SUMMARY:REOLOGIE ANEB JAK MATERIÁLY TEČOU - TEST
DESCRIPTION:REOLOGIE ANEB JAK MATERIÁLY TEČOU – TEST
URL:https://zazijvedu.cz/event/reologie-aneb-jak-materialy-tecou-13/
LOCATION:REOLOGIE ANEB JAK MATERIÁLY TEČOU
CATEGORIES:Pro střední školy
END:VEVENT
BEGIN:VEVENT
DTSTART;TZID=Europe/Prague:20230426T160000
DTEND;TZID=Europe/Prague:20230426T164500
DTSTAMP:20260421T145053
CREATED:20230327T115252Z
LAST-MODIFIED:20230331T093146Z
UID:12050-1682524800-1682527500@zazijvedu.cz
SUMMARY:PIEZOELEKTRICKÉ A TRIBOELEKTRICKÉ GENERÁTORY ELEKTŘINY
DESCRIPTION:PIEZOELEKTRICKÉ A TRIBOELEKTRICKÉ GENERÁTORY ELEKTŘINY
URL:https://zazijvedu.cz/event/veda-skryta-v-bote-26/
LOCATION:PIEZOELEKTRICKÉ A TRIBOELEKTRICKÉ GENERÁTORY ELEKTŘINY
CATEGORIES:Pro veřejnost
END:VEVENT
BEGIN:VEVENT
DTSTART;TZID=Europe/Prague:20230426T160000
DTEND;TZID=Europe/Prague:20230426T164500
DTSTAMP:20260421T145053
CREATED:20230327T114625Z
LAST-MODIFIED:20230331T104418Z
UID:12037-1682524800-1682527500@zazijvedu.cz
SUMMARY:Reologie aneb jak materiály tečou
DESCRIPTION:Reologie aneb jak materiály tečou
URL:https://zazijvedu.cz/event/reologie-aneb-jak-materialy-tecou-2/
LOCATION:REOLOGIE ANEB JAK MATERIÁLY TEČOU
CATEGORIES:Pro veřejnost
END:VEVENT
BEGIN:VEVENT
DTSTART;TZID=Europe/Prague:20230426T160000
DTEND;TZID=Europe/Prague:20230426T164500
DTSTAMP:20260421T145053
CREATED:20230327T114042Z
LAST-MODIFIED:20230330T072901Z
UID:12031-1682524800-1682527500@zazijvedu.cz
SUMMARY:3D Bio Tisk
DESCRIPTION:3D Bio Tisk
URL:https://zazijvedu.cz/event/3d-bio-tisk-10/
LOCATION:3D bio tisk
CATEGORIES:Pro veřejnost
END:VEVENT
BEGIN:VEVENT
DTSTART;TZID=Europe/Prague:20230426T150000
DTEND;TZID=Europe/Prague:20230426T154500
DTSTAMP:20260421T145053
CREATED:20230327T115217Z
LAST-MODIFIED:20230331T093149Z
UID:12047-1682521200-1682523900@zazijvedu.cz
SUMMARY:PIEZOELEKTRICKÉ A TRIBOELEKTRICKÉ GENERÁTORY ELEKTŘINY
DESCRIPTION:PIEZOELEKTRICKÉ A TRIBOELEKTRICKÉ GENERÁTORY ELEKTŘINY
URL:https://zazijvedu.cz/event/veda-skryta-v-bote-25/
LOCATION:PIEZOELEKTRICKÉ A TRIBOELEKTRICKÉ GENERÁTORY ELEKTŘINY
CATEGORIES:Pro veřejnost
END:VEVENT
BEGIN:VEVENT
DTSTART;TZID=Europe/Prague:20230426T150000
DTEND;TZID=Europe/Prague:20230426T154500
DTSTAMP:20260421T145053
CREATED:20230327T114541Z
LAST-MODIFIED:20230331T104422Z
UID:12034-1682521200-1682523900@zazijvedu.cz
SUMMARY:Reologie aneb jak materiály tečou
DESCRIPTION:Reologie aneb jak materiály tečou
URL:https://zazijvedu.cz/event/reologie-aneb-jak-materialy-tecou/
LOCATION:REOLOGIE ANEB JAK MATERIÁLY TEČOU
CATEGORIES:Pro veřejnost
END:VEVENT
BEGIN:VEVENT
DTSTART;TZID=Europe/Prague:20230426T150000
DTEND;TZID=Europe/Prague:20230426T154500
DTSTAMP:20260421T145053
CREATED:20230327T113943Z
LAST-MODIFIED:20230330T072910Z
UID:12025-1682521200-1682523900@zazijvedu.cz
SUMMARY:3D Bio Tisk
DESCRIPTION:3D Bio Tisk
URL:https://zazijvedu.cz/event/3d-bio-tisk-9/
LOCATION:3D bio tisk
CATEGORIES:Pro veřejnost
END:VEVENT
BEGIN:VEVENT
DTSTART;TZID=Europe/Prague:20230426T100000
DTEND;TZID=Europe/Prague:20230426T104500
DTSTAMP:20260421T145053
CREATED:20230327T121354Z
LAST-MODIFIED:20230331T103001Z
UID:12062-1682503200-1682505900@zazijvedu.cz
SUMMARY:PIEZOELEKTRICKÉ A TRIBOELEKTRICKÉ GENERÁTORY ELEKTŘINY
DESCRIPTION:PIEZOELEKTRICKÉ A TRIBOELEKTRICKÉ GENERÁTORY ELEKTŘINY
URL:https://zazijvedu.cz/event/veda-skryta-v-bote-27/
LOCATION:PIEZOELEKTRICKÉ A TRIBOELEKTRICKÉ GENERÁTORY ELEKTŘINY
CATEGORIES:Pro střední školy
END:VEVENT
BEGIN:VEVENT
DTSTART;TZID=Europe/Prague:20230426T100000
DTEND;TZID=Europe/Prague:20230426T104500
DTSTAMP:20260421T145053
CREATED:20230327T114839Z
LAST-MODIFIED:20230331T104401Z
UID:12043-1682503200-1682505900@zazijvedu.cz
SUMMARY:Reologie aneb jak materiály tečou
DESCRIPTION:Reologie aneb jak materiály tečou
URL:https://zazijvedu.cz/event/reologie-aneb-jak-materialy-tecou-4/
LOCATION:REOLOGIE ANEB JAK MATERIÁLY TEČOU
CATEGORIES:Pro střední školy
END:VEVENT
BEGIN:VEVENT
DTSTART;TZID=Europe/Prague:20230426T100000
DTEND;TZID=Europe/Prague:20230426T104500
DTSTAMP:20260421T145053
CREATED:20230327T113709Z
LAST-MODIFIED:20230330T072846Z
UID:12020-1682503200-1682505900@zazijvedu.cz
SUMMARY:3D Bio Tisk
DESCRIPTION:3D Bio Tisk
URL:https://zazijvedu.cz/event/3d-bio-tisk-8/
LOCATION:3D bio tisk
CATEGORIES:Pro střední školy
END:VEVENT
BEGIN:VEVENT
DTSTART;TZID=Europe/Prague:20230426T090000
DTEND;TZID=Europe/Prague:20230426T094500
DTSTAMP:20260421T145053
CREATED:20230327T115118Z
LAST-MODIFIED:20230331T093151Z
UID:12045-1682499600-1682502300@zazijvedu.cz
SUMMARY:PIEZOELEKTRICKÉ A TRIBOELEKTRICKÉ GENERÁTORY ELEKTŘINY
DESCRIPTION:PIEZOELEKTRICKÉ A TRIBOELEKTRICKÉ GENERÁTORY ELEKTŘINY
URL:https://zazijvedu.cz/event/veda-skryta-v-bote-24/
LOCATION:PIEZOELEKTRICKÉ A TRIBOELEKTRICKÉ GENERÁTORY ELEKTŘINY
CATEGORIES:Pro střední školy
END:VEVENT
BEGIN:VEVENT
DTSTART;TZID=Europe/Prague:20230426T090000
DTEND;TZID=Europe/Prague:20230426T094500
DTSTAMP:20260421T145053
CREATED:20230327T114743Z
LAST-MODIFIED:20230331T104413Z
UID:12039-1682499600-1682502300@zazijvedu.cz
SUMMARY:Reologie aneb jak materiály tečou
DESCRIPTION:Reologie aneb jak materiály tečou
URL:https://zazijvedu.cz/event/reologie-aneb-jak-materialy-tecou-3/
LOCATION:REOLOGIE ANEB JAK MATERIÁLY TEČOU
CATEGORIES:Pro střední školy
END:VEVENT
BEGIN:VEVENT
DTSTART;TZID=Europe/Prague:20230426T090000
DTEND;TZID=Europe/Prague:20230426T094500
DTSTAMP:20260421T145053
CREATED:20230327T113206Z
LAST-MODIFIED:20230327T124603Z
UID:12017-1682499600-1682502300@zazijvedu.cz
SUMMARY:3D Bio tisk
DESCRIPTION:3D Bio tisk
URL:https://zazijvedu.cz/event/3d-bio-tisk-7/
LOCATION:3D bio tisk
CATEGORIES:Pro střední školy
END:VEVENT
BEGIN:VEVENT
DTSTART;TZID=Europe/Prague:20220427T150000
DTEND;TZID=Europe/Prague:20220427T154500
DTSTAMP:20260421T145053
CREATED:20220321T071104Z
LAST-MODIFIED:20220324T072020Z
UID:10848-1651071600-1651074300@zazijvedu.cz
SUMMARY:3D bio tisk
DESCRIPTION:3D BIO TISK
URL:https://zazijvedu.cz/event/3d-bio-tisk-6/
LOCATION:3D bio tisk
CATEGORIES:Pro veřejnost
END:VEVENT
BEGIN:VEVENT
DTSTART;TZID=Europe/Prague:20220427T140000
DTEND;TZID=Europe/Prague:20220427T144500
DTSTAMP:20260421T145053
CREATED:20220321T071003Z
LAST-MODIFIED:20220324T072018Z
UID:10845-1651068000-1651070700@zazijvedu.cz
SUMMARY:3D bio tisk
DESCRIPTION:3D BIO TISK
URL:https://zazijvedu.cz/event/3d-bio-tisk-5/
LOCATION:3D bio tisk
CATEGORIES:Pro veřejnost
END:VEVENT
BEGIN:VEVENT
DTSTART;TZID=Europe/Prague:20220427T120000
DTEND;TZID=Europe/Prague:20220427T124500
DTSTAMP:20260421T145053
CREATED:20220321T070817Z
LAST-MODIFIED:20220323T082742Z
UID:10843-1651060800-1651063500@zazijvedu.cz
SUMMARY:3D bio tisk
DESCRIPTION:3D BIO TISK\n– tento workshop má kapacitu omezenou na 15 míst
URL:https://zazijvedu.cz/event/3d-bio-tisk-4/
LOCATION:3D bio tisk
CATEGORIES:Pro střední školy
END:VEVENT
BEGIN:VEVENT
DTSTART;TZID=Europe/Prague:20220427T110000
DTEND;TZID=Europe/Prague:20220427T114500
DTSTAMP:20260421T145053
CREATED:20220321T070743Z
LAST-MODIFIED:20220323T082747Z
UID:10841-1651057200-1651059900@zazijvedu.cz
SUMMARY:3D bio tisk
DESCRIPTION:3D BIO TISK\n– tento workshop má kapacitu omezenou na 15 míst
URL:https://zazijvedu.cz/event/3d-bio-tisk-3/
LOCATION:3D bio tisk
CATEGORIES:Pro střední školy
END:VEVENT
BEGIN:VEVENT
DTSTART;TZID=Europe/Prague:20220427T100000
DTEND;TZID=Europe/Prague:20220427T104500
DTSTAMP:20260421T145053
CREATED:20220321T070550Z
LAST-MODIFIED:20220323T082751Z
UID:10839-1651053600-1651056300@zazijvedu.cz
SUMMARY:3D bio tisk
DESCRIPTION:3D BIO TISK\n– tento workshop má kapacitu omezenou na 15 míst
URL:https://zazijvedu.cz/event/3d-bio-tisk-2/
LOCATION:3D bio tisk
CATEGORIES:Pro střední školy
END:VEVENT
BEGIN:VEVENT
DTSTART;TZID=Europe/Prague:20220427T090000
DTEND;TZID=Europe/Prague:20220427T094500
DTSTAMP:20260421T145053
CREATED:20220321T070508Z
LAST-MODIFIED:20220323T082755Z
UID:10837-1651050000-1651052700@zazijvedu.cz
SUMMARY:3D bio tisk
DESCRIPTION:3D BIO TISK\n– tento workshop má kapacitu omezenou na 15 míst
URL:https://zazijvedu.cz/event/3d-bio-tisk/
LOCATION:3D bio tisk
CATEGORIES:Pro střední školy
END:VEVENT
BEGIN:VEVENT
DTSTART;TZID=Europe/Prague:20220203T150000
DTEND;TZID=Europe/Prague:20220203T154500
DTSTAMP:20260421T145053
CREATED:20220114T122834Z
LAST-MODIFIED:20220321T102557Z
UID:10418-1643900400-1643903100@zazijvedu.cz
SUMMARY:3D bio tisk
DESCRIPTION:
URL:https://zazijvedu.cz/event/3d-bio-tisk-29/
LOCATION:3D bio tisk
CATEGORIES:Pro veřejnost
END:VEVENT
END:VCALENDAR