BEGIN:VCALENDAR
VERSION:2.0
PRODID:-//Zažij vědu - ECPv6.15.20//NONSGML v1.0//EN
CALSCALE:GREGORIAN
METHOD:PUBLISH
X-ORIGINAL-URL:https://zazijvedu.cz
X-WR-CALDESC:Akce na Zažij vědu
REFRESH-INTERVAL;VALUE=DURATION:PT1H
X-Robots-Tag:noindex
X-PUBLISHED-TTL:PT1H
BEGIN:VTIMEZONE
TZID:Europe/Prague
BEGIN:DAYLIGHT
TZOFFSETFROM:+0100
TZOFFSETTO:+0200
TZNAME:CEST
DTSTART:20240331T010000
END:DAYLIGHT
BEGIN:STANDARD
TZOFFSETFROM:+0200
TZOFFSETTO:+0100
TZNAME:CET
DTSTART:20241027T010000
END:STANDARD
BEGIN:DAYLIGHT
TZOFFSETFROM:+0100
TZOFFSETTO:+0200
TZNAME:CEST
DTSTART:20250330T010000
END:DAYLIGHT
BEGIN:STANDARD
TZOFFSETFROM:+0200
TZOFFSETTO:+0100
TZNAME:CET
DTSTART:20251026T010000
END:STANDARD
BEGIN:DAYLIGHT
TZOFFSETFROM:+0100
TZOFFSETTO:+0200
TZNAME:CEST
DTSTART:20260329T010000
END:DAYLIGHT
BEGIN:STANDARD
TZOFFSETFROM:+0200
TZOFFSETTO:+0100
TZNAME:CET
DTSTART:20261025T010000
END:STANDARD
END:VTIMEZONE
BEGIN:VEVENT
DTSTART;TZID=Europe/Prague:20250423T090000
DTEND;TZID=Europe/Prague:20250423T100000
DTSTAMP:20260424T005709
CREATED:20250314T103116Z
LAST-MODIFIED:20250314T103116Z
UID:14201-1745398800-1745402400@zazijvedu.cz
SUMMARY:Toxický svět kolem nás
DESCRIPTION:Toxický svět kolem nás
URL:https://zazijvedu.cz/event/toxicky-svet-kolem-nas-17/
LOCATION:Toxický svět kolem nás
CATEGORIES:Pro střední školy
END:VEVENT
BEGIN:VEVENT
DTSTART;TZID=Europe/Prague:20250423T090000
DTEND;TZID=Europe/Prague:20250423T100000
DTSTAMP:20260424T005709
CREATED:20250314T111933Z
LAST-MODIFIED:20250314T111933Z
UID:14256-1745398800-1745402400@zazijvedu.cz
SUMMARY:Jak budeme žít na Měsíci a Marsu
DESCRIPTION:Jak budeme žít na Měsíci a Marsu
URL:https://zazijvedu.cz/event/jak-budeme-zit-na-mesici-a-marsu-7/
LOCATION:Jak budeme žít na Měsíci a Marsu
CATEGORIES:Pro střední školy
END:VEVENT
BEGIN:VEVENT
DTSTART;TZID=Europe/Prague:20250423T090000
DTEND;TZID=Europe/Prague:20250423T100000
DTSTAMP:20260424T005709
CREATED:20250314T121059Z
LAST-MODIFIED:20250314T121059Z
UID:14297-1745398800-1745402400@zazijvedu.cz
SUMMARY:Chemická zahrádka aneb tajemství (ne)života
DESCRIPTION:Chemická zahrádka aneb tajemství (ne)života
URL:https://zazijvedu.cz/event/chemicka-zahradka-aneb-tajemstvi-nezivota-11/
LOCATION:CHEMICKÁ ZAHRÁDKA ANEB TAJEMSTVÍ (NE)ŽIVOTA
CATEGORIES:Pro střední školy
END:VEVENT
BEGIN:VEVENT
DTSTART;TZID=Europe/Prague:20250423T090000
DTEND;TZID=Europe/Prague:20250423T100000
DTSTAMP:20260424T005709
CREATED:20250317T072012Z
LAST-MODIFIED:20250317T072012Z
UID:14512-1745398800-1745402400@zazijvedu.cz
SUMMARY:Mikrokosmos v nás
DESCRIPTION:Mikrokosmos v nás
URL:https://zazijvedu.cz/event/mikrokosmos-v-nas-17/
LOCATION:MIKROKOSMOS V NÁS
CATEGORIES:Pro střední školy
END:VEVENT
BEGIN:VEVENT
DTSTART;TZID=Europe/Prague:20250423T100000
DTEND;TZID=Europe/Prague:20250423T110000
DTSTAMP:20260424T005709
CREATED:20250314T103515Z
LAST-MODIFIED:20250314T103515Z
UID:14208-1745402400-1745406000@zazijvedu.cz
SUMMARY:Toxický svět kolem nás
DESCRIPTION:Toxický svět kolem nás
URL:https://zazijvedu.cz/event/toxicky-svet-kolem-nas-18/
LOCATION:Toxický svět kolem nás
CATEGORIES:Pro střední školy
END:VEVENT
BEGIN:VEVENT
DTSTART;TZID=Europe/Prague:20250423T100000
DTEND;TZID=Europe/Prague:20250423T110000
DTSTAMP:20260424T005709
CREATED:20250314T112026Z
LAST-MODIFIED:20250314T112026Z
UID:14259-1745402400-1745406000@zazijvedu.cz
SUMMARY:Jak budeme žít na Měsíci a Marsu
DESCRIPTION:Jak budeme žít na Měsíci a Marsu
URL:https://zazijvedu.cz/event/jak-budeme-zit-na-mesici-a-marsu-8/
LOCATION:Jak budeme žít na Měsíci a Marsu
CATEGORIES:Pro střední školy
END:VEVENT
BEGIN:VEVENT
DTSTART;TZID=Europe/Prague:20250423T100000
DTEND;TZID=Europe/Prague:20250423T110000
DTSTAMP:20260424T005709
CREATED:20250314T121157Z
LAST-MODIFIED:20250314T121157Z
UID:14299-1745402400-1745406000@zazijvedu.cz
SUMMARY:Chemická zahrádka aneb tajemství (ne)života
DESCRIPTION:Chemická zahrádka aneb tajemství (ne)života
URL:https://zazijvedu.cz/event/chemicka-zahradka-aneb-tajemstvi-nezivota-12/
LOCATION:CHEMICKÁ ZAHRÁDKA ANEB TAJEMSTVÍ (NE)ŽIVOTA
CATEGORIES:Pro střední školy
END:VEVENT
BEGIN:VEVENT
DTSTART;TZID=Europe/Prague:20250423T100000
DTEND;TZID=Europe/Prague:20250423T110000
DTSTAMP:20260424T005709
CREATED:20250317T072054Z
LAST-MODIFIED:20250317T072054Z
UID:14514-1745402400-1745406000@zazijvedu.cz
SUMMARY:Mikrokosmos v nás
DESCRIPTION:Mikrokosmos v nás
URL:https://zazijvedu.cz/event/mikrokosmos-v-nas-18/
LOCATION:MIKROKOSMOS V NÁS
CATEGORIES:Pro střední školy
END:VEVENT
BEGIN:VEVENT
DTSTART;TZID=Europe/Prague:20250423T110000
DTEND;TZID=Europe/Prague:20250423T120000
DTSTAMP:20260424T005709
CREATED:20250314T103551Z
LAST-MODIFIED:20250314T103551Z
UID:14211-1745406000-1745409600@zazijvedu.cz
SUMMARY:Toxický svět kolem nás
DESCRIPTION:Toxický svět kolem nás
URL:https://zazijvedu.cz/event/toxicky-svet-kolem-nas-19/
LOCATION:Toxický svět kolem nás
CATEGORIES:Pro střední školy
END:VEVENT
BEGIN:VEVENT
DTSTART;TZID=Europe/Prague:20250423T110000
DTEND;TZID=Europe/Prague:20250423T120000
DTSTAMP:20260424T005709
CREATED:20250314T103626Z
LAST-MODIFIED:20250314T103626Z
UID:14213-1745406000-1745409600@zazijvedu.cz
SUMMARY:Toxický svět kolem nás
DESCRIPTION:Toxický svět kolem nás
URL:https://zazijvedu.cz/event/toxicky-svet-kolem-nas-20/
LOCATION:Toxický svět kolem nás
CATEGORIES:Pro střední školy
END:VEVENT
BEGIN:VEVENT
DTSTART;TZID=Europe/Prague:20250423T110000
DTEND;TZID=Europe/Prague:20250423T120000
DTSTAMP:20260424T005709
CREATED:20250314T112111Z
LAST-MODIFIED:20250314T112111Z
UID:14261-1745406000-1745409600@zazijvedu.cz
SUMMARY:Jak budeme žít na Měsíci a Marsu
DESCRIPTION:Jak budeme žít na Měsíci a Marsu
URL:https://zazijvedu.cz/event/jak-budeme-zit-na-mesici-a-marsu-9/
LOCATION:Jak budeme žít na Měsíci a Marsu
CATEGORIES:Pro střední školy
END:VEVENT
BEGIN:VEVENT
DTSTART;TZID=Europe/Prague:20250423T110000
DTEND;TZID=Europe/Prague:20250423T120000
DTSTAMP:20260424T005709
CREATED:20250314T121257Z
LAST-MODIFIED:20250314T121257Z
UID:14305-1745406000-1745409600@zazijvedu.cz
SUMMARY:Chemická zahrádka aneb tajemství (ne)života
DESCRIPTION:Chemická zahrádka aneb tajemství (ne)života
URL:https://zazijvedu.cz/event/chemicka-zahradka-aneb-tajemstvi-nezivota-13/
LOCATION:CHEMICKÁ ZAHRÁDKA ANEB TAJEMSTVÍ (NE)ŽIVOTA
CATEGORIES:Pro střední školy
END:VEVENT
BEGIN:VEVENT
DTSTART;TZID=Europe/Prague:20250423T110000
DTEND;TZID=Europe/Prague:20250423T120000
DTSTAMP:20260424T005709
CREATED:20250317T072156Z
LAST-MODIFIED:20250317T072156Z
UID:14516-1745406000-1745409600@zazijvedu.cz
SUMMARY:Mikrokosmos v nás
DESCRIPTION:Mikrokosmos v nás
URL:https://zazijvedu.cz/event/mikrokosmos-v-nas-19/
LOCATION:MIKROKOSMOS V NÁS
CATEGORIES:Pro střední školy
END:VEVENT
BEGIN:VEVENT
DTSTART;TZID=Europe/Prague:20250423T120000
DTEND;TZID=Europe/Prague:20250423T130000
DTSTAMP:20260424T005709
CREATED:20250314T103708Z
LAST-MODIFIED:20250314T103758Z
UID:14215-1745409600-1745413200@zazijvedu.cz
SUMMARY:Toxický svět kolem nás
DESCRIPTION:Toxický svět kolem nás
URL:https://zazijvedu.cz/event/toxicky-svet-kolem-nas-21/
LOCATION:Toxický svět kolem nás
CATEGORIES:Pro střední školy
END:VEVENT
BEGIN:VEVENT
DTSTART;TZID=Europe/Prague:20250423T120000
DTEND;TZID=Europe/Prague:20250423T130000
DTSTAMP:20260424T005709
CREATED:20250314T112312Z
LAST-MODIFIED:20250314T112312Z
UID:14263-1745409600-1745413200@zazijvedu.cz
SUMMARY:Jak budeme žít na Měsíci a Marsu
DESCRIPTION:Jak budeme žít na Měsíci a Marsu
URL:https://zazijvedu.cz/event/jak-budeme-zit-na-mesici-a-marsu-10/
LOCATION:Jak budeme žít na Měsíci a Marsu
CATEGORIES:Pro střední školy
END:VEVENT
BEGIN:VEVENT
DTSTART;TZID=Europe/Prague:20250423T120000
DTEND;TZID=Europe/Prague:20250423T130000
DTSTAMP:20260424T005709
CREATED:20250314T121359Z
LAST-MODIFIED:20250314T121359Z
UID:14307-1745409600-1745413200@zazijvedu.cz
SUMMARY:Chemická zahrádka aneb tajemství (ne)života
DESCRIPTION:Chemická zahrádka aneb tajemství (ne)života
URL:https://zazijvedu.cz/event/chemicka-zahradka-aneb-tajemstvi-nezivota-14/
LOCATION:CHEMICKÁ ZAHRÁDKA ANEB TAJEMSTVÍ (NE)ŽIVOTA
CATEGORIES:Pro střední školy
END:VEVENT
BEGIN:VEVENT
DTSTART;TZID=Europe/Prague:20250423T120000
DTEND;TZID=Europe/Prague:20250423T130000
DTSTAMP:20260424T005709
CREATED:20250317T072245Z
LAST-MODIFIED:20250317T072245Z
UID:14518-1745409600-1745413200@zazijvedu.cz
SUMMARY:Mikrokosmos v nás
DESCRIPTION:Mikrokosmos v nás
URL:https://zazijvedu.cz/event/mikrokosmos-v-nas-20/
LOCATION:MIKROKOSMOS V NÁS
CATEGORIES:Pro střední školy
END:VEVENT
END:VCALENDAR