BEGIN:VCALENDAR
VERSION:2.0
PRODID:-//Zažij vědu - ECPv6.15.20//NONSGML v1.0//EN
CALSCALE:GREGORIAN
METHOD:PUBLISH
X-WR-CALNAME:Zažij vědu
X-ORIGINAL-URL:https://zazijvedu.cz
X-WR-CALDESC:Akce na Zažij vědu
REFRESH-INTERVAL;VALUE=DURATION:PT1H
X-Robots-Tag:noindex
X-PUBLISHED-TTL:PT1H
BEGIN:VTIMEZONE
TZID:Europe/Prague
BEGIN:DAYLIGHT
TZOFFSETFROM:+0100
TZOFFSETTO:+0200
TZNAME:CEST
DTSTART:20210328T010000
END:DAYLIGHT
BEGIN:STANDARD
TZOFFSETFROM:+0200
TZOFFSETTO:+0100
TZNAME:CET
DTSTART:20211031T010000
END:STANDARD
BEGIN:DAYLIGHT
TZOFFSETFROM:+0100
TZOFFSETTO:+0200
TZNAME:CEST
DTSTART:20220327T010000
END:DAYLIGHT
BEGIN:STANDARD
TZOFFSETFROM:+0200
TZOFFSETTO:+0100
TZNAME:CET
DTSTART:20221030T010000
END:STANDARD
BEGIN:DAYLIGHT
TZOFFSETFROM:+0100
TZOFFSETTO:+0200
TZNAME:CEST
DTSTART:20230326T010000
END:DAYLIGHT
BEGIN:STANDARD
TZOFFSETFROM:+0200
TZOFFSETTO:+0100
TZNAME:CET
DTSTART:20231029T010000
END:STANDARD
BEGIN:DAYLIGHT
TZOFFSETFROM:+0100
TZOFFSETTO:+0200
TZNAME:CEST
DTSTART:20240331T010000
END:DAYLIGHT
BEGIN:STANDARD
TZOFFSETFROM:+0200
TZOFFSETTO:+0100
TZNAME:CET
DTSTART:20241027T010000
END:STANDARD
BEGIN:DAYLIGHT
TZOFFSETFROM:+0100
TZOFFSETTO:+0200
TZNAME:CEST
DTSTART:20250330T010000
END:DAYLIGHT
BEGIN:STANDARD
TZOFFSETFROM:+0200
TZOFFSETTO:+0100
TZNAME:CET
DTSTART:20251026T010000
END:STANDARD
END:VTIMEZONE
BEGIN:VEVENT
DTSTART;TZID=Europe/Prague:20240416T110000
DTEND;TZID=Europe/Prague:20240416T114500
DTSTAMP:20260420T080645
CREATED:20240308T113527Z
LAST-MODIFIED:20240308T113906Z
UID:13508-1713265200-1713267900@zazijvedu.cz
SUMMARY:MIKROKOSMOS V NÁS
DESCRIPTION:MIKROKOSMOS V NÁS
URL:https://zazijvedu.cz/event/mikrokosmos-v-nas-9/
LOCATION:MIKROKOSMOS V NÁS
CATEGORIES:Pro střední školy
END:VEVENT
BEGIN:VEVENT
DTSTART;TZID=Europe/Prague:20240416T110000
DTEND;TZID=Europe/Prague:20240416T114500
DTSTAMP:20260420T080645
CREATED:20240307T121824Z
LAST-MODIFIED:20240307T122207Z
UID:13263-1713265200-1713267900@zazijvedu.cz
SUMMARY:CHEMICKÁ ZAHRÁDKA ANEB TAJEMSTVÍ (NE)ŽIVOTA
DESCRIPTION:CHEMICKÁ ZAHRÁDKA ANEB TAJEMSTVÍ (NE)ŽIVOTA
URL:https://zazijvedu.cz/event/chemicka-zahradka-aneb-tajemstvi-nezivota-4/
LOCATION:CHEMICKÁ ZAHRÁDKA ANEB TAJEMSTVÍ (NE)ŽIVOTA
CATEGORIES:Pro střední školy
END:VEVENT
BEGIN:VEVENT
DTSTART;TZID=Europe/Prague:20240416T110000
DTEND;TZID=Europe/Prague:20240416T114500
DTSTAMP:20260420T080645
CREATED:20240307T115942Z
LAST-MODIFIED:20240402T102351Z
UID:13234-1713265200-1713267900@zazijvedu.cz
SUMMARY:TĚŽBA ŽELEZA NA MARSU
DESCRIPTION:TĚŽBA ŽELEZA NA MARSU
URL:https://zazijvedu.cz/event/tezba-zeleza-na-marsu-5/
LOCATION:TĚŽBA ŽELEZA NA MARSU
CATEGORIES:Pro střední školy
END:VEVENT
BEGIN:VEVENT
DTSTART;TZID=Europe/Prague:20240416T100000
DTEND;TZID=Europe/Prague:20240416T104500
DTSTAMP:20260420T080645
CREATED:20240308T115542Z
LAST-MODIFIED:20240308T115542Z
UID:13561-1713261600-1713264300@zazijvedu.cz
SUMMARY:JAK VYČISTIT VODU
DESCRIPTION:JAK VYČISTIT VODU
URL:https://zazijvedu.cz/event/jak-vycistit-vodu-2/
LOCATION:JAK VYČISTIT VODU
CATEGORIES:Pro střední školy
END:VEVENT
BEGIN:VEVENT
DTSTART;TZID=Europe/Prague:20240416T100000
DTEND;TZID=Europe/Prague:20240416T104500
DTSTAMP:20260420T080645
CREATED:20240308T113400Z
LAST-MODIFIED:20240308T113400Z
UID:13506-1713261600-1713264300@zazijvedu.cz
SUMMARY:MIKROKOSMOS V NÁS
DESCRIPTION:MIKROKOSMOS V NÁS
URL:https://zazijvedu.cz/event/mikrokosmos-v-nas-8/
LOCATION:MIKROKOSMOS V NÁS
CATEGORIES:Pro střední školy
END:VEVENT
BEGIN:VEVENT
DTSTART;TZID=Europe/Prague:20240416T100000
DTEND;TZID=Europe/Prague:20240416T104500
DTSTAMP:20260420T080645
CREATED:20240307T121828Z
LAST-MODIFIED:20240307T122216Z
UID:13262-1713261600-1713264300@zazijvedu.cz
SUMMARY:CHEMICKÁ ZAHRÁDKA ANEB TAJEMSTVÍ (NE)ŽIVOTA
DESCRIPTION:CHEMICKÁ ZAHRÁDKA ANEB TAJEMSTVÍ (NE)ŽIVOTA
URL:https://zazijvedu.cz/event/chemicka-zahradka-aneb-tajemstvi-nezivota-5/
LOCATION:CHEMICKÁ ZAHRÁDKA ANEB TAJEMSTVÍ (NE)ŽIVOTA
CATEGORIES:Pro střední školy
END:VEVENT
BEGIN:VEVENT
DTSTART;TZID=Europe/Prague:20240416T100000
DTEND;TZID=Europe/Prague:20240416T104500
DTSTAMP:20260420T080645
CREATED:20240307T115934Z
LAST-MODIFIED:20240307T120245Z
UID:13233-1713261600-1713264300@zazijvedu.cz
SUMMARY:TĚŽBA ŽELEZA NA MARSU
DESCRIPTION:TĚŽBA ŽELEZA NA MARSU
URL:https://zazijvedu.cz/event/tezba-zeleza-na-marsu-4/
LOCATION:TĚŽBA ŽELEZA NA MARSU
CATEGORIES:Pro střední školy
END:VEVENT
BEGIN:VEVENT
DTSTART;TZID=Europe/Prague:20240416T090000
DTEND;TZID=Europe/Prague:20240416T094500
DTSTAMP:20260420T080645
CREATED:20240308T115427Z
LAST-MODIFIED:20240308T115518Z
UID:13559-1713258000-1713260700@zazijvedu.cz
SUMMARY:JAK VYČISTIT VODU
DESCRIPTION:JAK VYČISTIT VODU
URL:https://zazijvedu.cz/event/jak-vycistit-vodu/
LOCATION:JAK VYČISTIT VODU
CATEGORIES:Pro střední školy
END:VEVENT
BEGIN:VEVENT
DTSTART;TZID=Europe/Prague:20240416T090000
DTEND;TZID=Europe/Prague:20240416T094500
DTSTAMP:20260420T080645
CREATED:20240308T113142Z
LAST-MODIFIED:20240308T113142Z
UID:13504-1713258000-1713260700@zazijvedu.cz
SUMMARY:MIKROKOSMOS V NÁS
DESCRIPTION:MIKROKOSMOS V NÁS
URL:https://zazijvedu.cz/event/mikrokosmos-v-nas-7/
LOCATION:MIKROKOSMOS V NÁS
CATEGORIES:Pro střední školy
END:VEVENT
BEGIN:VEVENT
DTSTART;TZID=Europe/Prague:20240416T090000
DTEND;TZID=Europe/Prague:20240416T094500
DTSTAMP:20260420T080645
CREATED:20240307T121835Z
LAST-MODIFIED:20240307T122224Z
UID:13261-1713258000-1713260700@zazijvedu.cz
SUMMARY:CHEMICKÁ ZAHRÁDKA ANEB TAJEMSTVÍ (NE)ŽIVOTA
DESCRIPTION:CHEMICKÁ ZAHRÁDKA ANEB TAJEMSTVÍ (NE)ŽIVOTA
URL:https://zazijvedu.cz/event/chemicka-zahradka-aneb-tajemstvi-nezivota-6/
LOCATION:CHEMICKÁ ZAHRÁDKA ANEB TAJEMSTVÍ (NE)ŽIVOTA
CATEGORIES:Pro střední školy
END:VEVENT
BEGIN:VEVENT
DTSTART;TZID=Europe/Prague:20240416T090000
DTEND;TZID=Europe/Prague:20240416T094500
DTSTAMP:20260420T080645
CREATED:20240307T115929Z
LAST-MODIFIED:20240307T120301Z
UID:13232-1713258000-1713260700@zazijvedu.cz
SUMMARY:TĚŽBA ŽELEZA NA MARSU
DESCRIPTION:TĚŽBA ŽELEZA NA MARSU
URL:https://zazijvedu.cz/event/tezba-zeleza-na-marsu-3/
LOCATION:TĚŽBA ŽELEZA NA MARSU
CATEGORIES:Pro střední školy
END:VEVENT
BEGIN:VEVENT
DTSTART;TZID=Europe/Prague:20230426T160000
DTEND;TZID=Europe/Prague:20230426T164500
DTSTAMP:20260420T080645
CREATED:20230328T143237Z
LAST-MODIFIED:20230331T103447Z
UID:12268-1682524800-1682527500@zazijvedu.cz
SUMMARY:KŮŽE\, ŠLACHY\, PEŘÍ… ODPAD NEBO POKLAD?
DESCRIPTION:KŮŽE\, ŠLACHY\, PEŘÍ… ODPAD NEBO POKLAD?
URL:https://zazijvedu.cz/event/biopolymery-to-jsou-jatka-20/
LOCATION:KŮŽE\, ŠLACHY\, PEŘÍ… ODPAD NEBO POKLAD?
CATEGORIES:Pro veřejnost
END:VEVENT
BEGIN:VEVENT
DTSTART;TZID=Europe/Prague:20230426T160000
DTEND;TZID=Europe/Prague:20230426T164500
DTSTAMP:20260420T080645
CREATED:20230328T131511Z
LAST-MODIFIED:20230328T131511Z
UID:12224-1682524800-1682527500@zazijvedu.cz
SUMMARY:MIKROKOSMOS V NÁS
DESCRIPTION:MIKROKOSMOS V NÁS
URL:https://zazijvedu.cz/event/mikrokosmos-v-nas-2/
LOCATION:MIKROKOSMOS V NÁS
CATEGORIES:Pro veřejnost
END:VEVENT
BEGIN:VEVENT
DTSTART;TZID=Europe/Prague:20230426T160000
DTEND;TZID=Europe/Prague:20230426T163000
DTSTAMP:20260420T080645
CREATED:20230328T143016Z
LAST-MODIFIED:20230328T143016Z
UID:12262-1682524800-1682526600@zazijvedu.cz
SUMMARY:TOXICKÝ SVĚT KOLEM NÁS
DESCRIPTION:TOXICKÝ SVĚT KOLEM NÁS
URL:https://zazijvedu.cz/event/toxicky-svet-kolem-nas-8/
LOCATION:Toxický svět kolem nás
CATEGORIES:Pro veřejnost
END:VEVENT
BEGIN:VEVENT
DTSTART;TZID=Europe/Prague:20230426T150000
DTEND;TZID=Europe/Prague:20230426T154500
DTSTAMP:20260420T080645
CREATED:20230328T143154Z
LAST-MODIFIED:20230331T103536Z
UID:12265-1682521200-1682523900@zazijvedu.cz
SUMMARY:KŮŽE\, ŠLACHY\, PEŘÍ… ODPAD NEBO POKLAD?
DESCRIPTION:KŮŽE\, ŠLACHY\, PEŘÍ… ODPAD NEBO POKLAD?
URL:https://zazijvedu.cz/event/biopolymery-to-jsou-jatka-19/
LOCATION:KŮŽE\, ŠLACHY\, PEŘÍ… ODPAD NEBO POKLAD?
CATEGORIES:Pro veřejnost
END:VEVENT
BEGIN:VEVENT
DTSTART;TZID=Europe/Prague:20230426T150000
DTEND;TZID=Europe/Prague:20230426T154500
DTSTAMP:20260420T080645
CREATED:20230328T131423Z
LAST-MODIFIED:20230328T131423Z
UID:12220-1682521200-1682523900@zazijvedu.cz
SUMMARY:MIKROKOSMOS V NÁS
DESCRIPTION:MIKROKOSMOS V NÁS
URL:https://zazijvedu.cz/event/mikrokosmos-v-nas/
LOCATION:MIKROKOSMOS V NÁS
CATEGORIES:Pro veřejnost
END:VEVENT
BEGIN:VEVENT
DTSTART;TZID=Europe/Prague:20230426T150000
DTEND;TZID=Europe/Prague:20230426T153000
DTSTAMP:20260420T080645
CREATED:20230328T142931Z
LAST-MODIFIED:20230328T142931Z
UID:12259-1682521200-1682523000@zazijvedu.cz
SUMMARY:TOXICKÝ SVĚT KOLEM NÁS
DESCRIPTION:TOXICKÝ SVĚT KOLEM NÁS
URL:https://zazijvedu.cz/event/toxicky-svet-kolem-nas-7/
LOCATION:Toxický svět kolem nás
CATEGORIES:Pro veřejnost
END:VEVENT
BEGIN:VEVENT
DTSTART;TZID=Europe/Prague:20230426T120000
DTEND;TZID=Europe/Prague:20230426T124500
DTSTAMP:20260420T080645
CREATED:20230331T122503Z
LAST-MODIFIED:20230331T122503Z
UID:12448-1682510400-1682513100@zazijvedu.cz
SUMMARY:Toxický svět kolem nás
DESCRIPTION:Toxický svět kolem nás
URL:https://zazijvedu.cz/event/toxicky-svet-kolem-nas-12/
LOCATION:Toxický svět kolem nás
CATEGORIES:Pro střední školy
END:VEVENT
BEGIN:VEVENT
DTSTART;TZID=Europe/Prague:20230426T110000
DTEND;TZID=Europe/Prague:20230426T114500
DTSTAMP:20260420T080645
CREATED:20230331T122415Z
LAST-MODIFIED:20230331T122535Z
UID:12443-1682506800-1682509500@zazijvedu.cz
SUMMARY:Toxický svět kolem nás
DESCRIPTION:Toxický svět kolem nás
URL:https://zazijvedu.cz/event/toxicky-svet-kolem-nas-11/
LOCATION:Toxický svět kolem nás
CATEGORIES:Pro střední školy
END:VEVENT
BEGIN:VEVENT
DTSTART;TZID=Europe/Prague:20230426T100000
DTEND;TZID=Europe/Prague:20230426T104500
DTSTAMP:20260420T080645
CREATED:20230328T211301Z
LAST-MODIFIED:20230328T211301Z
UID:12282-1682503200-1682505900@zazijvedu.cz
SUMMARY:TOXICKÝ SVĚT KOLEM NÁS
DESCRIPTION:TOXICKÝ SVĚT KOLEM NÁS
URL:https://zazijvedu.cz/event/toxicky-svet-kolem-nas-10/
LOCATION:Toxický svět kolem nás
CATEGORIES:Pro střední školy
END:VEVENT
BEGIN:VEVENT
DTSTART;TZID=Europe/Prague:20230426T100000
DTEND;TZID=Europe/Prague:20230426T104500
DTSTAMP:20260420T080645
CREATED:20230328T134133Z
LAST-MODIFIED:20230328T134133Z
UID:12251-1682503200-1682505900@zazijvedu.cz
SUMMARY:MIKROKOSMOS V NÁS
DESCRIPTION:MIKROKOSMOS V NÁS
URL:https://zazijvedu.cz/event/mikrokosmos-v-nas-4/
LOCATION:MIKROKOSMOS V NÁS
CATEGORIES:Pro střední školy
END:VEVENT
BEGIN:VEVENT
DTSTART;TZID=Europe/Prague:20230426T090000
DTEND;TZID=Europe/Prague:20230426T094500
DTSTAMP:20260420T080645
CREATED:20230328T211205Z
LAST-MODIFIED:20230328T211205Z
UID:12280-1682499600-1682502300@zazijvedu.cz
SUMMARY:TOXICKÝ SVĚT KOLEM NÁS
DESCRIPTION:TOXICKÝ SVĚT KOLEM NÁS
URL:https://zazijvedu.cz/event/toxicky-svet-kolem-nas-9/
LOCATION:Toxický svět kolem nás
CATEGORIES:Pro střední školy
END:VEVENT
BEGIN:VEVENT
DTSTART;TZID=Europe/Prague:20230426T090000
DTEND;TZID=Europe/Prague:20230426T094500
DTSTAMP:20260420T080645
CREATED:20230328T134051Z
LAST-MODIFIED:20230328T134051Z
UID:12249-1682499600-1682502300@zazijvedu.cz
SUMMARY:MIKROKOSMOS V NÁS
DESCRIPTION:MIKROKOSMOS V NÁS
URL:https://zazijvedu.cz/event/mikrokosmos-v-nas-3/
LOCATION:MIKROKOSMOS V NÁS
CATEGORIES:Pro střední školy
END:VEVENT
BEGIN:VEVENT
DTSTART;TZID=Europe/Prague:20220427T150000
DTEND;TZID=Europe/Prague:20220427T154500
DTSTAMP:20260420T080645
CREATED:20220321T084850Z
LAST-MODIFIED:20220324T073055Z
UID:10982-1651071600-1651074300@zazijvedu.cz
SUMMARY:Toxický svět kolem nás
DESCRIPTION:TOXICKÝ SVĚT KOLEM NÁS
URL:https://zazijvedu.cz/event/toxicky-svet-kolem-nas-6/
LOCATION:Toxický svět kolem nás
CATEGORIES:Pro veřejnost
END:VEVENT
BEGIN:VEVENT
DTSTART;TZID=Europe/Prague:20220427T150000
DTEND;TZID=Europe/Prague:20220427T154500
DTSTAMP:20260420T080645
CREATED:20220321T084201Z
LAST-MODIFIED:20220324T073028Z
UID:10969-1651071600-1651074300@zazijvedu.cz
SUMMARY:Uhlík vs. klimatické změny
DESCRIPTION:UHLÍK VS. KLIMATICKÉ ZMĚNY
URL:https://zazijvedu.cz/event/uhlik-vs-klimaticke-zmeny-6/
LOCATION:Uhlík vs. klimatické změny
CATEGORIES:Pro veřejnost
END:VEVENT
BEGIN:VEVENT
DTSTART;TZID=Europe/Prague:20220427T140000
DTEND;TZID=Europe/Prague:20220603T144500
DTSTAMP:20260420T080645
CREATED:20220321T084106Z
LAST-MODIFIED:20220324T073020Z
UID:10966-1651068000-1654267500@zazijvedu.cz
SUMMARY:Uhlík vs. klimatické změny
DESCRIPTION:UHLÍK VS. KLIMATICKÉ ZMĚNY
URL:https://zazijvedu.cz/event/uhlik-vs-klimaticke-zmeny-4/
LOCATION:Uhlík vs. klimatické změny
CATEGORIES:Pro veřejnost
END:VEVENT
BEGIN:VEVENT
DTSTART;TZID=Europe/Prague:20220427T140000
DTEND;TZID=Europe/Prague:20220427T144500
DTSTAMP:20260420T080645
CREATED:20220321T084822Z
LAST-MODIFIED:20220324T073052Z
UID:10980-1651068000-1651070700@zazijvedu.cz
SUMMARY:Toxický svět kolem nás
DESCRIPTION:TOXICKÝ SVĚT KOLEM NÁS
URL:https://zazijvedu.cz/event/toxicky-svet-kolem-nas-5/
LOCATION:Toxický svět kolem nás
CATEGORIES:Pro veřejnost
END:VEVENT
BEGIN:VEVENT
DTSTART;TZID=Europe/Prague:20220427T120000
DTEND;TZID=Europe/Prague:20220427T124500
DTSTAMP:20260420T080645
CREATED:20220321T084650Z
LAST-MODIFIED:20220323T083439Z
UID:10978-1651060800-1651063500@zazijvedu.cz
SUMMARY:Toxický svět kolem nás
DESCRIPTION:TOXICKÝ SVĚT KOLEM NÁS\n– tento workshop má kapacitu omezenou na 15 míst
URL:https://zazijvedu.cz/event/toxicky-svet-kolem-nas-4/
LOCATION:Toxický svět kolem nás
CATEGORIES:Pro střední školy
END:VEVENT
BEGIN:VEVENT
DTSTART;TZID=Europe/Prague:20220427T120000
DTEND;TZID=Europe/Prague:20220427T124500
DTSTAMP:20260420T080645
CREATED:20220321T083953Z
LAST-MODIFIED:20220323T083408Z
UID:10964-1651060800-1651063500@zazijvedu.cz
SUMMARY:Uhlík vs. klimatické změny
DESCRIPTION:UHLÍK VS. KLIMATICKÉ ZMĚNY\n– tento workshop má kapacitu omezenou na 15 míst
URL:https://zazijvedu.cz/event/uhlik-vs-klimaticke-zmeny-5/
LOCATION:Uhlík vs. klimatické změny
CATEGORIES:Pro střední školy
END:VEVENT
BEGIN:VEVENT
DTSTART;TZID=Europe/Prague:20220427T110000
DTEND;TZID=Europe/Prague:20220427T114500
DTSTAMP:20260420T080645
CREATED:20220321T084614Z
LAST-MODIFIED:20220323T083443Z
UID:10976-1651057200-1651059900@zazijvedu.cz
SUMMARY:Toxický svět kolem nás
DESCRIPTION:TOXICKÝ SVĚT KOLEM NÁS\n– tento workshop má kapacitu omezenou na 15 míst
URL:https://zazijvedu.cz/event/toxicky-svet-kolem-nas-3/
LOCATION:Toxický svět kolem nás
CATEGORIES:Pro střední školy
END:VEVENT
END:VCALENDAR