BEGIN:VCALENDAR
VERSION:2.0
PRODID:-//Zažij vědu - ECPv6.15.20//NONSGML v1.0//EN
CALSCALE:GREGORIAN
METHOD:PUBLISH
X-WR-CALNAME:Zažij vědu
X-ORIGINAL-URL:https://zazijvedu.cz
X-WR-CALDESC:Akce na Zažij vědu
REFRESH-INTERVAL;VALUE=DURATION:PT1H
X-Robots-Tag:noindex
X-PUBLISHED-TTL:PT1H
BEGIN:VTIMEZONE
TZID:Europe/Prague
BEGIN:DAYLIGHT
TZOFFSETFROM:+0100
TZOFFSETTO:+0200
TZNAME:CEST
DTSTART:20220327T010000
END:DAYLIGHT
BEGIN:STANDARD
TZOFFSETFROM:+0200
TZOFFSETTO:+0100
TZNAME:CET
DTSTART:20221030T010000
END:STANDARD
BEGIN:DAYLIGHT
TZOFFSETFROM:+0100
TZOFFSETTO:+0200
TZNAME:CEST
DTSTART:20230326T010000
END:DAYLIGHT
BEGIN:STANDARD
TZOFFSETFROM:+0200
TZOFFSETTO:+0100
TZNAME:CET
DTSTART:20231029T010000
END:STANDARD
BEGIN:DAYLIGHT
TZOFFSETFROM:+0100
TZOFFSETTO:+0200
TZNAME:CEST
DTSTART:20240331T010000
END:DAYLIGHT
BEGIN:STANDARD
TZOFFSETFROM:+0200
TZOFFSETTO:+0100
TZNAME:CET
DTSTART:20241027T010000
END:STANDARD
BEGIN:DAYLIGHT
TZOFFSETFROM:+0100
TZOFFSETTO:+0200
TZNAME:CEST
DTSTART:20250330T010000
END:DAYLIGHT
BEGIN:STANDARD
TZOFFSETFROM:+0200
TZOFFSETTO:+0100
TZNAME:CET
DTSTART:20251026T010000
END:STANDARD
BEGIN:DAYLIGHT
TZOFFSETFROM:+0100
TZOFFSETTO:+0200
TZNAME:CEST
DTSTART:20260329T010000
END:DAYLIGHT
BEGIN:STANDARD
TZOFFSETFROM:+0200
TZOFFSETTO:+0100
TZNAME:CET
DTSTART:20261025T010000
END:STANDARD
END:VTIMEZONE
BEGIN:VEVENT
DTSTART;TZID=Europe/Prague:20250423T090000
DTEND;TZID=Europe/Prague:20250423T100000
DTSTAMP:20260422T020130
CREATED:20250314T130057Z
LAST-MODIFIED:20250314T130057Z
UID:14346-1745398800-1745402400@zazijvedu.cz
SUMMARY:Od latexu k pneumatice
DESCRIPTION:
URL:https://zazijvedu.cz/event/od-latexu-k-pneumatice-17/
LOCATION:Od latexu k pneumatice
CATEGORIES:Pro střední školy
END:VEVENT
BEGIN:VEVENT
DTSTART;TZID=Europe/Prague:20250422T160000
DTEND;TZID=Europe/Prague:20250422T170000
DTSTAMP:20260422T020130
CREATED:20250318T135515Z
LAST-MODIFIED:20250318T135515Z
UID:14701-1745337600-1745341200@zazijvedu.cz
SUMMARY:Odpad jako poklad: Kolagen a oleje
DESCRIPTION:Odpad jako poklad: Kolagen a oleje
URL:https://zazijvedu.cz/event/odpad-jako-poklad-kolagen-a-oleje-10/
LOCATION:Odpad jako poklad: Kolagen a oleje
CATEGORIES:Pro veřejnost
END:VEVENT
BEGIN:VEVENT
DTSTART;TZID=Europe/Prague:20250422T150000
DTEND;TZID=Europe/Prague:20250422T160000
DTSTAMP:20260422T020130
CREATED:20250317T060501Z
LAST-MODIFIED:20250317T060958Z
UID:14400-1745334000-1745337600@zazijvedu.cz
SUMMARY:Staň se alchymistou
DESCRIPTION:Staň se alchymistou
URL:https://zazijvedu.cz/event/stan-se-alchymistou-15/
LOCATION:Staň se alchymistou
CATEGORIES:Pro veřejnost
END:VEVENT
BEGIN:VEVENT
DTSTART;TZID=Europe/Prague:20250422T150000
DTEND;TZID=Europe/Prague:20250422T160000
DTSTAMP:20260422T020130
CREATED:20250314T130755Z
LAST-MODIFIED:20250314T130755Z
UID:14354-1745334000-1745337600@zazijvedu.cz
SUMMARY:Od latexu k pneumatice
DESCRIPTION:Od latexu k pneumatice
URL:https://zazijvedu.cz/event/od-latexu-k-pneumatice-21/
LOCATION:Od latexu k pneumatice
CATEGORIES:Pro veřejnost
END:VEVENT
BEGIN:VEVENT
DTSTART;TZID=Europe/Prague:20250422T120000
DTEND;TZID=Europe/Prague:20250422T130000
DTSTAMP:20260422T020130
CREATED:20250318T134745Z
LAST-MODIFIED:20250318T135130Z
UID:14684-1745323200-1745326800@zazijvedu.cz
SUMMARY:Odpad jako poklad: Kolagen a oleje
DESCRIPTION:Odpad jako poklad: Kolagen a oleje
URL:https://zazijvedu.cz/event/odpad-jako-poklad-kolagen-a-oleje-4/
LOCATION:Odpad jako poklad: Kolagen a oleje
CATEGORIES:Pro střední školy
END:VEVENT
BEGIN:VEVENT
DTSTART;TZID=Europe/Prague:20250422T120000
DTEND;TZID=Europe/Prague:20250422T130000
DTSTAMP:20260422T020130
CREATED:20250317T055835Z
LAST-MODIFIED:20250317T055835Z
UID:14390-1745323200-1745326800@zazijvedu.cz
SUMMARY:Staň se alchymistou
DESCRIPTION:
URL:https://zazijvedu.cz/event/stan-se-alchymistou-10/
LOCATION:Staň se alchymistou
CATEGORIES:Pro střední školy
END:VEVENT
BEGIN:VEVENT
DTSTART;TZID=Europe/Prague:20250422T120000
DTEND;TZID=Europe/Prague:20250422T130000
DTSTAMP:20260422T020130
CREATED:20250314T130007Z
LAST-MODIFIED:20250314T130007Z
UID:14344-1745323200-1745326800@zazijvedu.cz
SUMMARY:Od latexu k pneumatice
DESCRIPTION:Od latexu k pneumatice
URL:https://zazijvedu.cz/event/od-latexu-k-pneumatice-16/
LOCATION:Od latexu k pneumatice
CATEGORIES:Pro střední školy
END:VEVENT
BEGIN:VEVENT
DTSTART;TZID=Europe/Prague:20250422T110000
DTEND;TZID=Europe/Prague:20250422T120000
DTSTAMP:20260422T020130
CREATED:20250318T134718Z
LAST-MODIFIED:20250318T135136Z
UID:14681-1745319600-1745323200@zazijvedu.cz
SUMMARY:Odpad jako poklad: Kolagen a oleje
DESCRIPTION:Odpad jako poklad: Kolagen a oleje
URL:https://zazijvedu.cz/event/odpad-jako-poklad-kolagen-a-oleje-3/
LOCATION:Odpad jako poklad: Kolagen a oleje
CATEGORIES:Pro střední školy
END:VEVENT
BEGIN:VEVENT
DTSTART;TZID=Europe/Prague:20250422T110000
DTEND;TZID=Europe/Prague:20250422T120000
DTSTAMP:20260422T020130
CREATED:20250317T055720Z
LAST-MODIFIED:20250317T055720Z
UID:14388-1745319600-1745323200@zazijvedu.cz
SUMMARY:Staň se alchymistou
DESCRIPTION:Staň se alchymistou
URL:https://zazijvedu.cz/event/stan-se-alchymistou-9/
LOCATION:Staň se alchymistou
CATEGORIES:Pro střední školy
END:VEVENT
BEGIN:VEVENT
DTSTART;TZID=Europe/Prague:20250422T110000
DTEND;TZID=Europe/Prague:20250422T120000
DTSTAMP:20260422T020130
CREATED:20250314T125920Z
LAST-MODIFIED:20250314T125920Z
UID:14341-1745319600-1745323200@zazijvedu.cz
SUMMARY:Od latexu k pneumatice
DESCRIPTION:Od latexu k pneumatice
URL:https://zazijvedu.cz/event/od-latexu-k-pneumatice-15/
LOCATION:Od latexu k pneumatice
CATEGORIES:Pro střední školy
END:VEVENT
BEGIN:VEVENT
DTSTART;TZID=Europe/Prague:20250422T100000
DTEND;TZID=Europe/Prague:20250422T110000
DTSTAMP:20260422T020130
CREATED:20250318T134637Z
LAST-MODIFIED:20250318T135144Z
UID:14679-1745316000-1745319600@zazijvedu.cz
SUMMARY:Odpad jako poklad: Kolagen a oleje
DESCRIPTION:Odpad jako poklad: Kolagen a oleje
URL:https://zazijvedu.cz/event/odpad-jako-poklad-kolagen-a-oleje-2/
LOCATION:Odpad jako poklad: Kolagen a oleje
CATEGORIES:Pro střední školy
END:VEVENT
BEGIN:VEVENT
DTSTART;TZID=Europe/Prague:20250422T100000
DTEND;TZID=Europe/Prague:20250422T110000
DTSTAMP:20260422T020130
CREATED:20250317T055623Z
LAST-MODIFIED:20250317T055623Z
UID:14386-1745316000-1745319600@zazijvedu.cz
SUMMARY:Staň se alchymistou
DESCRIPTION:Staň se alchymistou
URL:https://zazijvedu.cz/event/stan-se-alchymistou-8/
LOCATION:Staň se alchymistou
CATEGORIES:Pro střední školy
END:VEVENT
BEGIN:VEVENT
DTSTART;TZID=Europe/Prague:20250422T100000
DTEND;TZID=Europe/Prague:20250422T110000
DTSTAMP:20260422T020130
CREATED:20250314T125829Z
LAST-MODIFIED:20250314T125829Z
UID:14339-1745316000-1745319600@zazijvedu.cz
SUMMARY:Od latexu k pneumatice
DESCRIPTION:Od latexu k pneumatice
URL:https://zazijvedu.cz/event/od-latexu-k-pneumatice-14/
LOCATION:Od latexu k pneumatice
CATEGORIES:Pro střední školy
END:VEVENT
BEGIN:VEVENT
DTSTART;TZID=Europe/Prague:20250422T090000
DTEND;TZID=Europe/Prague:20250422T100000
DTSTAMP:20260422T020130
CREATED:20250318T134510Z
LAST-MODIFIED:20250318T135152Z
UID:14672-1745312400-1745316000@zazijvedu.cz
SUMMARY:Odpad jako poklad: Kolagen a oleje
DESCRIPTION:Odpad jako poklad: Kolagen a oleje
URL:https://zazijvedu.cz/event/odpad-jako-poklad-kolagen-a-oleje/
LOCATION:Odpad jako poklad: Kolagen a oleje
CATEGORIES:Pro střední školy
END:VEVENT
BEGIN:VEVENT
DTSTART;TZID=Europe/Prague:20250422T090000
DTEND;TZID=Europe/Prague:20250422T100000
DTSTAMP:20260422T020130
CREATED:20250317T055439Z
LAST-MODIFIED:20250317T055439Z
UID:14384-1745312400-1745316000@zazijvedu.cz
SUMMARY:Staň se alchymistou
DESCRIPTION:Staň se alchymistou
URL:https://zazijvedu.cz/event/stan-se-alchymistou-7/
LOCATION:Staň se alchymistou
CATEGORIES:Pro střední školy
END:VEVENT
BEGIN:VEVENT
DTSTART;TZID=Europe/Prague:20250422T090000
DTEND;TZID=Europe/Prague:20250422T100000
DTSTAMP:20260422T020130
CREATED:20250314T125738Z
LAST-MODIFIED:20250314T125738Z
UID:14337-1745312400-1745316000@zazijvedu.cz
SUMMARY:Od latexu k pneumatice
DESCRIPTION:Od latexu k pneumatice
URL:https://zazijvedu.cz/event/od-latexu-k-pneumatice-13/
LOCATION:Od latexu k pneumatice
CATEGORIES:Pro střední školy
END:VEVENT
BEGIN:VEVENT
DTSTART;TZID=Europe/Prague:20240416T160000
DTEND;TZID=Europe/Prague:20240416T164500
DTSTAMP:20260422T020130
CREATED:20240306T135357Z
LAST-MODIFIED:20240306T135357Z
UID:13227-1713283200-1713285900@zazijvedu.cz
SUMMARY:Staň se alchymistou
DESCRIPTION:STAŇ SE ALCHYMISTOU
URL:https://zazijvedu.cz/event/stan-se-alchymistou-6/
LOCATION:Staň se alchymistou
CATEGORIES:Pro veřejnost
END:VEVENT
BEGIN:VEVENT
DTSTART;TZID=Europe/Prague:20240416T160000
DTEND;TZID=Europe/Prague:20240416T164500
DTSTAMP:20260422T020130
CREATED:20240306T132624Z
LAST-MODIFIED:20240306T132624Z
UID:13207-1713283200-1713285900@zazijvedu.cz
SUMMARY:Nanovlákna a polymerní filmy
DESCRIPTION:NANOVLÁKNA A POLYMERNÍ FILMY
URL:https://zazijvedu.cz/event/nanovlakna-a-polymerni-filmy-12/
LOCATION:Nanovlákna a polymerní filmy
CATEGORIES:Pro veřejnost
END:VEVENT
BEGIN:VEVENT
DTSTART;TZID=Europe/Prague:20240416T150000
DTEND;TZID=Europe/Prague:20240416T154500
DTSTAMP:20260422T020130
CREATED:20240306T135255Z
LAST-MODIFIED:20240306T135255Z
UID:13224-1713279600-1713282300@zazijvedu.cz
SUMMARY:Staň se alchymistou
DESCRIPTION:STAŇ SE ALCHYMISTOU
URL:https://zazijvedu.cz/event/stan-se-alchymistou-5/
LOCATION:Staň se alchymistou
CATEGORIES:Pro veřejnost
END:VEVENT
BEGIN:VEVENT
DTSTART;TZID=Europe/Prague:20240416T150000
DTEND;TZID=Europe/Prague:20240416T154500
DTSTAMP:20260422T020130
CREATED:20240306T132436Z
LAST-MODIFIED:20240306T132436Z
UID:13200-1713279600-1713282300@zazijvedu.cz
SUMMARY:Nanovlákna a polymerní filmy
DESCRIPTION:NANOVLÁKNA A POLYMERNÍ FILMY
URL:https://zazijvedu.cz/event/nanovlakna-a-polymerni-filmy-11/
LOCATION:Nanovlákna a polymerní filmy
CATEGORIES:Pro veřejnost
END:VEVENT
BEGIN:VEVENT
DTSTART;TZID=Europe/Prague:20240416T120000
DTEND;TZID=Europe/Prague:20240416T124500
DTSTAMP:20260422T020130
CREATED:20240306T135203Z
LAST-MODIFIED:20240306T135203Z
UID:13222-1713268800-1713271500@zazijvedu.cz
SUMMARY:Staň se alchymistou
DESCRIPTION:STAŇ SE ALCHYMISTOU
URL:https://zazijvedu.cz/event/stan-se-alchymistou-4/
LOCATION:Staň se alchymistou
CATEGORIES:Pro střední školy
END:VEVENT
BEGIN:VEVENT
DTSTART;TZID=Europe/Prague:20240416T120000
DTEND;TZID=Europe/Prague:20240416T124500
DTSTAMP:20260422T020130
CREATED:20240306T132340Z
LAST-MODIFIED:20240306T132340Z
UID:13198-1713268800-1713271500@zazijvedu.cz
SUMMARY:Nanovlákna a polymerní filmy
DESCRIPTION:NANOVLÁKNA A POLYMERNÍ FILMY
URL:https://zazijvedu.cz/event/nanovlakna-a-polymerni-filmy-10/
LOCATION:Nanovlákna a polymerní filmy
CATEGORIES:Pro střední školy
END:VEVENT
BEGIN:VEVENT
DTSTART;TZID=Europe/Prague:20240416T110000
DTEND;TZID=Europe/Prague:20240416T114500
DTSTAMP:20260422T020130
CREATED:20240306T135122Z
LAST-MODIFIED:20240306T135122Z
UID:13220-1713265200-1713267900@zazijvedu.cz
SUMMARY:Staň se alchymistou
DESCRIPTION:STAŇ SE ALCHYMISTOU
URL:https://zazijvedu.cz/event/stan-se-alchymistou-3/
LOCATION:Staň se alchymistou
CATEGORIES:Pro střední školy
END:VEVENT
BEGIN:VEVENT
DTSTART;TZID=Europe/Prague:20240416T110000
DTEND;TZID=Europe/Prague:20240416T114500
DTSTAMP:20260422T020130
CREATED:20240306T132252Z
LAST-MODIFIED:20240306T132252Z
UID:13195-1713265200-1713267900@zazijvedu.cz
SUMMARY:Nanovlákna a polymerní filmy
DESCRIPTION:NANOVLÁKNA A POLYMERNÍ FILMY
URL:https://zazijvedu.cz/event/nanovlakna-a-polymerni-filmy-9/
LOCATION:Nanovlákna a polymerní filmy
CATEGORIES:Pro střední školy
END:VEVENT
BEGIN:VEVENT
DTSTART;TZID=Europe/Prague:20240416T100000
DTEND;TZID=Europe/Prague:20240416T104500
DTSTAMP:20260422T020130
CREATED:20240306T135038Z
LAST-MODIFIED:20240306T135038Z
UID:13218-1713261600-1713264300@zazijvedu.cz
SUMMARY:Staň se alchymistou
DESCRIPTION:STAŇ SE ALCHYMISTOU
URL:https://zazijvedu.cz/event/stan-se-alchymistou-2/
LOCATION:Staň se alchymistou
CATEGORIES:Pro střední školy
END:VEVENT
BEGIN:VEVENT
DTSTART;TZID=Europe/Prague:20240416T100000
DTEND;TZID=Europe/Prague:20240416T104500
DTSTAMP:20260422T020130
CREATED:20240306T132016Z
LAST-MODIFIED:20240306T132152Z
UID:13193-1713261600-1713264300@zazijvedu.cz
SUMMARY:Nanovlákna a polymerní filmy
DESCRIPTION:NANOVLÁKNA A POLYMERNÍ FILMY
URL:https://zazijvedu.cz/event/nanovlakna-a-polymerni-filmy-8/
LOCATION:Nanovlákna a polymerní filmy
CATEGORIES:Pro střední školy
END:VEVENT
BEGIN:VEVENT
DTSTART;TZID=Europe/Prague:20240416T090000
DTEND;TZID=Europe/Prague:20240416T094500
DTSTAMP:20260422T020130
CREATED:20240306T134907Z
LAST-MODIFIED:20240306T134947Z
UID:13214-1713258000-1713260700@zazijvedu.cz
SUMMARY:Staň se alchymistou
DESCRIPTION:STAŇ SE ALCHYMISTOU
URL:https://zazijvedu.cz/event/stan-se-alchymistou/
LOCATION:Staň se alchymistou
CATEGORIES:Pro střední školy
END:VEVENT
BEGIN:VEVENT
DTSTART;TZID=Europe/Prague:20240416T090000
DTEND;TZID=Europe/Prague:20240416T094500
DTSTAMP:20260422T020130
CREATED:20240306T131933Z
LAST-MODIFIED:20240306T131933Z
UID:13191-1713258000-1713260700@zazijvedu.cz
SUMMARY:Nanovlákna a polymerní filmy
DESCRIPTION:NANOVLÁKNA A POLYMERNÍ FILMY
URL:https://zazijvedu.cz/event/nanovlakna-a-polymerni-filmy-7/
LOCATION:Nanovlákna a polymerní filmy
CATEGORIES:Pro střední školy
END:VEVENT
BEGIN:VEVENT
DTSTART;TZID=Europe/Prague:20230426T160000
DTEND;TZID=Europe/Prague:20230426T164500
DTSTAMP:20260422T020130
CREATED:20230328T083451Z
LAST-MODIFIED:20230328T083451Z
UID:12162-1682524800-1682527500@zazijvedu.cz
SUMMARY:OD LATEXU K PNEUMATICE
DESCRIPTION:OD LATEXU K PNEUMATICE
URL:https://zazijvedu.cz/event/od-latexu-k-pneumatice-10/
LOCATION:Od latexu k pneumatice
CATEGORIES:Pro veřejnost
END:VEVENT
BEGIN:VEVENT
DTSTART;TZID=Europe/Prague:20230426T160000
DTEND;TZID=Europe/Prague:20230426T164500
DTSTAMP:20260422T020130
CREATED:20230328T083006Z
LAST-MODIFIED:20230328T083240Z
UID:12149-1682524800-1682527500@zazijvedu.cz
SUMMARY:REALITA RECYKLACE
DESCRIPTION:REALITA RECYKLACE
URL:https://zazijvedu.cz/event/realita-recyklace-10/
LOCATION:Realita recyklace
CATEGORIES:Pro veřejnost
END:VEVENT
END:VCALENDAR