BEGIN:VCALENDAR
VERSION:2.0
PRODID:-//Zažij vědu - ECPv6.15.20//NONSGML v1.0//EN
CALSCALE:GREGORIAN
METHOD:PUBLISH
X-WR-CALNAME:Zažij vědu
X-ORIGINAL-URL:https://zazijvedu.cz
X-WR-CALDESC:Akce na Zažij vědu
REFRESH-INTERVAL;VALUE=DURATION:PT1H
X-Robots-Tag:noindex
X-PUBLISHED-TTL:PT1H
BEGIN:VTIMEZONE
TZID:Europe/Prague
BEGIN:DAYLIGHT
TZOFFSETFROM:+0100
TZOFFSETTO:+0200
TZNAME:CEST
DTSTART:20210328T010000
END:DAYLIGHT
BEGIN:STANDARD
TZOFFSETFROM:+0200
TZOFFSETTO:+0100
TZNAME:CET
DTSTART:20211031T010000
END:STANDARD
BEGIN:DAYLIGHT
TZOFFSETFROM:+0100
TZOFFSETTO:+0200
TZNAME:CEST
DTSTART:20220327T010000
END:DAYLIGHT
BEGIN:STANDARD
TZOFFSETFROM:+0200
TZOFFSETTO:+0100
TZNAME:CET
DTSTART:20221030T010000
END:STANDARD
BEGIN:DAYLIGHT
TZOFFSETFROM:+0100
TZOFFSETTO:+0200
TZNAME:CEST
DTSTART:20230326T010000
END:DAYLIGHT
BEGIN:STANDARD
TZOFFSETFROM:+0200
TZOFFSETTO:+0100
TZNAME:CET
DTSTART:20231029T010000
END:STANDARD
BEGIN:DAYLIGHT
TZOFFSETFROM:+0100
TZOFFSETTO:+0200
TZNAME:CEST
DTSTART:20240331T010000
END:DAYLIGHT
BEGIN:STANDARD
TZOFFSETFROM:+0200
TZOFFSETTO:+0100
TZNAME:CET
DTSTART:20241027T010000
END:STANDARD
END:VTIMEZONE
BEGIN:VEVENT
DTSTART;TZID=Europe/Prague:20230426T150000
DTEND;TZID=Europe/Prague:20230426T154500
DTSTAMP:20260422T014718
CREATED:20230328T083410Z
LAST-MODIFIED:20230328T083410Z
UID:12159-1682521200-1682523900@zazijvedu.cz
SUMMARY:OD LATEXU K PNEUMATICE
DESCRIPTION:OD LATEXU K PNEUMATICE
URL:https://zazijvedu.cz/event/od-latexu-k-pneumatice-9/
LOCATION:Od latexu k pneumatice
CATEGORIES:Pro veřejnost
END:VEVENT
BEGIN:VEVENT
DTSTART;TZID=Europe/Prague:20230426T150000
DTEND;TZID=Europe/Prague:20230426T154500
DTSTAMP:20260422T014718
CREATED:20230328T082904Z
LAST-MODIFIED:20230328T082921Z
UID:12146-1682521200-1682523900@zazijvedu.cz
SUMMARY:REALITA RECYKLACE
DESCRIPTION:REALITA RECYKLACE
URL:https://zazijvedu.cz/event/realita-recyklace-9/
LOCATION:Realita recyklace
CATEGORIES:Pro veřejnost
END:VEVENT
BEGIN:VEVENT
DTSTART;TZID=Europe/Prague:20230426T100000
DTEND;TZID=Europe/Prague:20230426T104500
DTSTAMP:20260422T014718
CREATED:20230328T132400Z
LAST-MODIFIED:20230331T103604Z
UID:12233-1682503200-1682505900@zazijvedu.cz
SUMMARY:KŮŽE\, ŠLACHY\, PEŘÍ… ODPAD NEBO POKLAD?
DESCRIPTION:KŮŽE\, ŠLACHY\, PEŘÍ… ODPAD NEBO POKLAD?
URL:https://zazijvedu.cz/event/biopolymery-to-jsou-jatka-18/
LOCATION:KŮŽE\, ŠLACHY\, PEŘÍ… ODPAD NEBO POKLAD?
CATEGORIES:Pro střední školy
END:VEVENT
BEGIN:VEVENT
DTSTART;TZID=Europe/Prague:20230426T100000
DTEND;TZID=Europe/Prague:20230426T104500
DTSTAMP:20260422T014718
CREATED:20230328T075009Z
LAST-MODIFIED:20230328T075020Z
UID:12143-1682503200-1682505900@zazijvedu.cz
SUMMARY:OD LATEXU K PNEUMATICE
DESCRIPTION:
URL:https://zazijvedu.cz/event/od-latexu-k-pneumatice-8/
LOCATION:Od latexu k pneumatice
CATEGORIES:Pro střední školy
END:VEVENT
BEGIN:VEVENT
DTSTART;TZID=Europe/Prague:20230426T100000
DTEND;TZID=Europe/Prague:20230426T104500
DTSTAMP:20260422T014718
CREATED:20230328T074140Z
LAST-MODIFIED:20230328T074140Z
UID:12124-1682503200-1682505900@zazijvedu.cz
SUMMARY:REALITA RECYKLACE
DESCRIPTION:REALITA RECYKLACE
URL:https://zazijvedu.cz/event/realita-recyklace-8/
LOCATION:Realita recyklace
CATEGORIES:Pro střední školy
END:VEVENT
BEGIN:VEVENT
DTSTART;TZID=Europe/Prague:20230426T090000
DTEND;TZID=Europe/Prague:20230426T094500
DTSTAMP:20260422T014718
CREATED:20230328T132301Z
LAST-MODIFIED:20230331T103627Z
UID:12231-1682499600-1682502300@zazijvedu.cz
SUMMARY:KŮŽE\, ŠLACHY\, PEŘÍ… ODPAD NEBO POKLAD?
DESCRIPTION:KŮŽE\, ŠLACHY\, PEŘÍ… ODPAD NEBO POKLAD?
URL:https://zazijvedu.cz/event/biopolymery-to-jsou-jatka-15/
LOCATION:KŮŽE\, ŠLACHY\, PEŘÍ… ODPAD NEBO POKLAD?
CATEGORIES:Pro střední školy
END:VEVENT
BEGIN:VEVENT
DTSTART;TZID=Europe/Prague:20230426T090000
DTEND;TZID=Europe/Prague:20230426T094500
DTSTAMP:20260422T014718
CREATED:20230328T074929Z
LAST-MODIFIED:20230328T074929Z
UID:12141-1682499600-1682502300@zazijvedu.cz
SUMMARY:OD LATEXU K PNEUMATICE
DESCRIPTION:OD LATEXU K PNEUMATICE
URL:https://zazijvedu.cz/event/od-latexu-k-pneumatice-7/
LOCATION:Od latexu k pneumatice
CATEGORIES:Pro střední školy
END:VEVENT
BEGIN:VEVENT
DTSTART;TZID=Europe/Prague:20230426T090000
DTEND;TZID=Europe/Prague:20230426T094500
DTSTAMP:20260422T014718
CREATED:20230328T074101Z
LAST-MODIFIED:20230328T074101Z
UID:12122-1682499600-1682502300@zazijvedu.cz
SUMMARY:REALITA RECYKLACE
DESCRIPTION:REALITA RECYKLACE
URL:https://zazijvedu.cz/event/realita-recyklace-7/
LOCATION:Realita recyklace
CATEGORIES:Pro střední školy
END:VEVENT
BEGIN:VEVENT
DTSTART;TZID=Europe/Prague:20220427T150000
DTEND;TZID=Europe/Prague:20220427T154500
DTSTAMP:20260422T014718
CREATED:20220321T090538Z
LAST-MODIFIED:20220324T073216Z
UID:11027-1651071600-1651074300@zazijvedu.cz
SUMMARY:Nanovlákna a polymerní filmy
DESCRIPTION:NANOVLÁKNA A POLYMERNÍ FILMY
URL:https://zazijvedu.cz/event/nanovlakna-a-polymerni-filmy-6/
LOCATION:Nanovlákna a polymerní filmy
CATEGORIES:Pro veřejnost
END:VEVENT
BEGIN:VEVENT
DTSTART;TZID=Europe/Prague:20220427T150000
DTEND;TZID=Europe/Prague:20220427T154500
DTSTAMP:20260422T014718
CREATED:20220321T090115Z
LAST-MODIFIED:20220324T073148Z
UID:11012-1651071600-1651074300@zazijvedu.cz
SUMMARY:Od latexu k pneumatice
DESCRIPTION:OD LATEXU K PNEUMATICE
URL:https://zazijvedu.cz/event/od-latexu-k-pneumatice-6/
LOCATION:Od latexu k pneumatice
CATEGORIES:Pro veřejnost
END:VEVENT
BEGIN:VEVENT
DTSTART;TZID=Europe/Prague:20220427T150000
DTEND;TZID=Europe/Prague:20220427T154500
DTSTAMP:20260422T014718
CREATED:20220321T085446Z
LAST-MODIFIED:20220324T073122Z
UID:10997-1651071600-1651074300@zazijvedu.cz
SUMMARY:Seznamte se s polymery
DESCRIPTION:SEZNAMTE SE S POLYMERY
URL:https://zazijvedu.cz/event/seznamte-se-s-polymery-6/
LOCATION:Seznamte se s polymery
CATEGORIES:Pro veřejnost
END:VEVENT
BEGIN:VEVENT
DTSTART;TZID=Europe/Prague:20220427T140000
DTEND;TZID=Europe/Prague:20220427T144500
DTSTAMP:20260422T014718
CREATED:20220321T090500Z
LAST-MODIFIED:20220324T073213Z
UID:11024-1651068000-1651070700@zazijvedu.cz
SUMMARY:Nanovlákna a polymerní filmy
DESCRIPTION:NANOVLÁKNA A POLYMERNÍ FILMY
URL:https://zazijvedu.cz/event/nanovlakna-a-polymerni-filmy-5/
LOCATION:Nanovlákna a polymerní filmy
CATEGORIES:Pro veřejnost
END:VEVENT
BEGIN:VEVENT
DTSTART;TZID=Europe/Prague:20220427T140000
DTEND;TZID=Europe/Prague:20220427T144500
DTSTAMP:20260422T014718
CREATED:20220321T090026Z
LAST-MODIFIED:20220324T073141Z
UID:11009-1651068000-1651070700@zazijvedu.cz
SUMMARY:Od latexu k pneumatice
DESCRIPTION:OD LATEXU K PNEUMATICE
URL:https://zazijvedu.cz/event/od-latexu-k-pneumatice-5/
LOCATION:Od latexu k pneumatice
CATEGORIES:Pro veřejnost
END:VEVENT
BEGIN:VEVENT
DTSTART;TZID=Europe/Prague:20220427T140000
DTEND;TZID=Europe/Prague:20220427T144500
DTSTAMP:20260422T014718
CREATED:20220321T085403Z
LAST-MODIFIED:20220324T073119Z
UID:10994-1651068000-1651070700@zazijvedu.cz
SUMMARY:Seznamte se s polymery
DESCRIPTION:SEZNAMTE SE S POLYMERY
URL:https://zazijvedu.cz/event/seznamte-se-s-polymery-5/
LOCATION:Seznamte se s polymery
CATEGORIES:Pro veřejnost
END:VEVENT
BEGIN:VEVENT
DTSTART;TZID=Europe/Prague:20220427T120000
DTEND;TZID=Europe/Prague:20220427T124500
DTSTAMP:20260422T014718
CREATED:20220321T090417Z
LAST-MODIFIED:20220323T083617Z
UID:11022-1651060800-1651063500@zazijvedu.cz
SUMMARY:Nanovlákna a polymerní filmy
DESCRIPTION:NANOVLÁKNA A POLYMERNÍ FILMY\n– tento workshop má kapacitu omezenou na 15 míst
URL:https://zazijvedu.cz/event/nanovlakna-a-polymerni-filmy-4/
LOCATION:Nanovlákna a polymerní filmy
CATEGORIES:Pro střední školy
END:VEVENT
BEGIN:VEVENT
DTSTART;TZID=Europe/Prague:20220427T120000
DTEND;TZID=Europe/Prague:20220427T124500
DTSTAMP:20260422T014718
CREATED:20220321T085926Z
LAST-MODIFIED:20220323T083545Z
UID:11006-1651060800-1651063500@zazijvedu.cz
SUMMARY:Od latexu k pneumatice
DESCRIPTION:OD LATEXU K PNEUMATICE\n– tento workshop má kapacitu omezenou na 15 míst
URL:https://zazijvedu.cz/event/od-latexu-k-pneumatice-4/
LOCATION:Od latexu k pneumatice
CATEGORIES:Pro střední školy
END:VEVENT
BEGIN:VEVENT
DTSTART;TZID=Europe/Prague:20220427T120000
DTEND;TZID=Europe/Prague:20220427T124500
DTSTAMP:20260422T014718
CREATED:20220321T085229Z
LAST-MODIFIED:20220323T083512Z
UID:10992-1651060800-1651063500@zazijvedu.cz
SUMMARY:Seznamte se s polymery
DESCRIPTION:SEZNAMTE SE S POLYMERY\n– tento workshop má kapacitu omezenou na 15 míst
URL:https://zazijvedu.cz/event/seznamte-se-s-polymery-4/
LOCATION:Seznamte se s polymery
CATEGORIES:Pro střední školy
END:VEVENT
BEGIN:VEVENT
DTSTART;TZID=Europe/Prague:20220427T110000
DTEND;TZID=Europe/Prague:20220427T114500
DTSTAMP:20260422T014718
CREATED:20220321T090350Z
LAST-MODIFIED:20220323T083620Z
UID:11020-1651057200-1651059900@zazijvedu.cz
SUMMARY:Nanovlákna a polymerní filmy
DESCRIPTION:NANOVLÁKNA A POLYMERNÍ FILMY\n– tento workshop má kapacitu omezenou na 15 míst
URL:https://zazijvedu.cz/event/nanovlakna-a-polymerni-filmy-3/
LOCATION:Nanovlákna a polymerní filmy
CATEGORIES:Pro střední školy
END:VEVENT
BEGIN:VEVENT
DTSTART;TZID=Europe/Prague:20220427T110000
DTEND;TZID=Europe/Prague:20220427T114500
DTSTAMP:20260422T014718
CREATED:20220321T085706Z
LAST-MODIFIED:20220323T083548Z
UID:11004-1651057200-1651059900@zazijvedu.cz
SUMMARY:Od latexu k pneumatice
DESCRIPTION:OD LATEXU K PNEUMATICE\n– tento workshop má kapacitu omezenou na 15 míst
URL:https://zazijvedu.cz/event/od-latexu-k-pneumatice-3/
LOCATION:Od latexu k pneumatice
CATEGORIES:Pro střední školy
END:VEVENT
BEGIN:VEVENT
DTSTART;TZID=Europe/Prague:20220427T110000
DTEND;TZID=Europe/Prague:20220427T114500
DTSTAMP:20260422T014718
CREATED:20220321T085151Z
LAST-MODIFIED:20220323T083515Z
UID:10990-1651057200-1651059900@zazijvedu.cz
SUMMARY:Seznamte se s polymery
DESCRIPTION:SEZNAMTE SE S POLYMERY\n– tento workshop má kapacitu omezenou na 15 míst
URL:https://zazijvedu.cz/event/seznamte-se-s-polymery-3/
LOCATION:Seznamte se s polymery
CATEGORIES:Pro střední školy
END:VEVENT
BEGIN:VEVENT
DTSTART;TZID=Europe/Prague:20220427T100000
DTEND;TZID=Europe/Prague:20220427T104500
DTSTAMP:20260422T014718
CREATED:20220321T090323Z
LAST-MODIFIED:20220323T083623Z
UID:11017-1651053600-1651056300@zazijvedu.cz
SUMMARY:Nanovlákna a polymerní filmy
DESCRIPTION:NANOVLÁKNA A POLYMERNÍ FILMY\n– tento workshop má kapacitu omezenou na 15 míst
URL:https://zazijvedu.cz/event/nanovlakna-a-polymerni-filmy-2/
LOCATION:Nanovlákna a polymerní filmy
CATEGORIES:Pro střední školy
END:VEVENT
BEGIN:VEVENT
DTSTART;TZID=Europe/Prague:20220427T100000
DTEND;TZID=Europe/Prague:20220427T104500
DTSTAMP:20260422T014718
CREATED:20220321T085618Z
LAST-MODIFIED:20220323T083551Z
UID:11002-1651053600-1651056300@zazijvedu.cz
SUMMARY:Od latexu k pneumatice
DESCRIPTION:OD LATEXU K PNEUMATICE\n– tento workshop má kapacitu omezenou na 15 míst
URL:https://zazijvedu.cz/event/od-latexu-k-pneumatice-2/
LOCATION:Od latexu k pneumatice
CATEGORIES:Pro střední školy
END:VEVENT
BEGIN:VEVENT
DTSTART;TZID=Europe/Prague:20220427T100000
DTEND;TZID=Europe/Prague:20220427T104500
DTSTAMP:20260422T014718
CREATED:20220321T085124Z
LAST-MODIFIED:20220323T083519Z
UID:10988-1651053600-1651056300@zazijvedu.cz
SUMMARY:Seznamte se s polymery
DESCRIPTION:SEZNAMTE SE S POLYMERY\n– tento workshop má kapacitu omezenou na 15 míst
URL:https://zazijvedu.cz/event/seznamte-se-s-polymery-2/
LOCATION:Seznamte se s polymery
CATEGORIES:Pro střední školy
END:VEVENT
BEGIN:VEVENT
DTSTART;TZID=Europe/Prague:20220427T090000
DTEND;TZID=Europe/Prague:20220427T094500
DTSTAMP:20260422T014718
CREATED:20220321T090251Z
LAST-MODIFIED:20220323T083627Z
UID:11015-1651050000-1651052700@zazijvedu.cz
SUMMARY:Nanovlákna a polymerní filmy
DESCRIPTION:NANOVLÁKNA A POLYMERNÍ FILMY\n– tento workshop má kapacitu omezenou na 15 míst
URL:https://zazijvedu.cz/event/nanovlakna-a-polymerni-filmy/
LOCATION:Nanovlákna a polymerní filmy
CATEGORIES:Pro střední školy
END:VEVENT
BEGIN:VEVENT
DTSTART;TZID=Europe/Prague:20220427T090000
DTEND;TZID=Europe/Prague:20220427T094500
DTSTAMP:20260422T014718
CREATED:20220321T085543Z
LAST-MODIFIED:20220323T083555Z
UID:11000-1651050000-1651052700@zazijvedu.cz
SUMMARY:Od latexu k pneumatice
DESCRIPTION:OD LATEXU K PNEUMATICE\n– tento workshop má kapacitu omezenou na 15 míst
URL:https://zazijvedu.cz/event/od-latexu-k-pneumatice/
LOCATION:Od latexu k pneumatice
CATEGORIES:Pro střední školy
END:VEVENT
BEGIN:VEVENT
DTSTART;TZID=Europe/Prague:20220427T090000
DTEND;TZID=Europe/Prague:20220427T094500
DTSTAMP:20260422T014718
CREATED:20220321T085055Z
LAST-MODIFIED:20220323T083523Z
UID:10986-1651050000-1651052700@zazijvedu.cz
SUMMARY:Seznamte se s polymery
DESCRIPTION:SEZNAMTE SE S POLYMERY\n– tento workshop má kapacitu omezenou na 15 míst
URL:https://zazijvedu.cz/event/seznamte-se-s-polymery/
LOCATION:Seznamte se s polymery
CATEGORIES:Pro střední školy
END:VEVENT
BEGIN:VEVENT
DTSTART;TZID=Europe/Prague:20220203T150000
DTEND;TZID=Europe/Prague:20220203T154500
DTSTAMP:20260422T014718
CREATED:20220114T130655Z
LAST-MODIFIED:20220114T130655Z
UID:10522-1643900400-1643903100@zazijvedu.cz
SUMMARY:Tvrdohlavé polymerní sítě
DESCRIPTION:
URL:https://zazijvedu.cz/event/tvrdohlave-polymerni-site-29/
LOCATION:Tvrdohlavé polymerní sítě
CATEGORIES:Pro veřejnost
END:VEVENT
BEGIN:VEVENT
DTSTART;TZID=Europe/Prague:20220203T140000
DTEND;TZID=Europe/Prague:20220203T144500
DTSTAMP:20260422T014718
CREATED:20220114T130557Z
LAST-MODIFIED:20220114T130617Z
UID:10519-1643896800-1643899500@zazijvedu.cz
SUMMARY:Tvrdohlavé polymerní sítě
DESCRIPTION:
URL:https://zazijvedu.cz/event/tvrdohlave-polymerni-site-28/
LOCATION:Tvrdohlavé polymerní sítě
CATEGORIES:Pro veřejnost
END:VEVENT
BEGIN:VEVENT
DTSTART;TZID=Europe/Prague:20220203T120000
DTEND;TZID=Europe/Prague:20220203T124500
DTSTAMP:20260422T014718
CREATED:20220114T130507Z
LAST-MODIFIED:20220114T130523Z
UID:10516-1643889600-1643892300@zazijvedu.cz
SUMMARY:Tvrdohlavé polymerní sítě
DESCRIPTION:
URL:https://zazijvedu.cz/event/tvrdohlave-polymerni-site-27/
LOCATION:Tvrdohlavé polymerní sítě
CATEGORIES:Pro veřejnost
END:VEVENT
BEGIN:VEVENT
DTSTART;TZID=Europe/Prague:20220203T110000
DTEND;TZID=Europe/Prague:20220203T114500
DTSTAMP:20260422T014718
CREATED:20220114T130405Z
LAST-MODIFIED:20220114T130424Z
UID:10513-1643886000-1643888700@zazijvedu.cz
SUMMARY:Tvrdohlavé polymerní sítě
DESCRIPTION:
URL:https://zazijvedu.cz/event/tvrdohlave-polymerni-site-26/
LOCATION:Tvrdohlavé polymerní sítě
CATEGORIES:Pro střední školy
END:VEVENT
END:VCALENDAR