BEGIN:VCALENDAR
VERSION:2.0
PRODID:-//Zažij vědu - ECPv6.15.20//NONSGML v1.0//EN
CALSCALE:GREGORIAN
METHOD:PUBLISH
X-WR-CALNAME:Zažij vědu
X-ORIGINAL-URL:https://zazijvedu.cz
X-WR-CALDESC:Akce na Zažij vědu
REFRESH-INTERVAL;VALUE=DURATION:PT1H
X-Robots-Tag:noindex
X-PUBLISHED-TTL:PT1H
BEGIN:VTIMEZONE
TZID:Europe/Prague
BEGIN:DAYLIGHT
TZOFFSETFROM:+0100
TZOFFSETTO:+0200
TZNAME:CEST
DTSTART:20190331T010000
END:DAYLIGHT
BEGIN:STANDARD
TZOFFSETFROM:+0200
TZOFFSETTO:+0100
TZNAME:CET
DTSTART:20191027T010000
END:STANDARD
BEGIN:DAYLIGHT
TZOFFSETFROM:+0100
TZOFFSETTO:+0200
TZNAME:CEST
DTSTART:20200329T010000
END:DAYLIGHT
BEGIN:STANDARD
TZOFFSETFROM:+0200
TZOFFSETTO:+0100
TZNAME:CET
DTSTART:20201025T010000
END:STANDARD
BEGIN:DAYLIGHT
TZOFFSETFROM:+0100
TZOFFSETTO:+0200
TZNAME:CEST
DTSTART:20210328T010000
END:DAYLIGHT
BEGIN:STANDARD
TZOFFSETFROM:+0200
TZOFFSETTO:+0100
TZNAME:CET
DTSTART:20211031T010000
END:STANDARD
END:VTIMEZONE
BEGIN:VEVENT
DTSTART;TZID=Europe/Prague:20200225T100000
DTEND;TZID=Europe/Prague:20200225T104500
DTSTAMP:20260422T121704
CREATED:20200128T102229Z
LAST-MODIFIED:20200128T102229Z
UID:9089-1582624800-1582627500@zazijvedu.cz
SUMMARY:Realita recyklace
DESCRIPTION:
URL:https://zazijvedu.cz/event/realita-recyklace-2/
LOCATION:Realita recyklace
CATEGORIES:Pro střední školy
END:VEVENT
BEGIN:VEVENT
DTSTART;TZID=Europe/Prague:20200225T100000
DTEND;TZID=Europe/Prague:20200225T104500
DTSTAMP:20260422T121704
CREATED:20200127T064939Z
LAST-MODIFIED:20200127T064939Z
UID:8992-1582624800-1582627500@zazijvedu.cz
SUMMARY:Tvrdohlavé polymerní sítě
DESCRIPTION:
URL:https://zazijvedu.cz/event/tvrdohlave-polymerni-site-19/
LOCATION:Tvrdohlavé polymerní sítě
CATEGORIES:Pro střední školy
END:VEVENT
BEGIN:VEVENT
DTSTART;TZID=Europe/Prague:20200225T090000
DTEND;TZID=Europe/Prague:20200225T094500
DTSTAMP:20260422T121704
CREATED:20200128T101604Z
LAST-MODIFIED:20200128T102139Z
UID:9079-1582621200-1582623900@zazijvedu.cz
SUMMARY:Realita recyklace
DESCRIPTION:
URL:https://zazijvedu.cz/event/realita-recyklace/
LOCATION:Realita recyklace
CATEGORIES:Pro střední školy
END:VEVENT
BEGIN:VEVENT
DTSTART;TZID=Europe/Prague:20200225T090000
DTEND;TZID=Europe/Prague:20200225T094500
DTSTAMP:20260422T121704
CREATED:20200127T064901Z
LAST-MODIFIED:20200127T064901Z
UID:8990-1582621200-1582623900@zazijvedu.cz
SUMMARY:Tvrdohlavé polymerní sítě
DESCRIPTION:
URL:https://zazijvedu.cz/event/tvrdohlave-polymerni-site-18/
LOCATION:Tvrdohlavé polymerní sítě
CATEGORIES:Pro střední školy
END:VEVENT
END:VCALENDAR