BEGIN:VCALENDAR
VERSION:2.0
PRODID:-//Zažij vědu - ECPv6.15.20//NONSGML v1.0//EN
CALSCALE:GREGORIAN
METHOD:PUBLISH
X-WR-CALNAME:Zažij vědu
X-ORIGINAL-URL:https://zazijvedu.cz
X-WR-CALDESC:Akce na Zažij vědu
REFRESH-INTERVAL;VALUE=DURATION:PT1H
X-Robots-Tag:noindex
X-PUBLISHED-TTL:PT1H
BEGIN:VTIMEZONE
TZID:Europe/Prague
BEGIN:DAYLIGHT
TZOFFSETFROM:+0100
TZOFFSETTO:+0200
TZNAME:CEST
DTSTART:20240331T010000
END:DAYLIGHT
BEGIN:STANDARD
TZOFFSETFROM:+0200
TZOFFSETTO:+0100
TZNAME:CET
DTSTART:20241027T010000
END:STANDARD
BEGIN:DAYLIGHT
TZOFFSETFROM:+0100
TZOFFSETTO:+0200
TZNAME:CEST
DTSTART:20250330T010000
END:DAYLIGHT
BEGIN:STANDARD
TZOFFSETFROM:+0200
TZOFFSETTO:+0100
TZNAME:CET
DTSTART:20251026T010000
END:STANDARD
BEGIN:DAYLIGHT
TZOFFSETFROM:+0100
TZOFFSETTO:+0200
TZNAME:CEST
DTSTART:20260329T010000
END:DAYLIGHT
BEGIN:STANDARD
TZOFFSETFROM:+0200
TZOFFSETTO:+0100
TZNAME:CET
DTSTART:20261025T010000
END:STANDARD
BEGIN:DAYLIGHT
TZOFFSETFROM:+0100
TZOFFSETTO:+0200
TZNAME:CEST
DTSTART:20270328T010000
END:DAYLIGHT
BEGIN:STANDARD
TZOFFSETFROM:+0200
TZOFFSETTO:+0100
TZNAME:CET
DTSTART:20271031T010000
END:STANDARD
END:VTIMEZONE
BEGIN:VEVENT
DTSTART;TZID=Europe/Prague:20260423T120000
DTEND;TZID=Europe/Prague:20260423T124500
DTSTAMP:20260420T094601
CREATED:20260320T114637Z
LAST-MODIFIED:20260327T115534Z
UID:16182-1776945600-1776948300@zazijvedu.cz
SUMMARY:Čokoládový sýr?!
DESCRIPTION:Čokoládový sýr?!
URL:https://zazijvedu.cz/event/cokoladovy-syr-14/
LOCATION:Čokoládový sýr?!
CATEGORIES:Pro střední školy
END:VEVENT
BEGIN:VEVENT
DTSTART;TZID=Europe/Prague:20260423T120000
DTEND;TZID=Europe/Prague:20260423T124500
DTSTAMP:20260420T094601
CREATED:20260320T064955Z
LAST-MODIFIED:20260327T115453Z
UID:15975-1776945600-1776948300@zazijvedu.cz
SUMMARY:Sladké mámení
DESCRIPTION:Sladké mámení
URL:https://zazijvedu.cz/event/sladke-mameni-20/
LOCATION:Sladké mámení
CATEGORIES:Pro střední školy
END:VEVENT
BEGIN:VEVENT
DTSTART;TZID=Europe/Prague:20260423T110000
DTEND;TZID=Europe/Prague:20260423T114500
DTSTAMP:20260420T094601
CREATED:20260320T114536Z
LAST-MODIFIED:20260327T120252Z
UID:16179-1776942000-1776944700@zazijvedu.cz
SUMMARY:Čokoládový sýr?!
DESCRIPTION:Čokoládový sýr?!
URL:https://zazijvedu.cz/event/cokoladovy-syr-13/
LOCATION:Čokoládový sýr?!
CATEGORIES:Pro střední školy
END:VEVENT
BEGIN:VEVENT
DTSTART;TZID=Europe/Prague:20260423T110000
DTEND;TZID=Europe/Prague:20260423T114500
DTSTAMP:20260420T094601
CREATED:20260320T064608Z
LAST-MODIFIED:20260327T115452Z
UID:15973-1776942000-1776944700@zazijvedu.cz
SUMMARY:Sladké mámení
DESCRIPTION:Sladké mámení
URL:https://zazijvedu.cz/event/sladke-mameni-19/
LOCATION:Sladké mámení
CATEGORIES:Pro střední školy
END:VEVENT
BEGIN:VEVENT
DTSTART;TZID=Europe/Prague:20260423T100000
DTEND;TZID=Europe/Prague:20260423T104500
DTSTAMP:20260420T094601
CREATED:20260320T114502Z
LAST-MODIFIED:20260327T115533Z
UID:16177-1776938400-1776941100@zazijvedu.cz
SUMMARY:Čokoládový sýr?!
DESCRIPTION:Čokoládový sýr?!
URL:https://zazijvedu.cz/event/cokoladovy-syr-12/
LOCATION:Čokoládový sýr?!
CATEGORIES:Pro střední školy
END:VEVENT
BEGIN:VEVENT
DTSTART;TZID=Europe/Prague:20260423T100000
DTEND;TZID=Europe/Prague:20260423T104500
DTSTAMP:20260420T094601
CREATED:20260320T064522Z
LAST-MODIFIED:20260327T115452Z
UID:15971-1776938400-1776941100@zazijvedu.cz
SUMMARY:Sladké mámení
DESCRIPTION:Sladké mámení
URL:https://zazijvedu.cz/event/sladke-mameni-18/
LOCATION:Sladké mámení
CATEGORIES:Pro střední školy
END:VEVENT
BEGIN:VEVENT
DTSTART;TZID=Europe/Prague:20260423T090000
DTEND;TZID=Europe/Prague:20260423T094500
DTSTAMP:20260420T094601
CREATED:20260320T114418Z
LAST-MODIFIED:20260327T115533Z
UID:16175-1776934800-1776937500@zazijvedu.cz
SUMMARY:Čokoládový sýr?!
DESCRIPTION:Čokoládový sýr?!
URL:https://zazijvedu.cz/event/cokoladovy-syr-11/
LOCATION:Čokoládový sýr?!
CATEGORIES:Pro střední školy
END:VEVENT
BEGIN:VEVENT
DTSTART;TZID=Europe/Prague:20260423T090000
DTEND;TZID=Europe/Prague:20260423T094500
DTSTAMP:20260420T094601
CREATED:20260320T064448Z
LAST-MODIFIED:20260327T115451Z
UID:15968-1776934800-1776937500@zazijvedu.cz
SUMMARY:Sladké mámení
DESCRIPTION:Sladké mámení
URL:https://zazijvedu.cz/event/sladke-mameni-17/
LOCATION:Sladké mámení
CATEGORIES:Pro střední školy
END:VEVENT
BEGIN:VEVENT
DTSTART;TZID=Europe/Prague:20260422T160000
DTEND;TZID=Europe/Prague:20260422T164500
DTSTAMP:20260420T094601
CREATED:20260320T114821Z
LAST-MODIFIED:20260327T115535Z
UID:16187-1776873600-1776876300@zazijvedu.cz
SUMMARY:Čokoládový sýr?!
DESCRIPTION:Čokoládový sýr?!
URL:https://zazijvedu.cz/event/cokoladovy-syr-16/
LOCATION:Čokoládový sýr?!
CATEGORIES:Pro veřejnost
END:VEVENT
BEGIN:VEVENT
DTSTART;TZID=Europe/Prague:20260422T150000
DTEND;TZID=Europe/Prague:20260422T154500
DTSTAMP:20260420T094601
CREATED:20260320T065058Z
LAST-MODIFIED:20260327T115453Z
UID:15977-1776870000-1776872700@zazijvedu.cz
SUMMARY:Sladké mámení
DESCRIPTION:Sladké mámení
URL:https://zazijvedu.cz/event/sladke-mameni-21/
LOCATION:Sladké mámení
CATEGORIES:Pro veřejnost
END:VEVENT
BEGIN:VEVENT
DTSTART;TZID=Europe/Prague:20260422T120000
DTEND;TZID=Europe/Prague:20260422T124500
DTSTAMP:20260420T094601
CREATED:20260320T114343Z
LAST-MODIFIED:20260327T115533Z
UID:16173-1776859200-1776861900@zazijvedu.cz
SUMMARY:Čokoládový sýr?!
DESCRIPTION:Čokoládový sýr?!
URL:https://zazijvedu.cz/event/cokoladovy-syr-10/
LOCATION:Čokoládový sýr?!
CATEGORIES:Pro střední školy
END:VEVENT
BEGIN:VEVENT
DTSTART;TZID=Europe/Prague:20260422T120000
DTEND;TZID=Europe/Prague:20260422T124500
DTSTAMP:20260420T094601
CREATED:20260320T064403Z
LAST-MODIFIED:20260327T115450Z
UID:15966-1776859200-1776861900@zazijvedu.cz
SUMMARY:Sladké mámení
DESCRIPTION:Sladké mámení
URL:https://zazijvedu.cz/event/sladke-mameni-16/
LOCATION:Sladké mámení
CATEGORIES:Pro střední školy
END:VEVENT
BEGIN:VEVENT
DTSTART;TZID=Europe/Prague:20260422T110000
DTEND;TZID=Europe/Prague:20260422T114500
DTSTAMP:20260420T094601
CREATED:20260320T114308Z
LAST-MODIFIED:20260327T115532Z
UID:16171-1776855600-1776858300@zazijvedu.cz
SUMMARY:Čokoládový sýr?!
DESCRIPTION:Čokoládový sýr?!
URL:https://zazijvedu.cz/event/cokoladovy-syr-9/
LOCATION:Čokoládový sýr?!
CATEGORIES:Pro střední školy
END:VEVENT
BEGIN:VEVENT
DTSTART;TZID=Europe/Prague:20260422T110000
DTEND;TZID=Europe/Prague:20260422T114500
DTSTAMP:20260420T094601
CREATED:20260320T064321Z
LAST-MODIFIED:20260327T115450Z
UID:15964-1776855600-1776858300@zazijvedu.cz
SUMMARY:Sladké mámení
DESCRIPTION:Sladké mámení
URL:https://zazijvedu.cz/event/sladke-mameni-15/
LOCATION:Sladké mámení
CATEGORIES:Pro střední školy
END:VEVENT
BEGIN:VEVENT
DTSTART;TZID=Europe/Prague:20260422T100000
DTEND;TZID=Europe/Prague:20260422T104500
DTSTAMP:20260420T094601
CREATED:20260320T114226Z
LAST-MODIFIED:20260327T115532Z
UID:16169-1776852000-1776854700@zazijvedu.cz
SUMMARY:Čokoládový sýr?!
DESCRIPTION:Čokoládový sýr?!
URL:https://zazijvedu.cz/event/cokoladovy-syr-8/
LOCATION:Čokoládový sýr?!
CATEGORIES:Pro střední školy
END:VEVENT
BEGIN:VEVENT
DTSTART;TZID=Europe/Prague:20260422T100000
DTEND;TZID=Europe/Prague:20260422T104500
DTSTAMP:20260420T094601
CREATED:20260320T064242Z
LAST-MODIFIED:20260327T115449Z
UID:15962-1776852000-1776854700@zazijvedu.cz
SUMMARY:Sladké mámení
DESCRIPTION:Sladké mámení
URL:https://zazijvedu.cz/event/sladke-mameni-14/
LOCATION:Sladké mámení
CATEGORIES:Pro střední školy
END:VEVENT
BEGIN:VEVENT
DTSTART;TZID=Europe/Prague:20260422T090000
DTEND;TZID=Europe/Prague:20260422T094500
DTSTAMP:20260420T094601
CREATED:20260320T114151Z
LAST-MODIFIED:20260324T151311Z
UID:16167-1776848400-1776851100@zazijvedu.cz
SUMMARY:Čokoládový sýr?!
DESCRIPTION:Čokoládový sýr?!
URL:https://zazijvedu.cz/event/cokoladovy-syr-7/
LOCATION:Čokoládový sýr?!
CATEGORIES:Pro střední školy
END:VEVENT
BEGIN:VEVENT
DTSTART;TZID=Europe/Prague:20260422T090000
DTEND;TZID=Europe/Prague:20260422T094500
DTSTAMP:20260420T094601
CREATED:20260320T064205Z
LAST-MODIFIED:20260327T115449Z
UID:15960-1776848400-1776851100@zazijvedu.cz
SUMMARY:Sladké mámení
DESCRIPTION:Sladké mámení
URL:https://zazijvedu.cz/event/sladke-mameni-13/
LOCATION:Sladké mámení
CATEGORIES:Pro střední školy
END:VEVENT
BEGIN:VEVENT
DTSTART;TZID=Europe/Prague:20250423T120000
DTEND;TZID=Europe/Prague:20250423T130000
DTSTAMP:20260420T094601
CREATED:20250317T075636Z
LAST-MODIFIED:20250317T075636Z
UID:14543-1745409600-1745413200@zazijvedu.cz
SUMMARY:Tavený sýr jak ho neznáte
DESCRIPTION:Tavený sýr jak ho neznáte
URL:https://zazijvedu.cz/event/taveny-syr-jak-ho-neznate-8/
LOCATION:Tavený sýr jak ho neznáte
CATEGORIES:Pro střední školy
END:VEVENT
BEGIN:VEVENT
DTSTART;TZID=Europe/Prague:20250423T120000
DTEND;TZID=Europe/Prague:20250423T130000
DTSTAMP:20260420T094601
CREATED:20250314T123401Z
LAST-MODIFIED:20250317T094320Z
UID:14329-1745409600-1745413200@zazijvedu.cz
SUMMARY:Od vejce k majolce
DESCRIPTION:Od vejce k majolce
URL:https://zazijvedu.cz/event/od-vejce-k-majolce-14/
LOCATION:OD VEJCE K MAJOLCE
CATEGORIES:Pro střední školy
END:VEVENT
BEGIN:VEVENT
DTSTART;TZID=Europe/Prague:20250423T110000
DTEND;TZID=Europe/Prague:20250423T120000
DTSTAMP:20260420T094601
CREATED:20250317T075427Z
LAST-MODIFIED:20250317T075427Z
UID:14541-1745406000-1745409600@zazijvedu.cz
SUMMARY:Tavený sýr jak ho neznáte
DESCRIPTION:Tavený sýr jak ho neznáte
URL:https://zazijvedu.cz/event/taveny-syr-jak-ho-neznate-7/
LOCATION:Tavený sýr jak ho neznáte
CATEGORIES:Pro střední školy
END:VEVENT
BEGIN:VEVENT
DTSTART;TZID=Europe/Prague:20250423T110000
DTEND;TZID=Europe/Prague:20250423T120000
DTSTAMP:20260420T094601
CREATED:20250314T123305Z
LAST-MODIFIED:20250314T123305Z
UID:14327-1745406000-1745409600@zazijvedu.cz
SUMMARY:Od vejce k majolce
DESCRIPTION:Od vejce k majolce
URL:https://zazijvedu.cz/event/od-vejce-k-majolce-13/
LOCATION:OD VEJCE K MAJOLCE
CATEGORIES:Pro střední školy
END:VEVENT
BEGIN:VEVENT
DTSTART;TZID=Europe/Prague:20250423T100000
DTEND;TZID=Europe/Prague:20250423T110000
DTSTAMP:20260420T094601
CREATED:20250317T075246Z
LAST-MODIFIED:20250317T075246Z
UID:14539-1745402400-1745406000@zazijvedu.cz
SUMMARY:Tavený sýr jak ho neznáte
DESCRIPTION:Tavený sýr jak ho neznáte
URL:https://zazijvedu.cz/event/taveny-syr-jak-ho-neznate-6/
LOCATION:Tavený sýr jak ho neznáte
CATEGORIES:Pro střední školy
END:VEVENT
BEGIN:VEVENT
DTSTART;TZID=Europe/Prague:20250423T100000
DTEND;TZID=Europe/Prague:20250423T110000
DTSTAMP:20260420T094601
CREATED:20250314T123118Z
LAST-MODIFIED:20250314T123118Z
UID:14325-1745402400-1745406000@zazijvedu.cz
SUMMARY:Od vejce k majolce
DESCRIPTION:Od vejce k majolce
URL:https://zazijvedu.cz/event/od-vejce-k-majolce-12/
LOCATION:OD VEJCE K MAJOLCE
CATEGORIES:Pro střední školy
END:VEVENT
BEGIN:VEVENT
DTSTART;TZID=Europe/Prague:20250423T090000
DTEND;TZID=Europe/Prague:20250423T100000
DTSTAMP:20260420T094601
CREATED:20250317T075039Z
LAST-MODIFIED:20250317T075039Z
UID:14537-1745398800-1745402400@zazijvedu.cz
SUMMARY:Tavený sýr jak ho neznáte
DESCRIPTION:Tavený sýr jak ho neznáte
URL:https://zazijvedu.cz/event/taveny-syr-jak-ho-neznate-5/
LOCATION:Tavený sýr jak ho neznáte
CATEGORIES:Pro střední školy
END:VEVENT
BEGIN:VEVENT
DTSTART;TZID=Europe/Prague:20250423T090000
DTEND;TZID=Europe/Prague:20250423T100000
DTSTAMP:20260420T094601
CREATED:20250314T123010Z
LAST-MODIFIED:20250314T123010Z
UID:14323-1745398800-1745402400@zazijvedu.cz
SUMMARY:Od vejce k majolce
DESCRIPTION:Od vejce k majolce
URL:https://zazijvedu.cz/event/od-vejce-k-majolce-11/
LOCATION:OD VEJCE K MAJOLCE
CATEGORIES:Pro střední školy
END:VEVENT
BEGIN:VEVENT
DTSTART;TZID=Europe/Prague:20250422T160000
DTEND;TZID=Europe/Prague:20250422T170000
DTSTAMP:20260420T094601
CREATED:20250314T125448Z
LAST-MODIFIED:20250317T094416Z
UID:14334-1745337600-1745341200@zazijvedu.cz
SUMMARY:Od vejce k majolce
DESCRIPTION:Od vejce k majolce
URL:https://zazijvedu.cz/event/od-vejce-k-majolce-16/
LOCATION:OD VEJCE K MAJOLCE
CATEGORIES:Pro veřejnost
END:VEVENT
BEGIN:VEVENT
DTSTART;TZID=Europe/Prague:20250422T150000
DTEND;TZID=Europe/Prague:20250422T160000
DTSTAMP:20260420T094601
CREATED:20250317T075738Z
LAST-MODIFIED:20250317T075738Z
UID:14545-1745334000-1745337600@zazijvedu.cz
SUMMARY:Tavený sýr jak ho neznáte
DESCRIPTION:Tavený sýr jak ho neznáte
URL:https://zazijvedu.cz/event/taveny-syr-jak-ho-neznate-9/
LOCATION:Tavený sýr jak ho neznáte
CATEGORIES:Pro veřejnost
END:VEVENT
BEGIN:VEVENT
DTSTART;TZID=Europe/Prague:20250422T120000
DTEND;TZID=Europe/Prague:20250422T130000
DTSTAMP:20260420T094601
CREATED:20250317T074445Z
LAST-MODIFIED:20250317T074445Z
UID:14535-1745323200-1745326800@zazijvedu.cz
SUMMARY:Tavený sýr jak ho neznáte
DESCRIPTION:Tavený sýr jak ho neznáte
URL:https://zazijvedu.cz/event/taveny-syr-jak-ho-neznate-4/
LOCATION:Tavený sýr jak ho neznáte
CATEGORIES:Pro střední školy
END:VEVENT
BEGIN:VEVENT
DTSTART;TZID=Europe/Prague:20250422T120000
DTEND;TZID=Europe/Prague:20250422T130000
DTSTAMP:20260420T094601
CREATED:20250314T122910Z
LAST-MODIFIED:20250314T122910Z
UID:14321-1745323200-1745326800@zazijvedu.cz
SUMMARY:Od vejce k majolce
DESCRIPTION:Od vejce k majolce
URL:https://zazijvedu.cz/event/od-vejce-k-majolce-10/
LOCATION:OD VEJCE K MAJOLCE
CATEGORIES:Pro střední školy
END:VEVENT
END:VCALENDAR