BEGIN:VCALENDAR
VERSION:2.0
PRODID:-//Zažij vědu - ECPv6.15.20//NONSGML v1.0//EN
CALSCALE:GREGORIAN
METHOD:PUBLISH
X-ORIGINAL-URL:https://zazijvedu.cz
X-WR-CALDESC:Akce na Zažij vědu
REFRESH-INTERVAL;VALUE=DURATION:PT1H
X-Robots-Tag:noindex
X-PUBLISHED-TTL:PT1H
BEGIN:VTIMEZONE
TZID:Europe/Prague
BEGIN:DAYLIGHT
TZOFFSETFROM:+0100
TZOFFSETTO:+0200
TZNAME:CEST
DTSTART:20240331T010000
END:DAYLIGHT
BEGIN:STANDARD
TZOFFSETFROM:+0200
TZOFFSETTO:+0100
TZNAME:CET
DTSTART:20241027T010000
END:STANDARD
BEGIN:DAYLIGHT
TZOFFSETFROM:+0100
TZOFFSETTO:+0200
TZNAME:CEST
DTSTART:20250330T010000
END:DAYLIGHT
BEGIN:STANDARD
TZOFFSETFROM:+0200
TZOFFSETTO:+0100
TZNAME:CET
DTSTART:20251026T010000
END:STANDARD
BEGIN:DAYLIGHT
TZOFFSETFROM:+0100
TZOFFSETTO:+0200
TZNAME:CEST
DTSTART:20260329T010000
END:DAYLIGHT
BEGIN:STANDARD
TZOFFSETFROM:+0200
TZOFFSETTO:+0100
TZNAME:CET
DTSTART:20261025T010000
END:STANDARD
END:VTIMEZONE
BEGIN:VEVENT
DTSTART;TZID=Europe/Prague:20250422T100000
DTEND;TZID=Europe/Prague:20250520T110000
DTSTAMP:20260423T013422
CREATED:20250317T061546Z
LAST-MODIFIED:20250317T061606Z
UID:14410-1745316000-1747738800@zazijvedu.cz
SUMMARY:3D laboratoř
DESCRIPTION:3D laboratoř
URL:https://zazijvedu.cz/event/3d-laborator-21/
LOCATION:3D laboratoř
CATEGORIES:Pro střední školy
END:VEVENT
BEGIN:VEVENT
DTSTART;TZID=Europe/Prague:20250423T090000
DTEND;TZID=Europe/Prague:20250423T100000
DTSTAMP:20260423T013422
CREATED:20250317T062025Z
LAST-MODIFIED:20250317T062025Z
UID:14417-1745398800-1745402400@zazijvedu.cz
SUMMARY:3D laboratoř
DESCRIPTION:3D laboratoř
URL:https://zazijvedu.cz/event/3d-laborator-24/
LOCATION:3D laboratoř
CATEGORIES:Pro střední školy
END:VEVENT
BEGIN:VEVENT
DTSTART;TZID=Europe/Prague:20250423T090000
DTEND;TZID=Europe/Prague:20250423T100000
DTSTAMP:20260423T013422
CREATED:20250317T063226Z
LAST-MODIFIED:20250317T063226Z
UID:14442-1745398800-1745402400@zazijvedu.cz
SUMMARY:AI: parťák pro studium nebo nástroj plagiátorství?
DESCRIPTION:AI: parťák pro studium nebo nástroj plagiátorství?
URL:https://zazijvedu.cz/event/ai-partak-pro-studium-nebo-nastroj-plagiatorstvi-5/
LOCATION:AI: parťák pro studium nebo nástroj plagiátorství?
CATEGORIES:Pro střední školy
END:VEVENT
BEGIN:VEVENT
DTSTART;TZID=Europe/Prague:20250423T090000
DTEND;TZID=Europe/Prague:20250423T100000
DTSTAMP:20260423T013422
CREATED:20250317T080655Z
LAST-MODIFIED:20250317T080655Z
UID:14561-1745398800-1745402400@zazijvedu.cz
SUMMARY:Od materiálu k hračce
DESCRIPTION:Od materiálu k hračce
URL:https://zazijvedu.cz/event/od-materialu-k-hracce-5/
LOCATION:Od materiálu k hračce
CATEGORIES:Pro střední školy
END:VEVENT
BEGIN:VEVENT
DTSTART;TZID=Europe/Prague:20250423T090000
DTEND;TZID=Europe/Prague:20250423T100000
DTSTAMP:20260423T013422
CREATED:20250319T084609Z
LAST-MODIFIED:20250319T084609Z
UID:14722-1745398800-1745402400@zazijvedu.cz
SUMMARY:Budiž světlo
DESCRIPTION:Budiž světlo
URL:https://zazijvedu.cz/event/budiz-svetlo-7/
LOCATION:Budiž světlo
CATEGORIES:Pro střední školy
END:VEVENT
BEGIN:VEVENT
DTSTART;TZID=Europe/Prague:20250423T100000
DTEND;TZID=Europe/Prague:20250423T110000
DTSTAMP:20260423T013422
CREATED:20250317T062122Z
LAST-MODIFIED:20250317T062122Z
UID:14419-1745402400-1745406000@zazijvedu.cz
SUMMARY:3D laboratoř
DESCRIPTION:3D laboratoř
URL:https://zazijvedu.cz/event/3d-laborator-25/
LOCATION:3D laboratoř
CATEGORIES:Pro střední školy
END:VEVENT
BEGIN:VEVENT
DTSTART;TZID=Europe/Prague:20250423T100000
DTEND;TZID=Europe/Prague:20250423T110000
DTSTAMP:20260423T013422
CREATED:20250317T063302Z
LAST-MODIFIED:20250317T063302Z
UID:14444-1745402400-1745406000@zazijvedu.cz
SUMMARY:AI: parťák pro studium nebo nástroj plagiátorství?
DESCRIPTION:AI: parťák pro studium nebo nástroj plagiátorství?
URL:https://zazijvedu.cz/event/ai-partak-pro-studium-nebo-nastroj-plagiatorstvi-6/
LOCATION:AI: parťák pro studium nebo nástroj plagiátorství?
CATEGORIES:Pro střední školy
END:VEVENT
BEGIN:VEVENT
DTSTART;TZID=Europe/Prague:20250423T100000
DTEND;TZID=Europe/Prague:20250423T110000
DTSTAMP:20260423T013422
CREATED:20250317T080756Z
LAST-MODIFIED:20250317T080756Z
UID:14563-1745402400-1745406000@zazijvedu.cz
SUMMARY:Od materiálu k hračce
DESCRIPTION:Od materiálu k hračce
URL:https://zazijvedu.cz/event/od-materialu-k-hracce-6/
LOCATION:Od materiálu k hračce
CATEGORIES:Pro střední školy
END:VEVENT
BEGIN:VEVENT
DTSTART;TZID=Europe/Prague:20250423T100000
DTEND;TZID=Europe/Prague:20250423T110000
DTSTAMP:20260423T013422
CREATED:20250319T084643Z
LAST-MODIFIED:20250319T084643Z
UID:14724-1745402400-1745406000@zazijvedu.cz
SUMMARY:Budiž světlo
DESCRIPTION:Budiž světlo
URL:https://zazijvedu.cz/event/budiz-svetlo-8/
LOCATION:Budiž světlo
CATEGORIES:Pro střední školy
END:VEVENT
BEGIN:VEVENT
DTSTART;TZID=Europe/Prague:20250423T110000
DTEND;TZID=Europe/Prague:20250423T120000
DTSTAMP:20260423T013422
CREATED:20250317T062210Z
LAST-MODIFIED:20250317T062210Z
UID:14421-1745406000-1745409600@zazijvedu.cz
SUMMARY:3D laboratoř
DESCRIPTION:3D laboratoř
URL:https://zazijvedu.cz/event/3d-laborator-26/
LOCATION:3D laboratoř
CATEGORIES:Pro střední školy
END:VEVENT
BEGIN:VEVENT
DTSTART;TZID=Europe/Prague:20250423T110000
DTEND;TZID=Europe/Prague:20250423T120000
DTSTAMP:20260423T013422
CREATED:20250317T064515Z
LAST-MODIFIED:20250317T064515Z
UID:14446-1745406000-1745409600@zazijvedu.cz
SUMMARY:AI: parťák pro studium nebo nástroj plagiátorství?
DESCRIPTION:AI: parťák pro studium nebo nástroj plagiátorství?
URL:https://zazijvedu.cz/event/ai-partak-pro-studium-nebo-nastroj-plagiatorstvi-7/
LOCATION:AI: parťák pro studium nebo nástroj plagiátorství?
CATEGORIES:Pro střední školy
END:VEVENT
BEGIN:VEVENT
DTSTART;TZID=Europe/Prague:20250423T110000
DTEND;TZID=Europe/Prague:20250423T120000
DTSTAMP:20260423T013422
CREATED:20250317T080859Z
LAST-MODIFIED:20250317T080859Z
UID:14565-1745406000-1745409600@zazijvedu.cz
SUMMARY:Od materiálu k hračce
DESCRIPTION:Od materiálu k hračce
URL:https://zazijvedu.cz/event/od-materialu-k-hracce-7/
LOCATION:Od materiálu k hračce
CATEGORIES:Pro střední školy
END:VEVENT
BEGIN:VEVENT
DTSTART;TZID=Europe/Prague:20250423T110000
DTEND;TZID=Europe/Prague:20250423T120000
DTSTAMP:20260423T013422
CREATED:20250319T084724Z
LAST-MODIFIED:20250319T084724Z
UID:14726-1745406000-1745409600@zazijvedu.cz
SUMMARY:Budiž světlo
DESCRIPTION:Budiž světlo
URL:https://zazijvedu.cz/event/budiz-svetlo-9/
LOCATION:Budiž světlo
CATEGORIES:Pro střední školy
END:VEVENT
BEGIN:VEVENT
DTSTART;TZID=Europe/Prague:20250423T120000
DTEND;TZID=Europe/Prague:20250423T130000
DTSTAMP:20260423T013422
CREATED:20250317T062315Z
LAST-MODIFIED:20250317T062315Z
UID:14423-1745409600-1745413200@zazijvedu.cz
SUMMARY:3D laboratoř
DESCRIPTION:3D laboratoř
URL:https://zazijvedu.cz/event/3d-laborator-27/
LOCATION:3D laboratoř
CATEGORIES:Pro střední školy
END:VEVENT
BEGIN:VEVENT
DTSTART;TZID=Europe/Prague:20250423T120000
DTEND;TZID=Europe/Prague:20250423T130000
DTSTAMP:20260423T013422
CREATED:20250317T064605Z
LAST-MODIFIED:20250317T064605Z
UID:14448-1745409600-1745413200@zazijvedu.cz
SUMMARY:AI: parťák pro studium nebo nástroj plagiátorství?
DESCRIPTION:AI: parťák pro studium nebo nástroj plagiátorství?
URL:https://zazijvedu.cz/event/ai-partak-pro-studium-nebo-nastroj-plagiatorstvi-8/
LOCATION:AI: parťák pro studium nebo nástroj plagiátorství?
CATEGORIES:Pro střední školy
END:VEVENT
BEGIN:VEVENT
DTSTART;TZID=Europe/Prague:20250423T120000
DTEND;TZID=Europe/Prague:20250423T130000
DTSTAMP:20260423T013422
CREATED:20250317T080955Z
LAST-MODIFIED:20250317T081116Z
UID:14567-1745409600-1745413200@zazijvedu.cz
SUMMARY:Od materiálu k hračce
DESCRIPTION:Od materiálu k hračce
URL:https://zazijvedu.cz/event/od-materialu-k-hracce-8/
LOCATION:Od materiálu k hračce
CATEGORIES:Pro střední školy
END:VEVENT
BEGIN:VEVENT
DTSTART;TZID=Europe/Prague:20250423T120000
DTEND;TZID=Europe/Prague:20250423T130000
DTSTAMP:20260423T013422
CREATED:20250319T084756Z
LAST-MODIFIED:20250319T084815Z
UID:14728-1745409600-1745413200@zazijvedu.cz
SUMMARY:Budiž světlo
DESCRIPTION:Budiž světlo
URL:https://zazijvedu.cz/event/budiz-svetlo-10/
LOCATION:Budiž světlo
CATEGORIES:Pro střední školy
END:VEVENT
END:VCALENDAR