BEGIN:VCALENDAR
VERSION:2.0
PRODID:-//Zažij vědu - ECPv6.15.20//NONSGML v1.0//EN
CALSCALE:GREGORIAN
METHOD:PUBLISH
X-WR-CALNAME:Zažij vědu
X-ORIGINAL-URL:https://zazijvedu.cz
X-WR-CALDESC:Akce na Zažij vědu
REFRESH-INTERVAL;VALUE=DURATION:PT1H
X-Robots-Tag:noindex
X-PUBLISHED-TTL:PT1H
BEGIN:VTIMEZONE
TZID:Europe/Prague
BEGIN:DAYLIGHT
TZOFFSETFROM:+0100
TZOFFSETTO:+0200
TZNAME:CEST
DTSTART:20240331T010000
END:DAYLIGHT
BEGIN:STANDARD
TZOFFSETFROM:+0200
TZOFFSETTO:+0100
TZNAME:CET
DTSTART:20241027T010000
END:STANDARD
BEGIN:DAYLIGHT
TZOFFSETFROM:+0100
TZOFFSETTO:+0200
TZNAME:CEST
DTSTART:20250330T010000
END:DAYLIGHT
BEGIN:STANDARD
TZOFFSETFROM:+0200
TZOFFSETTO:+0100
TZNAME:CET
DTSTART:20251026T010000
END:STANDARD
BEGIN:DAYLIGHT
TZOFFSETFROM:+0100
TZOFFSETTO:+0200
TZNAME:CEST
DTSTART:20260329T010000
END:DAYLIGHT
BEGIN:STANDARD
TZOFFSETFROM:+0200
TZOFFSETTO:+0100
TZNAME:CET
DTSTART:20261025T010000
END:STANDARD
BEGIN:DAYLIGHT
TZOFFSETFROM:+0100
TZOFFSETTO:+0200
TZNAME:CEST
DTSTART:20270328T010000
END:DAYLIGHT
BEGIN:STANDARD
TZOFFSETFROM:+0200
TZOFFSETTO:+0100
TZNAME:CET
DTSTART:20271031T010000
END:STANDARD
END:VTIMEZONE
BEGIN:VEVENT
DTSTART;TZID=Europe/Prague:20260423T090000
DTEND;TZID=Europe/Prague:20260423T094500
DTSTAMP:20260422T034024
CREATED:20260320T091337Z
LAST-MODIFIED:20260327T115514Z
UID:16083-1776934800-1776937500@zazijvedu.cz
SUMMARY:Robotické hrátky pod taktovkou AI
DESCRIPTION:Robotické hrátky pod taktovkou AI
URL:https://zazijvedu.cz/event/roboticke-hratky-pod-taktovkou-ai-5/
LOCATION:Robotické hrátky pod taktovkou AI
CATEGORIES:Pro střední školy
END:VEVENT
BEGIN:VEVENT
DTSTART;TZID=Europe/Prague:20260423T090000
DTEND;TZID=Europe/Prague:20260423T093000
DTSTAMP:20260422T034024
CREATED:20260320T083839Z
LAST-MODIFIED:20260327T115505Z
UID:16038-1776934800-1776936600@zazijvedu.cz
SUMMARY:3D laboratoř
DESCRIPTION:3D laboratoř
URL:https://zazijvedu.cz/event/3d-laborator-33/
LOCATION:3D laboratoř
CATEGORIES:Pro střední školy
END:VEVENT
BEGIN:VEVENT
DTSTART;TZID=Europe/Prague:20260422T160000
DTEND;TZID=Europe/Prague:20260422T164500
DTSTAMP:20260422T034024
CREATED:20260320T092413Z
LAST-MODIFIED:20260327T115517Z
UID:16095-1776873600-1776876300@zazijvedu.cz
SUMMARY:Robotické hrátky pod taktovkou AI
DESCRIPTION:Robotické hrátky pod taktovkou AI
URL:https://zazijvedu.cz/event/roboticke-hratky-pod-taktovkou-ai-10/
LOCATION:Robotické hrátky pod taktovkou AI
CATEGORIES:Pro veřejnost
END:VEVENT
BEGIN:VEVENT
DTSTART;TZID=Europe/Prague:20260422T160000
DTEND;TZID=Europe/Prague:20260422T164500
DTSTAMP:20260422T034024
CREATED:20260320T084854Z
LAST-MODIFIED:20260327T120815Z
UID:16049-1776873600-1776876300@zazijvedu.cz
SUMMARY:3D laboratoř
DESCRIPTION:3D laboratoř
URL:https://zazijvedu.cz/event/3d-laborator-38/
LOCATION:3D laboratoř
CATEGORIES:Pro veřejnost
END:VEVENT
BEGIN:VEVENT
DTSTART;TZID=Europe/Prague:20260422T150000
DTEND;TZID=Europe/Prague:20260422T154500
DTSTAMP:20260422T034024
CREATED:20260320T115747Z
LAST-MODIFIED:20260327T115539Z
UID:16207-1776870000-1776872700@zazijvedu.cz
SUMMARY:Od materiálu k hračce
DESCRIPTION:Od materiálu k hračce
URL:https://zazijvedu.cz/event/od-materialu-k-hracce-18/
LOCATION:Od materiálu k hračce
CATEGORIES:Pro veřejnost
END:VEVENT
BEGIN:VEVENT
DTSTART;TZID=Europe/Prague:20260422T120000
DTEND;TZID=Europe/Prague:20260422T124500
DTSTAMP:20260422T034024
CREATED:20260320T115358Z
LAST-MODIFIED:20260327T115537Z
UID:16196-1776859200-1776861900@zazijvedu.cz
SUMMARY:Od materiálu k hračce
DESCRIPTION:Od materiálu k hračce
URL:https://zazijvedu.cz/event/od-materialu-k-hracce-13/
LOCATION:Od materiálu k hračce
CATEGORIES:Pro střední školy
END:VEVENT
BEGIN:VEVENT
DTSTART;TZID=Europe/Prague:20260422T120000
DTEND;TZID=Europe/Prague:20260422T124500
DTSTAMP:20260422T034024
CREATED:20260320T091236Z
LAST-MODIFIED:20260327T115514Z
UID:16081-1776859200-1776861900@zazijvedu.cz
SUMMARY:Robotické hrátky pod taktovkou AI
DESCRIPTION:Robotické hrátky pod taktovkou AI
URL:https://zazijvedu.cz/event/roboticke-hratky-pod-taktovkou-ai-4/
LOCATION:Robotické hrátky pod taktovkou AI
CATEGORIES:Pro střední školy
END:VEVENT
BEGIN:VEVENT
DTSTART;TZID=Europe/Prague:20260422T120000
DTEND;TZID=Europe/Prague:20260422T124500
DTSTAMP:20260422T034024
CREATED:20260320T083729Z
LAST-MODIFIED:20260327T115505Z
UID:16036-1776859200-1776861900@zazijvedu.cz
SUMMARY:3D laboratoř
DESCRIPTION:3D laboratoř
URL:https://zazijvedu.cz/event/3d-laborator-32/
LOCATION:3D laboratoř
CATEGORIES:Pro střední školy
END:VEVENT
BEGIN:VEVENT
DTSTART;TZID=Europe/Prague:20260422T110000
DTEND;TZID=Europe/Prague:20260422T114500
DTSTAMP:20260422T034024
CREATED:20260320T091142Z
LAST-MODIFIED:20260327T115513Z
UID:16079-1776855600-1776858300@zazijvedu.cz
SUMMARY:Robotické hrátky pod taktovkou AI
DESCRIPTION:Robotické hrátky pod taktovkou AI
URL:https://zazijvedu.cz/event/roboticke-hratky-pod-taktovkou-ai-3/
LOCATION:Robotické hrátky pod taktovkou AI
CATEGORIES:Pro střední školy
END:VEVENT
BEGIN:VEVENT
DTSTART;TZID=Europe/Prague:20260422T110000
DTEND;TZID=Europe/Prague:20260422T114500
DTSTAMP:20260422T034024
CREATED:20260320T083649Z
LAST-MODIFIED:20260327T115505Z
UID:16034-1776855600-1776858300@zazijvedu.cz
SUMMARY:3D laboratoř
DESCRIPTION:3D laboratoř
URL:https://zazijvedu.cz/event/3d-laborator-31/
LOCATION:3D laboratoř
CATEGORIES:Pro střední školy
END:VEVENT
BEGIN:VEVENT
DTSTART;TZID=Europe/Prague:20260422T100000
DTEND;TZID=Europe/Prague:20260422T104500
DTSTAMP:20260422T034024
CREATED:20260320T115212Z
LAST-MODIFIED:20260327T115535Z
UID:16192-1776852000-1776854700@zazijvedu.cz
SUMMARY:Od materiálu k hračce
DESCRIPTION:Od materiálu k hračce
URL:https://zazijvedu.cz/event/od-materialu-k-hracce-11/
LOCATION:Od materiálu k hračce
CATEGORIES:Pro střední školy
END:VEVENT
BEGIN:VEVENT
DTSTART;TZID=Europe/Prague:20260422T100000
DTEND;TZID=Europe/Prague:20260422T104500
DTSTAMP:20260422T034024
CREATED:20260320T090835Z
LAST-MODIFIED:20260327T115513Z
UID:16077-1776852000-1776854700@zazijvedu.cz
SUMMARY:Robotické hrátky pod taktovkou AI
DESCRIPTION:Robotické hrátky pod taktovkou AI
URL:https://zazijvedu.cz/event/roboticke-hratky-pod-taktovkou-ai-2/
LOCATION:Robotické hrátky pod taktovkou AI
CATEGORIES:Pro střední školy
END:VEVENT
BEGIN:VEVENT
DTSTART;TZID=Europe/Prague:20260422T100000
DTEND;TZID=Europe/Prague:20260422T104500
DTSTAMP:20260422T034024
CREATED:20260320T083559Z
LAST-MODIFIED:20260327T115504Z
UID:16032-1776852000-1776854700@zazijvedu.cz
SUMMARY:3D laboratoř
DESCRIPTION:3D laboratoř
URL:https://zazijvedu.cz/event/3d-laborator-30/
LOCATION:3D laboratoř
CATEGORIES:Pro střední školy
END:VEVENT
BEGIN:VEVENT
DTSTART;TZID=Europe/Prague:20260422T090000
DTEND;TZID=Europe/Prague:20260422T094500
DTSTAMP:20260422T034024
CREATED:20260320T115122Z
LAST-MODIFIED:20260324T151328Z
UID:16190-1776848400-1776851100@zazijvedu.cz
SUMMARY:Od materiálu k hračce
DESCRIPTION:Od materiálu k hračce
URL:https://zazijvedu.cz/event/od-materialu-k-hracce-9/
LOCATION:Od materiálu k hračce
CATEGORIES:Pro střední školy
END:VEVENT
BEGIN:VEVENT
DTSTART;TZID=Europe/Prague:20260422T090000
DTEND;TZID=Europe/Prague:20260422T094500
DTSTAMP:20260422T034024
CREATED:20260320T090755Z
LAST-MODIFIED:20260327T115513Z
UID:16074-1776848400-1776851100@zazijvedu.cz
SUMMARY:Robotické hrátky pod taktovkou AI
DESCRIPTION:Robotické hrátky pod taktovkou AI
URL:https://zazijvedu.cz/event/roboticke-hratky-pod-taktovkou-ai/
LOCATION:Robotické hrátky pod taktovkou AI
CATEGORIES:Pro střední školy
END:VEVENT
BEGIN:VEVENT
DTSTART;TZID=Europe/Prague:20260422T090000
DTEND;TZID=Europe/Prague:20260422T094500
DTSTAMP:20260422T034024
CREATED:20260320T083523Z
LAST-MODIFIED:20260324T151300Z
UID:16030-1776848400-1776851100@zazijvedu.cz
SUMMARY:3D laboratoř
DESCRIPTION:3D laboratoř
URL:https://zazijvedu.cz/event/3d-laborator-28/
LOCATION:3D laboratoř
CATEGORIES:Pro střední školy
END:VEVENT
BEGIN:VEVENT
DTSTART;TZID=Europe/Prague:20250423T120000
DTEND;TZID=Europe/Prague:20250423T130000
DTSTAMP:20260422T034024
CREATED:20250319T084756Z
LAST-MODIFIED:20250319T084815Z
UID:14728-1745409600-1745413200@zazijvedu.cz
SUMMARY:Budiž světlo
DESCRIPTION:Budiž světlo
URL:https://zazijvedu.cz/event/budiz-svetlo-10/
LOCATION:Budiž světlo
CATEGORIES:Pro střední školy
END:VEVENT
BEGIN:VEVENT
DTSTART;TZID=Europe/Prague:20250423T120000
DTEND;TZID=Europe/Prague:20250423T130000
DTSTAMP:20260422T034024
CREATED:20250317T080955Z
LAST-MODIFIED:20250317T081116Z
UID:14567-1745409600-1745413200@zazijvedu.cz
SUMMARY:Od materiálu k hračce
DESCRIPTION:Od materiálu k hračce
URL:https://zazijvedu.cz/event/od-materialu-k-hracce-8/
LOCATION:Od materiálu k hračce
CATEGORIES:Pro střední školy
END:VEVENT
BEGIN:VEVENT
DTSTART;TZID=Europe/Prague:20250423T120000
DTEND;TZID=Europe/Prague:20250423T130000
DTSTAMP:20260422T034024
CREATED:20250317T064605Z
LAST-MODIFIED:20250317T064605Z
UID:14448-1745409600-1745413200@zazijvedu.cz
SUMMARY:AI: parťák pro studium nebo nástroj plagiátorství?
DESCRIPTION:AI: parťák pro studium nebo nástroj plagiátorství?
URL:https://zazijvedu.cz/event/ai-partak-pro-studium-nebo-nastroj-plagiatorstvi-8/
LOCATION:AI: parťák pro studium nebo nástroj plagiátorství?
CATEGORIES:Pro střední školy
END:VEVENT
BEGIN:VEVENT
DTSTART;TZID=Europe/Prague:20250423T120000
DTEND;TZID=Europe/Prague:20250423T130000
DTSTAMP:20260422T034024
CREATED:20250317T062315Z
LAST-MODIFIED:20250317T062315Z
UID:14423-1745409600-1745413200@zazijvedu.cz
SUMMARY:3D laboratoř
DESCRIPTION:3D laboratoř
URL:https://zazijvedu.cz/event/3d-laborator-27/
LOCATION:3D laboratoř
CATEGORIES:Pro střední školy
END:VEVENT
BEGIN:VEVENT
DTSTART;TZID=Europe/Prague:20250423T110000
DTEND;TZID=Europe/Prague:20250423T120000
DTSTAMP:20260422T034024
CREATED:20250319T084724Z
LAST-MODIFIED:20250319T084724Z
UID:14726-1745406000-1745409600@zazijvedu.cz
SUMMARY:Budiž světlo
DESCRIPTION:Budiž světlo
URL:https://zazijvedu.cz/event/budiz-svetlo-9/
LOCATION:Budiž světlo
CATEGORIES:Pro střední školy
END:VEVENT
BEGIN:VEVENT
DTSTART;TZID=Europe/Prague:20250423T110000
DTEND;TZID=Europe/Prague:20250423T120000
DTSTAMP:20260422T034024
CREATED:20250317T080859Z
LAST-MODIFIED:20250317T080859Z
UID:14565-1745406000-1745409600@zazijvedu.cz
SUMMARY:Od materiálu k hračce
DESCRIPTION:Od materiálu k hračce
URL:https://zazijvedu.cz/event/od-materialu-k-hracce-7/
LOCATION:Od materiálu k hračce
CATEGORIES:Pro střední školy
END:VEVENT
BEGIN:VEVENT
DTSTART;TZID=Europe/Prague:20250423T110000
DTEND;TZID=Europe/Prague:20250423T120000
DTSTAMP:20260422T034024
CREATED:20250317T064515Z
LAST-MODIFIED:20250317T064515Z
UID:14446-1745406000-1745409600@zazijvedu.cz
SUMMARY:AI: parťák pro studium nebo nástroj plagiátorství?
DESCRIPTION:AI: parťák pro studium nebo nástroj plagiátorství?
URL:https://zazijvedu.cz/event/ai-partak-pro-studium-nebo-nastroj-plagiatorstvi-7/
LOCATION:AI: parťák pro studium nebo nástroj plagiátorství?
CATEGORIES:Pro střední školy
END:VEVENT
BEGIN:VEVENT
DTSTART;TZID=Europe/Prague:20250423T110000
DTEND;TZID=Europe/Prague:20250423T120000
DTSTAMP:20260422T034024
CREATED:20250317T062210Z
LAST-MODIFIED:20250317T062210Z
UID:14421-1745406000-1745409600@zazijvedu.cz
SUMMARY:3D laboratoř
DESCRIPTION:3D laboratoř
URL:https://zazijvedu.cz/event/3d-laborator-26/
LOCATION:3D laboratoř
CATEGORIES:Pro střední školy
END:VEVENT
BEGIN:VEVENT
DTSTART;TZID=Europe/Prague:20250423T100000
DTEND;TZID=Europe/Prague:20250423T110000
DTSTAMP:20260422T034024
CREATED:20250319T084643Z
LAST-MODIFIED:20250319T084643Z
UID:14724-1745402400-1745406000@zazijvedu.cz
SUMMARY:Budiž světlo
DESCRIPTION:Budiž světlo
URL:https://zazijvedu.cz/event/budiz-svetlo-8/
LOCATION:Budiž světlo
CATEGORIES:Pro střední školy
END:VEVENT
BEGIN:VEVENT
DTSTART;TZID=Europe/Prague:20250423T100000
DTEND;TZID=Europe/Prague:20250423T110000
DTSTAMP:20260422T034024
CREATED:20250317T080756Z
LAST-MODIFIED:20250317T080756Z
UID:14563-1745402400-1745406000@zazijvedu.cz
SUMMARY:Od materiálu k hračce
DESCRIPTION:Od materiálu k hračce
URL:https://zazijvedu.cz/event/od-materialu-k-hracce-6/
LOCATION:Od materiálu k hračce
CATEGORIES:Pro střední školy
END:VEVENT
BEGIN:VEVENT
DTSTART;TZID=Europe/Prague:20250423T100000
DTEND;TZID=Europe/Prague:20250423T110000
DTSTAMP:20260422T034024
CREATED:20250317T063302Z
LAST-MODIFIED:20250317T063302Z
UID:14444-1745402400-1745406000@zazijvedu.cz
SUMMARY:AI: parťák pro studium nebo nástroj plagiátorství?
DESCRIPTION:AI: parťák pro studium nebo nástroj plagiátorství?
URL:https://zazijvedu.cz/event/ai-partak-pro-studium-nebo-nastroj-plagiatorstvi-6/
LOCATION:AI: parťák pro studium nebo nástroj plagiátorství?
CATEGORIES:Pro střední školy
END:VEVENT
BEGIN:VEVENT
DTSTART;TZID=Europe/Prague:20250423T100000
DTEND;TZID=Europe/Prague:20250423T110000
DTSTAMP:20260422T034024
CREATED:20250317T062122Z
LAST-MODIFIED:20250317T062122Z
UID:14419-1745402400-1745406000@zazijvedu.cz
SUMMARY:3D laboratoř
DESCRIPTION:3D laboratoř
URL:https://zazijvedu.cz/event/3d-laborator-25/
LOCATION:3D laboratoř
CATEGORIES:Pro střední školy
END:VEVENT
BEGIN:VEVENT
DTSTART;TZID=Europe/Prague:20250423T090000
DTEND;TZID=Europe/Prague:20250423T100000
DTSTAMP:20260422T034024
CREATED:20250319T084609Z
LAST-MODIFIED:20250319T084609Z
UID:14722-1745398800-1745402400@zazijvedu.cz
SUMMARY:Budiž světlo
DESCRIPTION:Budiž světlo
URL:https://zazijvedu.cz/event/budiz-svetlo-7/
LOCATION:Budiž světlo
CATEGORIES:Pro střední školy
END:VEVENT
BEGIN:VEVENT
DTSTART;TZID=Europe/Prague:20250423T090000
DTEND;TZID=Europe/Prague:20250423T100000
DTSTAMP:20260422T034024
CREATED:20250317T080655Z
LAST-MODIFIED:20250317T080655Z
UID:14561-1745398800-1745402400@zazijvedu.cz
SUMMARY:Od materiálu k hračce
DESCRIPTION:Od materiálu k hračce
URL:https://zazijvedu.cz/event/od-materialu-k-hracce-5/
LOCATION:Od materiálu k hračce
CATEGORIES:Pro střední školy
END:VEVENT
END:VCALENDAR