BEGIN:VCALENDAR
VERSION:2.0
PRODID:-//Zažij vědu - ECPv6.15.20//NONSGML v1.0//EN
CALSCALE:GREGORIAN
METHOD:PUBLISH
X-WR-CALNAME:Zažij vědu
X-ORIGINAL-URL:https://zazijvedu.cz
X-WR-CALDESC:Akce na Zažij vědu
REFRESH-INTERVAL;VALUE=DURATION:PT1H
X-Robots-Tag:noindex
X-PUBLISHED-TTL:PT1H
BEGIN:VTIMEZONE
TZID:Europe/Prague
BEGIN:DAYLIGHT
TZOFFSETFROM:+0100
TZOFFSETTO:+0200
TZNAME:CEST
DTSTART:20250330T010000
END:DAYLIGHT
BEGIN:STANDARD
TZOFFSETFROM:+0200
TZOFFSETTO:+0100
TZNAME:CET
DTSTART:20251026T010000
END:STANDARD
BEGIN:DAYLIGHT
TZOFFSETFROM:+0100
TZOFFSETTO:+0200
TZNAME:CEST
DTSTART:20260329T010000
END:DAYLIGHT
BEGIN:STANDARD
TZOFFSETFROM:+0200
TZOFFSETTO:+0100
TZNAME:CET
DTSTART:20261025T010000
END:STANDARD
BEGIN:DAYLIGHT
TZOFFSETFROM:+0100
TZOFFSETTO:+0200
TZNAME:CEST
DTSTART:20270328T010000
END:DAYLIGHT
BEGIN:STANDARD
TZOFFSETFROM:+0200
TZOFFSETTO:+0100
TZNAME:CET
DTSTART:20271031T010000
END:STANDARD
END:VTIMEZONE
BEGIN:VEVENT
DTSTART;TZID=Europe/Prague:20260423T100000
DTEND;TZID=Europe/Prague:20260423T104500
DTSTAMP:20260423T001504
CREATED:20260320T115528Z
LAST-MODIFIED:20260327T115537Z
UID:16200-1776938400-1776941100@zazijvedu.cz
SUMMARY:Od materiálu k hračce
DESCRIPTION:Od materiálu k hračce
URL:https://zazijvedu.cz/event/od-materialu-k-hracce-15/
LOCATION:Od materiálu k hračce
CATEGORIES:Pro střední školy
END:VEVENT
BEGIN:VEVENT
DTSTART;TZID=Europe/Prague:20260423T110000
DTEND;TZID=Europe/Prague:20260423T114500
DTSTAMP:20260423T001504
CREATED:20260320T084422Z
LAST-MODIFIED:20260327T115506Z
UID:16042-1776942000-1776944700@zazijvedu.cz
SUMMARY:3D laboratoř
DESCRIPTION:3D laboratoř
URL:https://zazijvedu.cz/event/3d-laborator-35/
LOCATION:3D laboratoř
CATEGORIES:Pro střední školy
END:VEVENT
BEGIN:VEVENT
DTSTART;TZID=Europe/Prague:20260423T110000
DTEND;TZID=Europe/Prague:20260423T114500
DTSTAMP:20260423T001504
CREATED:20260320T092008Z
LAST-MODIFIED:20260327T115515Z
UID:16088-1776942000-1776944700@zazijvedu.cz
SUMMARY:Robotické hrátky pod taktovkou AI
DESCRIPTION:Robotické hrátky pod taktovkou AI
URL:https://zazijvedu.cz/event/roboticke-hratky-pod-taktovkou-ai-7/
LOCATION:Robotické hrátky pod taktovkou AI
CATEGORIES:Pro střední školy
END:VEVENT
BEGIN:VEVENT
DTSTART;TZID=Europe/Prague:20260423T110000
DTEND;TZID=Europe/Prague:20260423T114500
DTSTAMP:20260423T001504
CREATED:20260320T115608Z
LAST-MODIFIED:20260327T115538Z
UID:16202-1776942000-1776944700@zazijvedu.cz
SUMMARY:Od materiálu k hračce
DESCRIPTION:Od materiálu k hračce
URL:https://zazijvedu.cz/event/od-materialu-k-hracce-16/
LOCATION:Od materiálu k hračce
CATEGORIES:Pro střední školy
END:VEVENT
BEGIN:VEVENT
DTSTART;TZID=Europe/Prague:20260423T120000
DTEND;TZID=Europe/Prague:20260423T124500
DTSTAMP:20260423T001504
CREATED:20260320T084502Z
LAST-MODIFIED:20260327T115507Z
UID:16044-1776945600-1776948300@zazijvedu.cz
SUMMARY:3D laboratoř
DESCRIPTION:3D laboratoř
URL:https://zazijvedu.cz/event/3d-laborator-36/
LOCATION:3D laboratoř
CATEGORIES:Pro střední školy
END:VEVENT
BEGIN:VEVENT
DTSTART;TZID=Europe/Prague:20260423T120000
DTEND;TZID=Europe/Prague:20260423T124500
DTSTAMP:20260423T001504
CREATED:20260320T092114Z
LAST-MODIFIED:20260327T115516Z
UID:16090-1776945600-1776948300@zazijvedu.cz
SUMMARY:Robotické hrátky pod taktovkou AI
DESCRIPTION:Robotické hrátky pod taktovkou AI
URL:https://zazijvedu.cz/event/roboticke-hratky-pod-taktovkou-ai-8/
LOCATION:Robotické hrátky pod taktovkou AI
CATEGORIES:Pro střední školy
END:VEVENT
BEGIN:VEVENT
DTSTART;TZID=Europe/Prague:20260423T120000
DTEND;TZID=Europe/Prague:20260423T124500
DTSTAMP:20260423T001504
CREATED:20260320T115642Z
LAST-MODIFIED:20260327T115539Z
UID:16204-1776945600-1776948300@zazijvedu.cz
SUMMARY:Od materiálu k hračce
DESCRIPTION:Od materiálu k hračce
URL:https://zazijvedu.cz/event/od-materialu-k-hracce-17/
LOCATION:Od materiálu k hračce
CATEGORIES:Pro střední školy
END:VEVENT
END:VCALENDAR