BEGIN:VCALENDAR
VERSION:2.0
PRODID:-//Zažij vědu - ECPv6.15.20//NONSGML v1.0//EN
CALSCALE:GREGORIAN
METHOD:PUBLISH
X-WR-CALNAME:Zažij vědu
X-ORIGINAL-URL:https://zazijvedu.cz
X-WR-CALDESC:Akce na Zažij vědu
REFRESH-INTERVAL;VALUE=DURATION:PT1H
X-Robots-Tag:noindex
X-PUBLISHED-TTL:PT1H
BEGIN:VTIMEZONE
TZID:Europe/Prague
BEGIN:DAYLIGHT
TZOFFSETFROM:+0100
TZOFFSETTO:+0200
TZNAME:CEST
DTSTART:20210328T010000
END:DAYLIGHT
BEGIN:STANDARD
TZOFFSETFROM:+0200
TZOFFSETTO:+0100
TZNAME:CET
DTSTART:20211031T010000
END:STANDARD
BEGIN:DAYLIGHT
TZOFFSETFROM:+0100
TZOFFSETTO:+0200
TZNAME:CEST
DTSTART:20220327T010000
END:DAYLIGHT
BEGIN:STANDARD
TZOFFSETFROM:+0200
TZOFFSETTO:+0100
TZNAME:CET
DTSTART:20221030T010000
END:STANDARD
BEGIN:DAYLIGHT
TZOFFSETFROM:+0100
TZOFFSETTO:+0200
TZNAME:CEST
DTSTART:20230326T010000
END:DAYLIGHT
BEGIN:STANDARD
TZOFFSETFROM:+0200
TZOFFSETTO:+0100
TZNAME:CET
DTSTART:20231029T010000
END:STANDARD
BEGIN:DAYLIGHT
TZOFFSETFROM:+0100
TZOFFSETTO:+0200
TZNAME:CEST
DTSTART:20240331T010000
END:DAYLIGHT
BEGIN:STANDARD
TZOFFSETFROM:+0200
TZOFFSETTO:+0100
TZNAME:CET
DTSTART:20241027T010000
END:STANDARD
BEGIN:DAYLIGHT
TZOFFSETFROM:+0100
TZOFFSETTO:+0200
TZNAME:CEST
DTSTART:20250330T010000
END:DAYLIGHT
BEGIN:STANDARD
TZOFFSETFROM:+0200
TZOFFSETTO:+0100
TZNAME:CET
DTSTART:20251026T010000
END:STANDARD
END:VTIMEZONE
BEGIN:VEVENT
DTSTART;TZID=Europe/Prague:20240416T100000
DTEND;TZID=Europe/Prague:20240416T104500
DTSTAMP:20260423T001701
CREATED:20240307T133859Z
LAST-MODIFIED:20240307T134237Z
UID:13291-1713261600-1713264300@zazijvedu.cz
SUMMARY:LASERY – KROTITELÉ FOTONŮ
DESCRIPTION:LASERY – KROTITELÉ FOTONŮ
URL:https://zazijvedu.cz/event/lasery-krotitele-fotonu-14/
LOCATION:Lasery – Krotitelé fotonů
CATEGORIES:Pro střední školy
END:VEVENT
BEGIN:VEVENT
DTSTART;TZID=Europe/Prague:20240416T100000
DTEND;TZID=Europe/Prague:20240416T104500
DTSTAMP:20260423T001701
CREATED:20240306T102601Z
LAST-MODIFIED:20240306T102825Z
UID:13070-1713261600-1713264300@zazijvedu.cz
SUMMARY:3D Biotisk
DESCRIPTION:3D Biotisk
URL:https://zazijvedu.cz/event/3d-biotisk-2/
LOCATION:3D bio tisk
CATEGORIES:Pro střední školy
END:VEVENT
BEGIN:VEVENT
DTSTART;TZID=Europe/Prague:20240416T090000
DTEND;TZID=Europe/Prague:20240416T094500
DTSTAMP:20260423T001701
CREATED:20240308T114729Z
LAST-MODIFIED:20240308T114729Z
UID:13540-1713258000-1713260700@zazijvedu.cz
SUMMARY:STROJAŘEM V BÍLÉM PLÁŠTI
DESCRIPTION:STROJAŘEM V BÍLÉM PLÁŠTI
URL:https://zazijvedu.cz/event/strojarem-v-bilem-plasti/
LOCATION:STROJAŘEM V BÍLÉM PLÁŠTI
CATEGORIES:Pro střední školy
END:VEVENT
BEGIN:VEVENT
DTSTART;TZID=Europe/Prague:20240416T090000
DTEND;TZID=Europe/Prague:20240416T094500
DTSTAMP:20260423T001701
CREATED:20240308T111429Z
LAST-MODIFIED:20240308T111440Z
UID:13466-1713258000-1713260700@zazijvedu.cz
SUMMARY:DIGITALIZACE ŽIVOTA
DESCRIPTION:DIGITALIZACE ŽIVOTA
URL:https://zazijvedu.cz/event/digitalizace-zivota/
LOCATION:DIGITALIZACE ŽIVOTA
CATEGORIES:Pro střední školy
END:VEVENT
BEGIN:VEVENT
DTSTART;TZID=Europe/Prague:20240416T090000
DTEND;TZID=Europe/Prague:20240416T094500
DTSTAMP:20260423T001701
CREATED:20240308T110420Z
LAST-MODIFIED:20240308T110508Z
UID:13445-1713258000-1713260700@zazijvedu.cz
SUMMARY:3D LABORATOŘ
DESCRIPTION:3D LABORATOŘ
URL:https://zazijvedu.cz/event/3d-laborator-13/
LOCATION:3D laboratoř
CATEGORIES:Pro střední školy
END:VEVENT
BEGIN:VEVENT
DTSTART;TZID=Europe/Prague:20240416T090000
DTEND;TZID=Europe/Prague:20240416T094500
DTSTAMP:20260423T001701
CREATED:20240307T133853Z
LAST-MODIFIED:20240307T134229Z
UID:13290-1713258000-1713260700@zazijvedu.cz
SUMMARY:LASERY – KROTITELÉ FOTONŮ
DESCRIPTION:LASERY – KROTITELÉ FOTONŮ
URL:https://zazijvedu.cz/event/lasery-krotitele-fotonu-13/
LOCATION:Lasery – Krotitelé fotonů
CATEGORIES:Pro střední školy
END:VEVENT
BEGIN:VEVENT
DTSTART;TZID=Europe/Prague:20240416T090000
DTEND;TZID=Europe/Prague:20240416T094500
DTSTAMP:20260423T001701
CREATED:20240306T102557Z
LAST-MODIFIED:20240306T102837Z
UID:13069-1713258000-1713260700@zazijvedu.cz
SUMMARY:3D Biotisk
DESCRIPTION:3D Biotisk
URL:https://zazijvedu.cz/event/3d-biotisk/
LOCATION:3D bio tisk
CATEGORIES:Pro střední školy
END:VEVENT
BEGIN:VEVENT
DTSTART;TZID=Europe/Prague:20230426T160000
DTEND;TZID=Europe/Prague:20230426T164500
DTSTAMP:20260423T001701
CREATED:20230328T121908Z
LAST-MODIFIED:20230328T121908Z
UID:12204-1682524800-1682527500@zazijvedu.cz
SUMMARY:MĚŘENÍ\, MATKA PŘESNOSTI
DESCRIPTION:MĚŘENÍ\, MATKA PŘESNOSTI
URL:https://zazijvedu.cz/event/mereni-matka-presnosti-2/
LOCATION:MĚŘENÍ\, MATKA PŘESNOSTI
CATEGORIES:Pro veřejnost
END:VEVENT
BEGIN:VEVENT
DTSTART;TZID=Europe/Prague:20230426T160000
DTEND;TZID=Europe/Prague:20230426T164500
DTSTAMP:20260423T001701
CREATED:20230328T121710Z
LAST-MODIFIED:20230328T121710Z
UID:12197-1682524800-1682527500@zazijvedu.cz
SUMMARY:ČISTÁ CNC PRÁCE
DESCRIPTION:ČISTÁ CNC PRÁCE
URL:https://zazijvedu.cz/event/cista-cnc-prace-8/
LOCATION:Čistá CNC práce
CATEGORIES:Pro veřejnost
END:VEVENT
BEGIN:VEVENT
DTSTART;TZID=Europe/Prague:20230426T160000
DTEND;TZID=Europe/Prague:20230426T164500
DTSTAMP:20260423T001701
CREATED:20230328T111856Z
LAST-MODIFIED:20230328T111856Z
UID:12191-1682524800-1682527500@zazijvedu.cz
SUMMARY:3D LABORATOŘ
DESCRIPTION:3D LABORATOŘ
URL:https://zazijvedu.cz/event/3d-laborator-8/
LOCATION:3D laboratoř
CATEGORIES:Pro veřejnost
END:VEVENT
BEGIN:VEVENT
DTSTART;TZID=Europe/Prague:20230426T160000
DTEND;TZID=Europe/Prague:20230426T164500
DTSTAMP:20260423T001701
CREATED:20230328T094802Z
LAST-MODIFIED:20230328T094802Z
UID:12182-1682524800-1682527500@zazijvedu.cz
SUMMARY:LASERY – KROTITELÉ FOTONŮ
DESCRIPTION:LASERY – KROTITELÉ FOTONŮ
URL:https://zazijvedu.cz/event/lasery-krotitele-fotonu-9/
LOCATION:Lasery – Krotitelé fotonů
CATEGORIES:Pro veřejnost
END:VEVENT
BEGIN:VEVENT
DTSTART;TZID=Europe/Prague:20230426T150000
DTEND;TZID=Europe/Prague:20230426T154500
DTSTAMP:20260423T001701
CREATED:20230328T121817Z
LAST-MODIFIED:20230328T121817Z
UID:12200-1682521200-1682523900@zazijvedu.cz
SUMMARY:MĚŘENÍ\, MATKA PŘESNOSTI
DESCRIPTION:MĚŘENÍ\, MATKA PŘESNOSTI
URL:https://zazijvedu.cz/event/mereni-matka-presnosti/
LOCATION:MĚŘENÍ\, MATKA PŘESNOSTI
CATEGORIES:Pro veřejnost
END:VEVENT
BEGIN:VEVENT
DTSTART;TZID=Europe/Prague:20230426T150000
DTEND;TZID=Europe/Prague:20230426T154500
DTSTAMP:20260423T001701
CREATED:20230328T121624Z
LAST-MODIFIED:20230328T121624Z
UID:12194-1682521200-1682523900@zazijvedu.cz
SUMMARY:ČISTÁ CNC PRÁCE
DESCRIPTION:ČISTÁ CNC PRÁCE
URL:https://zazijvedu.cz/event/cista-cnc-prace-7/
LOCATION:Čistá CNC práce
CATEGORIES:Pro veřejnost
END:VEVENT
BEGIN:VEVENT
DTSTART;TZID=Europe/Prague:20230426T150000
DTEND;TZID=Europe/Prague:20230426T154500
DTSTAMP:20260423T001701
CREATED:20230328T111815Z
LAST-MODIFIED:20230328T111815Z
UID:12188-1682521200-1682523900@zazijvedu.cz
SUMMARY:3D LABORATOŘ
DESCRIPTION:3D LABORATOŘ
URL:https://zazijvedu.cz/event/3d-laborator-7/
LOCATION:3D laboratoř
CATEGORIES:Pro veřejnost
END:VEVENT
BEGIN:VEVENT
DTSTART;TZID=Europe/Prague:20230426T150000
DTEND;TZID=Europe/Prague:20230426T154500
DTSTAMP:20260423T001701
CREATED:20230328T094904Z
LAST-MODIFIED:20230328T095023Z
UID:12185-1682521200-1682523900@zazijvedu.cz
SUMMARY:LASERY – KROTITELÉ FOTONŮ
DESCRIPTION:LASERY – KROTITELÉ FOTONŮ
URL:https://zazijvedu.cz/event/lasery-krotitele-fotonu-10/
LOCATION:Lasery – Krotitelé fotonů
CATEGORIES:Pro veřejnost
END:VEVENT
BEGIN:VEVENT
DTSTART;TZID=Europe/Prague:20230426T100000
DTEND;TZID=Europe/Prague:20230426T104500
DTSTAMP:20260423T001701
CREATED:20230328T210622Z
LAST-MODIFIED:20230328T210622Z
UID:12273-1682503200-1682505900@zazijvedu.cz
SUMMARY:ČISTÁ CNC PRÁCE
DESCRIPTION:ČISTÁ CNC PRÁCE
URL:https://zazijvedu.cz/event/cista-cnc-prace-10/
LOCATION:Čistá CNC práce
CATEGORIES:Pro střední školy
END:VEVENT
BEGIN:VEVENT
DTSTART;TZID=Europe/Prague:20230426T100000
DTEND;TZID=Europe/Prague:20230426T104500
DTSTAMP:20260423T001701
CREATED:20230328T132537Z
LAST-MODIFIED:20230328T132537Z
UID:12237-1682503200-1682505900@zazijvedu.cz
SUMMARY:MĚŘENÍ\, MATKA PŘESNOSTI
DESCRIPTION:MĚŘENÍ\, MATKA PŘESNOSTI
URL:https://zazijvedu.cz/event/mereni-matka-presnosti-4/
LOCATION:MĚŘENÍ\, MATKA PŘESNOSTI
CATEGORIES:Pro střední školy
END:VEVENT
BEGIN:VEVENT
DTSTART;TZID=Europe/Prague:20230426T100000
DTEND;TZID=Europe/Prague:20230426T104500
DTSTAMP:20260423T001701
CREATED:20230328T132139Z
LAST-MODIFIED:20230328T132139Z
UID:12229-1682503200-1682505900@zazijvedu.cz
SUMMARY:3D LABORATOŘ
DESCRIPTION:3D LABORATOŘ
URL:https://zazijvedu.cz/event/3d-laborator-10/
LOCATION:3D laboratoř
CATEGORIES:Pro střední školy
END:VEVENT
BEGIN:VEVENT
DTSTART;TZID=Europe/Prague:20230426T100000
DTEND;TZID=Europe/Prague:20230426T104500
DTSTAMP:20260423T001701
CREATED:20230328T074658Z
LAST-MODIFIED:20230328T074658Z
UID:12135-1682503200-1682505900@zazijvedu.cz
SUMMARY:LASERY – KROTITELÉ FOTONŮ
DESCRIPTION:LASERY – KROTITELÉ FOTONŮ
URL:https://zazijvedu.cz/event/lasery-krotitele-fotonu-8/
LOCATION:Lasery – Krotitelé fotonů
CATEGORIES:Pro střední školy
END:VEVENT
BEGIN:VEVENT
DTSTART;TZID=Europe/Prague:20230426T090000
DTEND;TZID=Europe/Prague:20230426T094500
DTSTAMP:20260423T001701
CREATED:20230328T210508Z
LAST-MODIFIED:20230328T210508Z
UID:12271-1682499600-1682502300@zazijvedu.cz
SUMMARY:ČISTÁ CNC PRÁCE
DESCRIPTION:ČISTÁ CNC PRÁCE
URL:https://zazijvedu.cz/event/cista-cnc-prace-9/
LOCATION:Čistá CNC práce
CATEGORIES:Pro střední školy
END:VEVENT
BEGIN:VEVENT
DTSTART;TZID=Europe/Prague:20230426T090000
DTEND;TZID=Europe/Prague:20230426T094500
DTSTAMP:20260423T001701
CREATED:20230328T132459Z
LAST-MODIFIED:20230328T132459Z
UID:12235-1682499600-1682502300@zazijvedu.cz
SUMMARY:MĚŘENÍ\, MATKA PŘESNOSTI
DESCRIPTION:MĚŘENÍ\, MATKA PŘESNOSTI
URL:https://zazijvedu.cz/event/mereni-matka-presnosti-3/
LOCATION:MĚŘENÍ\, MATKA PŘESNOSTI
CATEGORIES:Pro střední školy
END:VEVENT
BEGIN:VEVENT
DTSTART;TZID=Europe/Prague:20230426T090000
DTEND;TZID=Europe/Prague:20230426T094500
DTSTAMP:20260423T001701
CREATED:20230328T132104Z
LAST-MODIFIED:20230328T132104Z
UID:12227-1682499600-1682502300@zazijvedu.cz
SUMMARY:3D LABORATOŘ
DESCRIPTION:3D LABORATOŘ
URL:https://zazijvedu.cz/event/3d-laborator-9/
LOCATION:3D laboratoř
CATEGORIES:Pro střední školy
END:VEVENT
BEGIN:VEVENT
DTSTART;TZID=Europe/Prague:20230426T090000
DTEND;TZID=Europe/Prague:20230426T094500
DTSTAMP:20260423T001701
CREATED:20230328T074607Z
LAST-MODIFIED:20230328T074607Z
UID:12133-1682499600-1682502300@zazijvedu.cz
SUMMARY:LASERY – KROTITELÉ FOTONŮ
DESCRIPTION:LASERY – KROTITELÉ FOTONŮ
URL:https://zazijvedu.cz/event/lasery-krotitele-fotonu-7/
LOCATION:Lasery – Krotitelé fotonů
CATEGORIES:Pro střední školy
END:VEVENT
BEGIN:VEVENT
DTSTART;TZID=Europe/Prague:20220427T150000
DTEND;TZID=Europe/Prague:20220427T154500
DTSTAMP:20260423T001701
CREATED:20220321T081746Z
LAST-MODIFIED:20220324T072556Z
UID:10911-1651071600-1651074300@zazijvedu.cz
SUMMARY:3D laboratoř
DESCRIPTION:3D LABORATOŘ
URL:https://zazijvedu.cz/event/3d-laborator-6/
LOCATION:3D laboratoř
CATEGORIES:Pro veřejnost
END:VEVENT
BEGIN:VEVENT
DTSTART;TZID=Europe/Prague:20220427T150000
DTEND;TZID=Europe/Prague:20220427T154500
DTSTAMP:20260423T001701
CREATED:20220321T081026Z
LAST-MODIFIED:20220324T072358Z
UID:10896-1651071600-1651074300@zazijvedu.cz
SUMMARY:Lasery - Krotitelé fotonů
DESCRIPTION:LASERY – KROTITELÉ FOTONŮ
URL:https://zazijvedu.cz/event/lasery-krotitele-fotonu-6/
LOCATION:Lasery – Krotitelé fotonů
CATEGORIES:Pro veřejnost
END:VEVENT
BEGIN:VEVENT
DTSTART;TZID=Europe/Prague:20220427T140000
DTEND;TZID=Europe/Prague:20220427T144500
DTSTAMP:20260423T001701
CREATED:20220321T081703Z
LAST-MODIFIED:20220324T072552Z
UID:10908-1651068000-1651070700@zazijvedu.cz
SUMMARY:3D laboratoř
DESCRIPTION:3D LABORATOŘ
URL:https://zazijvedu.cz/event/3d-laborator-5/
LOCATION:3D laboratoř
CATEGORIES:Pro veřejnost
END:VEVENT
BEGIN:VEVENT
DTSTART;TZID=Europe/Prague:20220427T140000
DTEND;TZID=Europe/Prague:20220427T144500
DTSTAMP:20260423T001701
CREATED:20220321T080945Z
LAST-MODIFIED:20220324T072352Z
UID:10893-1651068000-1651070700@zazijvedu.cz
SUMMARY:Lasery - Krotitelé fotonů
DESCRIPTION:LASERY – KROTITELÉ FOTONŮ
URL:https://zazijvedu.cz/event/lasery-krotitele-fotonu-4/
LOCATION:Lasery – Krotitelé fotonů
CATEGORIES:Pro veřejnost
END:VEVENT
BEGIN:VEVENT
DTSTART;TZID=Europe/Prague:20220427T120000
DTEND;TZID=Europe/Prague:20220427T124500
DTSTAMP:20260423T001701
CREATED:20220321T081544Z
LAST-MODIFIED:20220323T083157Z
UID:10905-1651060800-1651063500@zazijvedu.cz
SUMMARY:3D laboratoř
DESCRIPTION:3D LABORATOŘ\n– tento workshop má kapacitu omezenou na 15 míst
URL:https://zazijvedu.cz/event/3d-laborator-4/
LOCATION:3D laboratoř
CATEGORIES:Pro střední školy
END:VEVENT
BEGIN:VEVENT
DTSTART;TZID=Europe/Prague:20220427T120000
DTEND;TZID=Europe/Prague:20220427T124500
DTSTAMP:20260423T001701
CREATED:20220321T080806Z
LAST-MODIFIED:20220323T083124Z
UID:10891-1651060800-1651063500@zazijvedu.cz
SUMMARY:Lasery - Krotitelé fotonů
DESCRIPTION:LASERY – KROTITELÉ FOTONŮ\n– tento workshop má kapacitu omezenou na 15 míst
URL:https://zazijvedu.cz/event/lasery-krotitele-fotonu-5/
LOCATION:Lasery – Krotitelé fotonů
CATEGORIES:Pro střední školy
END:VEVENT
BEGIN:VEVENT
DTSTART;TZID=Europe/Prague:20220427T110000
DTEND;TZID=Europe/Prague:20220427T114500
DTSTAMP:20260423T001701
CREATED:20220321T081520Z
LAST-MODIFIED:20220323T085423Z
UID:10903-1651057200-1651059900@zazijvedu.cz
SUMMARY:3D laboratoř
DESCRIPTION:3D LABORATOŘ\n– tento workshop má kapacitu omezenou na 15 míst
URL:https://zazijvedu.cz/event/3d-laborator-3/
LOCATION:3D laboratoř
CATEGORIES:Pro střední školy
END:VEVENT
END:VCALENDAR