BEGIN:VCALENDAR
VERSION:2.0
PRODID:-//Zažij vědu - ECPv6.15.20//NONSGML v1.0//EN
CALSCALE:GREGORIAN
METHOD:PUBLISH
X-ORIGINAL-URL:https://zazijvedu.cz
X-WR-CALDESC:Akce na Zažij vědu
REFRESH-INTERVAL;VALUE=DURATION:PT1H
X-Robots-Tag:noindex
X-PUBLISHED-TTL:PT1H
BEGIN:VTIMEZONE
TZID:Europe/Prague
BEGIN:DAYLIGHT
TZOFFSETFROM:+0100
TZOFFSETTO:+0200
TZNAME:CEST
DTSTART:20250330T010000
END:DAYLIGHT
BEGIN:STANDARD
TZOFFSETFROM:+0200
TZOFFSETTO:+0100
TZNAME:CET
DTSTART:20251026T010000
END:STANDARD
BEGIN:DAYLIGHT
TZOFFSETFROM:+0100
TZOFFSETTO:+0200
TZNAME:CEST
DTSTART:20260329T010000
END:DAYLIGHT
BEGIN:STANDARD
TZOFFSETFROM:+0200
TZOFFSETTO:+0100
TZNAME:CET
DTSTART:20261025T010000
END:STANDARD
BEGIN:DAYLIGHT
TZOFFSETFROM:+0100
TZOFFSETTO:+0200
TZNAME:CEST
DTSTART:20270328T010000
END:DAYLIGHT
BEGIN:STANDARD
TZOFFSETFROM:+0200
TZOFFSETTO:+0100
TZNAME:CET
DTSTART:20271031T010000
END:STANDARD
END:VTIMEZONE
BEGIN:VEVENT
DTSTART;TZID=Europe/Prague:20260422T090000
DTEND;TZID=Europe/Prague:20260422T090000
DTSTAMP:20260421T174404
CREATED:20260328T135042Z
LAST-MODIFIED:20260330T091723Z
UID:16572-1776848400-1776848400@zazijvedu.cz
SUMMARY:Baťův mrakodrap: skupina 2
DESCRIPTION:Baťův mrakodrap: skupina 2
URL:https://zazijvedu.cz/event/batuv-mrakodrap-skupina-2-5/
LOCATION:Baťův mrakodrap: skupina 2
CATEGORIES:Pro střední školy
END:VEVENT
BEGIN:VEVENT
DTSTART;TZID=Europe/Prague:20260422T090000
DTEND;TZID=Europe/Prague:20260422T094500
DTSTAMP:20260421T174404
CREATED:20260328T134931Z
LAST-MODIFIED:20260328T134931Z
UID:16560-1776848400-1776851100@zazijvedu.cz
SUMMARY:Baťův mrakodrap: minulost a budoucnost pod jednou střechou
DESCRIPTION:Baťův mrakodrap: minulost a budoucnost pod jednou střechou
URL:https://zazijvedu.cz/event/batuv-mrakodrap-minulost-a-budoucnost-pod-jednou-strechou/
LOCATION:Baťův mrakodrap: skupina 1
CATEGORIES:Pro střední školy
END:VEVENT
BEGIN:VEVENT
DTSTART;TZID=Europe/Prague:20260422T100000
DTEND;TZID=Europe/Prague:20260422T100000
DTSTAMP:20260421T174404
CREATED:20260328T135043Z
LAST-MODIFIED:20260330T091728Z
UID:16573-1776852000-1776852000@zazijvedu.cz
SUMMARY:Baťův mrakodrap: skupina 2
DESCRIPTION:Baťův mrakodrap: skupina 2
URL:https://zazijvedu.cz/event/batuv-mrakodrap-skupina-2-6/
LOCATION:Baťův mrakodrap: skupina 2
CATEGORIES:Pro střední školy
END:VEVENT
BEGIN:VEVENT
DTSTART;TZID=Europe/Prague:20260422T100000
DTEND;TZID=Europe/Prague:20260422T104500
DTSTAMP:20260421T174404
CREATED:20260328T134933Z
LAST-MODIFIED:20260328T134933Z
UID:16561-1776852000-1776854700@zazijvedu.cz
SUMMARY:Baťův mrakodrap: minulost a budoucnost pod jednou střechou
DESCRIPTION:Baťův mrakodrap: minulost a budoucnost pod jednou střechou
URL:https://zazijvedu.cz/event/batuv-mrakodrap-minulost-a-budoucnost-pod-jednou-strechou-2/
LOCATION:Baťův mrakodrap: skupina 1
CATEGORIES:Pro střední školy
END:VEVENT
BEGIN:VEVENT
DTSTART;TZID=Europe/Prague:20260422T110000
DTEND;TZID=Europe/Prague:20260422T110000
DTSTAMP:20260421T174404
CREATED:20260328T135045Z
LAST-MODIFIED:20260330T091732Z
UID:16574-1776855600-1776855600@zazijvedu.cz
SUMMARY:Baťův mrakodrap: skupina 2
DESCRIPTION:Baťův mrakodrap: skupina 2
URL:https://zazijvedu.cz/event/batuv-mrakodrap-skupina-2-7/
LOCATION:Baťův mrakodrap: skupina 2
CATEGORIES:Pro střední školy
END:VEVENT
BEGIN:VEVENT
DTSTART;TZID=Europe/Prague:20260422T110000
DTEND;TZID=Europe/Prague:20260422T114500
DTSTAMP:20260421T174404
CREATED:20260328T134934Z
LAST-MODIFIED:20260328T134934Z
UID:16562-1776855600-1776858300@zazijvedu.cz
SUMMARY:Baťův mrakodrap: minulost a budoucnost pod jednou střechou
DESCRIPTION:Baťův mrakodrap: minulost a budoucnost pod jednou střechou
URL:https://zazijvedu.cz/event/batuv-mrakodrap-minulost-a-budoucnost-pod-jednou-strechou-3/
LOCATION:Baťův mrakodrap: skupina 1
CATEGORIES:Pro střední školy
END:VEVENT
BEGIN:VEVENT
DTSTART;TZID=Europe/Prague:20260422T120000
DTEND;TZID=Europe/Prague:20260422T120000
DTSTAMP:20260421T174404
CREATED:20260328T135046Z
LAST-MODIFIED:20260330T091737Z
UID:16575-1776859200-1776859200@zazijvedu.cz
SUMMARY:Baťův mrakodrap: skupina 2
DESCRIPTION:Baťův mrakodrap: skupina 2
URL:https://zazijvedu.cz/event/batuv-mrakodrap-skupina-2-8/
LOCATION:Baťův mrakodrap: skupina 2
CATEGORIES:Pro střední školy
END:VEVENT
BEGIN:VEVENT
DTSTART;TZID=Europe/Prague:20260422T120000
DTEND;TZID=Europe/Prague:20260422T124500
DTSTAMP:20260421T174404
CREATED:20260328T134935Z
LAST-MODIFIED:20260328T134935Z
UID:16563-1776859200-1776861900@zazijvedu.cz
SUMMARY:Baťův mrakodrap: minulost a budoucnost pod jednou střechou
DESCRIPTION:Baťův mrakodrap: minulost a budoucnost pod jednou střechou
URL:https://zazijvedu.cz/event/batuv-mrakodrap-minulost-a-budoucnost-pod-jednou-strechou-4/
LOCATION:Baťův mrakodrap: skupina 1
CATEGORIES:Pro střední školy
END:VEVENT
BEGIN:VEVENT
DTSTART;TZID=Europe/Prague:20260423T090000
DTEND;TZID=Europe/Prague:20260423T090000
DTSTAMP:20260421T174404
CREATED:20260328T135026Z
LAST-MODIFIED:20260330T091703Z
UID:16568-1776934800-1776934800@zazijvedu.cz
SUMMARY:Baťův mrakodrap: skupina 2
DESCRIPTION:Baťův mrakodrap: skupina 2
URL:https://zazijvedu.cz/event/batuv-mrakodrap-skupina-2/
LOCATION:Baťův mrakodrap: skupina 2
CATEGORIES:Pro střední školy
END:VEVENT
BEGIN:VEVENT
DTSTART;TZID=Europe/Prague:20260423T090000
DTEND;TZID=Europe/Prague:20260423T094500
DTSTAMP:20260421T174404
CREATED:20260328T134955Z
LAST-MODIFIED:20260328T134955Z
UID:16564-1776934800-1776937500@zazijvedu.cz
SUMMARY:Baťův mrakodrap: minulost a budoucnost pod jednou střechou
DESCRIPTION:Baťův mrakodrap: minulost a budoucnost pod jednou střechou
URL:https://zazijvedu.cz/event/batuv-mrakodrap-minulost-a-budoucnost-pod-jednou-strechou-5/
LOCATION:Baťův mrakodrap: skupina 1
CATEGORIES:Pro střední školy
END:VEVENT
BEGIN:VEVENT
DTSTART;TZID=Europe/Prague:20260423T100000
DTEND;TZID=Europe/Prague:20260423T100000
DTSTAMP:20260421T174404
CREATED:20260328T135028Z
LAST-MODIFIED:20260330T091708Z
UID:16569-1776938400-1776938400@zazijvedu.cz
SUMMARY:Baťův mrakodrap: skupina 2
DESCRIPTION:Baťův mrakodrap: skupina 2
URL:https://zazijvedu.cz/event/batuv-mrakodrap-skupina-2-2/
LOCATION:Baťův mrakodrap: skupina 2
CATEGORIES:Pro střední školy
END:VEVENT
BEGIN:VEVENT
DTSTART;TZID=Europe/Prague:20260423T100000
DTEND;TZID=Europe/Prague:20260423T104500
DTSTAMP:20260421T174404
CREATED:20260328T134956Z
LAST-MODIFIED:20260328T134956Z
UID:16565-1776938400-1776941100@zazijvedu.cz
SUMMARY:Baťův mrakodrap: minulost a budoucnost pod jednou střechou
DESCRIPTION:Baťův mrakodrap: minulost a budoucnost pod jednou střechou
URL:https://zazijvedu.cz/event/batuv-mrakodrap-minulost-a-budoucnost-pod-jednou-strechou-6/
LOCATION:Baťův mrakodrap: skupina 1
CATEGORIES:Pro střední školy
END:VEVENT
BEGIN:VEVENT
DTSTART;TZID=Europe/Prague:20260423T110000
DTEND;TZID=Europe/Prague:20260423T110000
DTSTAMP:20260421T174404
CREATED:20260328T135029Z
LAST-MODIFIED:20260330T091713Z
UID:16570-1776942000-1776942000@zazijvedu.cz
SUMMARY:Baťův mrakodrap: skupina 2
DESCRIPTION:Baťův mrakodrap: skupina 2
URL:https://zazijvedu.cz/event/batuv-mrakodrap-skupina-2-3/
LOCATION:Baťův mrakodrap: skupina 2
CATEGORIES:Pro střední školy
END:VEVENT
BEGIN:VEVENT
DTSTART;TZID=Europe/Prague:20260423T110000
DTEND;TZID=Europe/Prague:20260423T114500
DTSTAMP:20260421T174404
CREATED:20260328T134957Z
LAST-MODIFIED:20260328T134957Z
UID:16566-1776942000-1776944700@zazijvedu.cz
SUMMARY:Baťův mrakodrap: minulost a budoucnost pod jednou střechou
DESCRIPTION:Baťův mrakodrap: minulost a budoucnost pod jednou střechou
URL:https://zazijvedu.cz/event/batuv-mrakodrap-minulost-a-budoucnost-pod-jednou-strechou-7/
LOCATION:Baťův mrakodrap: skupina 1
CATEGORIES:Pro střední školy
END:VEVENT
BEGIN:VEVENT
DTSTART;TZID=Europe/Prague:20260423T120000
DTEND;TZID=Europe/Prague:20260423T120000
DTSTAMP:20260421T174404
CREATED:20260328T135031Z
LAST-MODIFIED:20260330T091718Z
UID:16571-1776945600-1776945600@zazijvedu.cz
SUMMARY:Baťův mrakodrap: skupina 2
DESCRIPTION:Baťův mrakodrap: skupina 2
URL:https://zazijvedu.cz/event/batuv-mrakodrap-skupina-2-4/
LOCATION:Baťův mrakodrap: skupina 2
CATEGORIES:Pro střední školy
END:VEVENT
BEGIN:VEVENT
DTSTART;TZID=Europe/Prague:20260423T120000
DTEND;TZID=Europe/Prague:20260423T124500
DTSTAMP:20260421T174404
CREATED:20260328T134959Z
LAST-MODIFIED:20260328T134959Z
UID:16567-1776945600-1776948300@zazijvedu.cz
SUMMARY:Baťův mrakodrap: minulost a budoucnost pod jednou střechou
DESCRIPTION:Baťův mrakodrap: minulost a budoucnost pod jednou střechou
URL:https://zazijvedu.cz/event/batuv-mrakodrap-minulost-a-budoucnost-pod-jednou-strechou-8/
LOCATION:Baťův mrakodrap: skupina 1
CATEGORIES:Pro střední školy
END:VEVENT
END:VCALENDAR