BEGIN:VCALENDAR
VERSION:2.0
PRODID:-//Zažij vědu - ECPv6.15.20//NONSGML v1.0//EN
CALSCALE:GREGORIAN
METHOD:PUBLISH
X-ORIGINAL-URL:https://zazijvedu.cz
X-WR-CALDESC:Akce na Zažij vědu
REFRESH-INTERVAL;VALUE=DURATION:PT1H
X-Robots-Tag:noindex
X-PUBLISHED-TTL:PT1H
BEGIN:VTIMEZONE
TZID:Europe/Prague
BEGIN:DAYLIGHT
TZOFFSETFROM:+0100
TZOFFSETTO:+0200
TZNAME:CEST
DTSTART:20250330T010000
END:DAYLIGHT
BEGIN:STANDARD
TZOFFSETFROM:+0200
TZOFFSETTO:+0100
TZNAME:CET
DTSTART:20251026T010000
END:STANDARD
BEGIN:DAYLIGHT
TZOFFSETFROM:+0100
TZOFFSETTO:+0200
TZNAME:CEST
DTSTART:20260329T010000
END:DAYLIGHT
BEGIN:STANDARD
TZOFFSETFROM:+0200
TZOFFSETTO:+0100
TZNAME:CET
DTSTART:20261025T010000
END:STANDARD
BEGIN:DAYLIGHT
TZOFFSETFROM:+0100
TZOFFSETTO:+0200
TZNAME:CEST
DTSTART:20270328T010000
END:DAYLIGHT
BEGIN:STANDARD
TZOFFSETFROM:+0200
TZOFFSETTO:+0100
TZNAME:CET
DTSTART:20271031T010000
END:STANDARD
END:VTIMEZONE
BEGIN:VEVENT
DTSTART;TZID=Europe/Prague:20260423T100000
DTEND;TZID=Europe/Prague:20260423T100000
DTSTAMP:20260421T174403
CREATED:20260328T135028Z
LAST-MODIFIED:20260330T091708Z
UID:16569-1776938400-1776938400@zazijvedu.cz
SUMMARY:Baťův mrakodrap: skupina 2
DESCRIPTION:Baťův mrakodrap: skupina 2
URL:https://zazijvedu.cz/event/batuv-mrakodrap-skupina-2-2/
LOCATION:Baťův mrakodrap: skupina 2
CATEGORIES:Pro střední školy
END:VEVENT
BEGIN:VEVENT
DTSTART;TZID=Europe/Prague:20260423T100000
DTEND;TZID=Europe/Prague:20260423T104500
DTSTAMP:20260421T174403
CREATED:20260328T134956Z
LAST-MODIFIED:20260328T134956Z
UID:16565-1776938400-1776941100@zazijvedu.cz
SUMMARY:Baťův mrakodrap: minulost a budoucnost pod jednou střechou
DESCRIPTION:Baťův mrakodrap: minulost a budoucnost pod jednou střechou
URL:https://zazijvedu.cz/event/batuv-mrakodrap-minulost-a-budoucnost-pod-jednou-strechou-6/
LOCATION:Baťův mrakodrap: skupina 1
CATEGORIES:Pro střední školy
END:VEVENT
BEGIN:VEVENT
DTSTART;TZID=Europe/Prague:20260423T110000
DTEND;TZID=Europe/Prague:20260423T110000
DTSTAMP:20260421T174403
CREATED:20260328T135029Z
LAST-MODIFIED:20260330T091713Z
UID:16570-1776942000-1776942000@zazijvedu.cz
SUMMARY:Baťův mrakodrap: skupina 2
DESCRIPTION:Baťův mrakodrap: skupina 2
URL:https://zazijvedu.cz/event/batuv-mrakodrap-skupina-2-3/
LOCATION:Baťův mrakodrap: skupina 2
CATEGORIES:Pro střední školy
END:VEVENT
BEGIN:VEVENT
DTSTART;TZID=Europe/Prague:20260423T110000
DTEND;TZID=Europe/Prague:20260423T114500
DTSTAMP:20260421T174403
CREATED:20260328T134957Z
LAST-MODIFIED:20260328T134957Z
UID:16566-1776942000-1776944700@zazijvedu.cz
SUMMARY:Baťův mrakodrap: minulost a budoucnost pod jednou střechou
DESCRIPTION:Baťův mrakodrap: minulost a budoucnost pod jednou střechou
URL:https://zazijvedu.cz/event/batuv-mrakodrap-minulost-a-budoucnost-pod-jednou-strechou-7/
LOCATION:Baťův mrakodrap: skupina 1
CATEGORIES:Pro střední školy
END:VEVENT
BEGIN:VEVENT
DTSTART;TZID=Europe/Prague:20260423T120000
DTEND;TZID=Europe/Prague:20260423T120000
DTSTAMP:20260421T174403
CREATED:20260328T135031Z
LAST-MODIFIED:20260330T091718Z
UID:16571-1776945600-1776945600@zazijvedu.cz
SUMMARY:Baťův mrakodrap: skupina 2
DESCRIPTION:Baťův mrakodrap: skupina 2
URL:https://zazijvedu.cz/event/batuv-mrakodrap-skupina-2-4/
LOCATION:Baťův mrakodrap: skupina 2
CATEGORIES:Pro střední školy
END:VEVENT
BEGIN:VEVENT
DTSTART;TZID=Europe/Prague:20260423T120000
DTEND;TZID=Europe/Prague:20260423T124500
DTSTAMP:20260421T174403
CREATED:20260328T134959Z
LAST-MODIFIED:20260328T134959Z
UID:16567-1776945600-1776948300@zazijvedu.cz
SUMMARY:Baťův mrakodrap: minulost a budoucnost pod jednou střechou
DESCRIPTION:Baťův mrakodrap: minulost a budoucnost pod jednou střechou
URL:https://zazijvedu.cz/event/batuv-mrakodrap-minulost-a-budoucnost-pod-jednou-strechou-8/
LOCATION:Baťův mrakodrap: skupina 1
CATEGORIES:Pro střední školy
END:VEVENT
END:VCALENDAR